BEGIN:VCALENDAR
VERSION:2.0
PRODID:-//The Brass Rail - ECPv6.15.20//NONSGML v1.0//EN
CALSCALE:GREGORIAN
METHOD:PUBLISH
X-WR-CALNAME:The Brass Rail
X-ORIGINAL-URL:https://www.brassrailfw.com
X-WR-CALDESC:Events for The Brass Rail
REFRESH-INTERVAL;VALUE=DURATION:PT1H
X-Robots-Tag:noindex
X-PUBLISHED-TTL:PT1H
BEGIN:VTIMEZONE
TZID:UTC
BEGIN:STANDARD
TZOFFSETFROM:+0000
TZOFFSETTO:+0000
TZNAME:UTC
DTSTART:20230101T000000
END:STANDARD
END:VTIMEZONE
BEGIN:VEVENT
DTSTART;TZID=UTC:20241130T210000
DTEND;TZID=UTC:20241130T210000
DTSTAMP:20260425T164527
CREATED:20241020T155213Z
LAST-MODIFIED:20241129T211108Z
UID:10001969-1733000400-1733000400@www.brassrailfw.com
SUMMARY:J. Tubbs\, Nyzzy Nyce\, TRICITO\, and Swope.
DESCRIPTION:YM3 Music Group Presents\nPLAYERS AND KINGS\nWith TRICITO & J. Tubbs\nGuest performances by JAY VAL LEO\, Zion Omari\, Zig Zag\, and PRSSR.\nTRICITO and J. Tubbs bringing the Playaa and King vibes to the Rail\, for a dope night of Hip Hop! Lyricism\, crazy production\, and flavor. You ready? Going to be a great time\, ending the holiday weekend with something real polite!\nHosted by OG.\nNOVEMBER 30\, 2024Doors at 9PM | Show at 10PM21+ | $8\nThe Brass Rail1121 BroadwayFort Wayne\, IN 46802
URL:https://www.brassrailfw.com/show/j-tubbs-nyzzy-nyce-tricito-and-swope/
LOCATION:The Brass Rail\, 1121 Broadway\, Fort Wayne\, IN\, 46802\, United States
ATTACH;FMTTYPE=image/jpeg:https://www.brassrailfw.com/wp-content/uploads/2024/10/2024_11_30-vert-Tricity-J-Tubbs.jpg
GEO:41.0740622;-85.1478209
X-APPLE-STRUCTURED-LOCATION;VALUE=URI;X-ADDRESS=The Brass Rail 1121 Broadway Fort Wayne IN 46802 United States;X-APPLE-RADIUS=500;X-TITLE=1121 Broadway:geo:-85.1478209,41.0740622
END:VEVENT
BEGIN:VEVENT
DTSTART;TZID=UTC:20241129T210000
DTEND;TZID=UTC:20241129T210000
DTSTAMP:20260425T164527
CREATED:20241023T222414Z
LAST-MODIFIED:20241123T183328Z
UID:10001971-1732914000-1732914000@www.brassrailfw.com
SUMMARY:Swell Time\, The Blue Boys\, Quiet/Creator
DESCRIPTION:
URL:https://www.brassrailfw.com/show/h-jess-12/
LOCATION:The Brass Rail\, 1121 Broadway\, Fort Wayne\, IN\, 46802\, United States
ATTACH;FMTTYPE=image/jpeg:https://www.brassrailfw.com/wp-content/uploads/2024/10/2024_10_29-vert-swell.jpg
GEO:41.0740622;-85.1478209
X-APPLE-STRUCTURED-LOCATION;VALUE=URI;X-ADDRESS=The Brass Rail 1121 Broadway Fort Wayne IN 46802 United States;X-APPLE-RADIUS=500;X-TITLE=1121 Broadway:geo:-85.1478209,41.0740622
END:VEVENT
BEGIN:VEVENT
DTSTART;TZID=UTC:20241127T213000
DTEND;TZID=UTC:20241127T213000
DTSTAMP:20260425T164527
CREATED:20241020T155125Z
LAST-MODIFIED:20241020T155135Z
UID:10001968-1732743000-1732743000@www.brassrailfw.com
SUMMARY:Davey Heritier Band\, dWith DJ J. Tubbs
DESCRIPTION:
URL:https://www.brassrailfw.com/show/davey-heritier-band-dwith-dj-j-tubbs/
LOCATION:The Brass Rail\, 1121 Broadway\, Fort Wayne\, IN\, 46802\, United States
GEO:41.0740622;-85.1478209
X-APPLE-STRUCTURED-LOCATION;VALUE=URI;X-ADDRESS=The Brass Rail 1121 Broadway Fort Wayne IN 46802 United States;X-APPLE-RADIUS=500;X-TITLE=1121 Broadway:geo:-85.1478209,41.0740622
END:VEVENT
BEGIN:VEVENT
DTSTART;TZID=UTC:20241123T214500
DTEND;TZID=UTC:20241123T214500
DTSTAMP:20260425T164527
CREATED:20241114T215704Z
LAST-MODIFIED:20241118T173713Z
UID:10001977-1732398300-1732398300@www.brassrailfw.com
SUMMARY:Western Night withThumbrider and Jonah Leatherman
DESCRIPTION:Get ready to kick up your boots and two-step the night away at The Brass Rail! Thumbrider and Jonah Leatherman\, will be bringing the honky-tonk vibes you love. The music starts at 9 PM\, so grab your friends and get ready to dance! But that’s not all—dust off your best cowboy boots\, hats\, and fringe jackets because we’re hosting a Best Dressed Cowpoke Contest! Show off your country flair for a chance to ride off with a special prize. This event is 21+\, and entry is just $7 at the door. Don’t miss your chance to enjoy a night of great music\, good drinks\, and honky tonkin  fun. See y’all there! \n  \n 
URL:https://www.brassrailfw.com/show/thumbrider-jonah-leatherman/
LOCATION:The Brass Rail\, 1121 Broadway\, Fort Wayne\, IN\, 46802\, United States
ATTACH;FMTTYPE=image/jpeg:https://www.brassrailfw.com/wp-content/uploads/2024/11/2024_11_23-vert-western.jpg
GEO:41.0740622;-85.1478209
X-APPLE-STRUCTURED-LOCATION;VALUE=URI;X-ADDRESS=The Brass Rail 1121 Broadway Fort Wayne IN 46802 United States;X-APPLE-RADIUS=500;X-TITLE=1121 Broadway:geo:-85.1478209,41.0740622
END:VEVENT
BEGIN:VEVENT
DTSTART;TZID=UTC:20241122T213000
DTEND;TZID=UTC:20241122T213000
DTSTAMP:20260425T164527
CREATED:20240828T130851Z
LAST-MODIFIED:20240828T130851Z
UID:10001956-1732311000-1732311000@www.brassrailfw.com
SUMMARY:Flamingo Nosebleed\, Filthy & Majesty
DESCRIPTION:
URL:https://www.brassrailfw.com/show/flamingo-nosebleed-filthy-majesty/
LOCATION:The Brass Rail\, 1121 Broadway\, Fort Wayne\, IN\, 46802\, United States
GEO:41.0740622;-85.1478209
X-APPLE-STRUCTURED-LOCATION;VALUE=URI;X-ADDRESS=The Brass Rail 1121 Broadway Fort Wayne IN 46802 United States;X-APPLE-RADIUS=500;X-TITLE=1121 Broadway:geo:-85.1478209,41.0740622
END:VEVENT
BEGIN:VEVENT
DTSTART;TZID=UTC:20241116T214500
DTEND;TZID=UTC:20241116T214500
DTSTAMP:20260425T164527
CREATED:20240822T215442Z
LAST-MODIFIED:20241106T201816Z
UID:10001954-1731793500-1731793500@www.brassrailfw.com
SUMMARY:Little Good\, Maven\, Middle Names
DESCRIPTION:Little Good\nhttps://www.instagram.com/littlegood_music/ \nMaven\nhttps://www.instagram.com/maren.260/ \nMiddle Names\nhttps://www.instagram.com/middlenamesband/ \n$7 cover\, must be 21
URL:https://www.brassrailfw.com/show/middle-names-5/
LOCATION:The Brass Rail\, 1121 Broadway\, Fort Wayne\, IN\, 46802\, United States
ATTACH;FMTTYPE=image/jpeg:https://www.brassrailfw.com/wp-content/uploads/2024/08/2024_11_17-vert-little-good.jpg
GEO:41.0740622;-85.1478209
X-APPLE-STRUCTURED-LOCATION;VALUE=URI;X-ADDRESS=The Brass Rail 1121 Broadway Fort Wayne IN 46802 United States;X-APPLE-RADIUS=500;X-TITLE=1121 Broadway:geo:-85.1478209,41.0740622
END:VEVENT
BEGIN:VEVENT
DTSTART;TZID=UTC:20241115T213000
DTEND;TZID=UTC:20241115T213000
DTSTAMP:20260425T164527
CREATED:20241001T170508Z
LAST-MODIFIED:20241104T011617Z
UID:10001964-1731706200-1731706200@www.brassrailfw.com
SUMMARY:James & The Drifters
DESCRIPTION:James & The Drifters\nhttps://www.instagram.com/jamesandthedrifters/ \n  \n$10
URL:https://www.brassrailfw.com/show/james-the-drifters-3/
LOCATION:The Brass Rail\, 1121 Broadway\, Fort Wayne\, IN\, 46802\, United States
ATTACH;FMTTYPE=image/png:https://www.brassrailfw.com/wp-content/uploads/2024/10/2024_11_15-vert-james-and-the-drifters.png
GEO:41.0740622;-85.1478209
X-APPLE-STRUCTURED-LOCATION;VALUE=URI;X-ADDRESS=The Brass Rail 1121 Broadway Fort Wayne IN 46802 United States;X-APPLE-RADIUS=500;X-TITLE=1121 Broadway:geo:-85.1478209,41.0740622
END:VEVENT
BEGIN:VEVENT
DTSTART;TZID=UTC:20241114T210000
DTEND;TZID=UTC:20241114T220000
DTSTAMP:20260425T164527
CREATED:20240909T170831Z
LAST-MODIFIED:20241114T215551Z
UID:10001959-1731618000-1731621600@www.brassrailfw.com
SUMMARY:The Meat Flowers\, Squirrel Cage
DESCRIPTION:The Meat Flowers\nhttps://www.instagram.com/themeatflowers/ \nSquirrel Cage\nhttps://www.instagram.com/squirrelcageband/ \n$7 cover\, must be 21 \nposter by Jared Andrews
URL:https://www.brassrailfw.com/show/spastic-bombastic/
LOCATION:The Brass Rail\, 1121 Broadway\, Fort Wayne\, IN\, 46802\, United States
ATTACH;FMTTYPE=image/jpeg:https://www.brassrailfw.com/wp-content/uploads/2024/09/2024_11_14-The-Meat-Flowers.jpg
GEO:41.0740622;-85.1478209
X-APPLE-STRUCTURED-LOCATION;VALUE=URI;X-ADDRESS=The Brass Rail 1121 Broadway Fort Wayne IN 46802 United States;X-APPLE-RADIUS=500;X-TITLE=1121 Broadway:geo:-85.1478209,41.0740622
END:VEVENT
BEGIN:VEVENT
DTSTART;TZID=UTC:20241109T213000
DTEND;TZID=UTC:20241109T213000
DTSTAMP:20260425T164527
CREATED:20240808T144759Z
LAST-MODIFIED:20241104T005455Z
UID:10001944-1731187800-1731187800@www.brassrailfw.com
SUMMARY:March On Comrade\, Streetlamps for Spotlights\, Best Sleep
DESCRIPTION:March On\, Comrade\nhttps://www.instagram.com/marchoncomrade/ \nStreetlamps for Spotlights\nhttps://www.instagram.com/streetlampsforspotlights/ \nBest Sleep\nhttps://www.instagram.com/bestsleepband/ \n$7 cover\, must be 21
URL:https://www.brassrailfw.com/show/march-on-comrade-5/
LOCATION:The Brass Rail\, 1121 Broadway\, Fort Wayne\, IN\, 46802\, United States
ATTACH;FMTTYPE=image/png:https://www.brassrailfw.com/wp-content/uploads/2024/08/2024_11_09-march-on-comrade.png
GEO:41.0740622;-85.1478209
X-APPLE-STRUCTURED-LOCATION;VALUE=URI;X-ADDRESS=The Brass Rail 1121 Broadway Fort Wayne IN 46802 United States;X-APPLE-RADIUS=500;X-TITLE=1121 Broadway:geo:-85.1478209,41.0740622
END:VEVENT
BEGIN:VEVENT
DTSTART;TZID=UTC:20241108T210000
DTEND;TZID=UTC:20241108T210000
DTSTAMP:20260425T164527
CREATED:20240804T004420Z
LAST-MODIFIED:20241102T004646Z
UID:10001942-1731099600-1731099600@www.brassrailfw.com
SUMMARY:Sleepkeeper\, Necromoon\, Etymon
DESCRIPTION:Sleepkeeper\nhttps://sleepkeeper.bandcamp.com/merch \nNecromoon\nhttps://www.instagram.com/necromoonband/ \nEtymon\nhttps://www.instagram.com/etymonsg/ \n  \n$7 cover
URL:https://www.brassrailfw.com/show/sleepkeeper/
LOCATION:The Brass Rail\, 1121 Broadway\, Fort Wayne\, IN\, 46802\, United States
ATTACH;FMTTYPE=image/jpeg:https://www.brassrailfw.com/wp-content/uploads/2024/08/2024_11_08-NECROMOON-scaled.jpeg
GEO:41.0740622;-85.1478209
X-APPLE-STRUCTURED-LOCATION;VALUE=URI;X-ADDRESS=The Brass Rail 1121 Broadway Fort Wayne IN 46802 United States;X-APPLE-RADIUS=500;X-TITLE=1121 Broadway:geo:-85.1478209,41.0740622
END:VEVENT
BEGIN:VEVENT
DTSTART;TZID=UTC:20241107T210000
DTEND;TZID=UTC:20241107T210000
DTSTAMP:20260425T164527
CREATED:20240919T193702Z
LAST-MODIFIED:20241106T212622Z
UID:10001961-1731013200-1731013200@www.brassrailfw.com
SUMMARY:John & Ben Carraoke
DESCRIPTION:FREE night of songs and phone.
URL:https://www.brassrailfw.com/show/john-ben-carraoke-3/
LOCATION:The Brass Rail\, 1121 Broadway\, Fort Wayne\, IN\, 46802\, United States
ATTACH;FMTTYPE=image/jpeg:https://www.brassrailfw.com/wp-content/uploads/2024/09/image_123650291.jpg
GEO:41.0740622;-85.1478209
X-APPLE-STRUCTURED-LOCATION;VALUE=URI;X-ADDRESS=The Brass Rail 1121 Broadway Fort Wayne IN 46802 United States;X-APPLE-RADIUS=500;X-TITLE=1121 Broadway:geo:-85.1478209,41.0740622
END:VEVENT
BEGIN:VEVENT
DTSTART;TZID=UTC:20241102T214500
DTEND;TZID=UTC:20241102T214500
DTSTAMP:20260425T164527
CREATED:20240813T132308Z
LAST-MODIFIED:20241017T141624Z
UID:10001946-1730583900-1730583900@www.brassrailfw.com
SUMMARY:80's Night with Unlikely Alibi
DESCRIPTION:Annual 80’s Music Night with live covers of all  your 80’s Hits by Unlikely Alibi\, with Ross Kinsey.
URL:https://www.brassrailfw.com/show/80s-night-with-unlikely-alibi-5/
LOCATION:The Brass Rail\, 1121 Broadway\, Fort Wayne\, IN\, 46802\, United States
ATTACH;FMTTYPE=image/jpeg:https://www.brassrailfw.com/wp-content/uploads/2024/08/robert-palmer.jpg
GEO:41.0740622;-85.1478209
X-APPLE-STRUCTURED-LOCATION;VALUE=URI;X-ADDRESS=The Brass Rail 1121 Broadway Fort Wayne IN 46802 United States;X-APPLE-RADIUS=500;X-TITLE=1121 Broadway:geo:-85.1478209,41.0740622
END:VEVENT
BEGIN:VEVENT
DTSTART;TZID=UTC:20241101T220000
DTEND;TZID=UTC:20241101T220000
DTSTAMP:20260425T164527
CREATED:20240815T165027Z
LAST-MODIFIED:20241017T162326Z
UID:10001949-1730498400-1730498400@www.brassrailfw.com
SUMMARY:Faith In Nothing\, Mighty Vices\, Frog Tongue
DESCRIPTION:Faith In Nothing\nhttps://www.instagram.com/faithinnothingmusic/ \nMighty Vices\nhttps://www.instagram.com/mighty_vices/ \nFrog Tongue\nhttps://www.instagram.com/frogtonguefw/ \n$5 cover\, must be 21
URL:https://www.brassrailfw.com/show/faithinnothing/
LOCATION:The Brass Rail\, 1121 Broadway\, Fort Wayne\, IN\, 46802\, United States
ATTACH;FMTTYPE=image/jpeg:https://www.brassrailfw.com/wp-content/uploads/2024/08/2024_11_01-vert-Frog-Tongue.jpg
GEO:41.0740622;-85.1478209
X-APPLE-STRUCTURED-LOCATION;VALUE=URI;X-ADDRESS=The Brass Rail 1121 Broadway Fort Wayne IN 46802 United States;X-APPLE-RADIUS=500;X-TITLE=1121 Broadway:geo:-85.1478209,41.0740622
END:VEVENT
BEGIN:VEVENT
DTSTART;TZID=UTC:20241031T213000
DTEND;TZID=UTC:20241031T213000
DTSTAMP:20260425T164527
CREATED:20240407T173052Z
LAST-MODIFIED:20241102T010214Z
UID:10001899-1730410200-1730410200@www.brassrailfw.com
SUMMARY:Loveseat\, Chewy Lucas
DESCRIPTION:
URL:https://www.brassrailfw.com/show/h-loveseat-2/
LOCATION:The Brass Rail\, 1121 Broadway\, Fort Wayne\, IN\, 46802\, United States
GEO:41.0740622;-85.1478209
X-APPLE-STRUCTURED-LOCATION;VALUE=URI;X-ADDRESS=The Brass Rail 1121 Broadway Fort Wayne IN 46802 United States;X-APPLE-RADIUS=500;X-TITLE=1121 Broadway:geo:-85.1478209,41.0740622
END:VEVENT
BEGIN:VEVENT
DTSTART;TZID=UTC:20241030T200000
DTEND;TZID=UTC:20241030T235900
DTSTAMP:20260425T164527
CREATED:20240906T115342Z
LAST-MODIFIED:20240925T112824Z
UID:10001957-1730318400-1730332740@www.brassrailfw.com
SUMMARY:Rat Tally\, Morpho\, The Namby Pamby
DESCRIPTION:Rat Tally\nhttps://linktr.ee/rat_tally\nhttps://www.instagram.com/rat_tally/ \nMorpho\nhttps://bio.site/yourfriendmorpho\nhttps://www.instagram.com/yourfriend_morpho/ \nThe Namby Pamby\nhttps://www.thenambypamby.com/\nhttps://www.instagram.com/the.nambypamby/ \n8PM/$8 COVER/MUST BE \n  \n  \n  \n  \n 
URL:https://www.brassrailfw.com/show/rattally/
LOCATION:The Brass Rail\, 1121 Broadway\, Fort Wayne\, IN\, 46802\, United States
ATTACH;FMTTYPE=image/jpeg:https://www.brassrailfw.com/wp-content/uploads/2024/09/2024_10_30-vert-namby.jpg
GEO:41.0740622;-85.1478209
X-APPLE-STRUCTURED-LOCATION;VALUE=URI;X-ADDRESS=The Brass Rail 1121 Broadway Fort Wayne IN 46802 United States;X-APPLE-RADIUS=500;X-TITLE=1121 Broadway:geo:-85.1478209,41.0740622
END:VEVENT
BEGIN:VEVENT
DTSTART;TZID=UTC:20241026T213000
DTEND;TZID=UTC:20241026T213000
DTSTAMP:20260425T164527
CREATED:20240612T191318Z
LAST-MODIFIED:20241020T021017Z
UID:10001922-1729978200-1729978200@www.brassrailfw.com
SUMMARY:Ween Tribute for Halloween
DESCRIPTION:
URL:https://www.brassrailfw.com/show/ween-tribute-for-halloween-2/
LOCATION:The Brass Rail\, 1121 Broadway\, Fort Wayne\, IN\, 46802\, United States
ATTACH;FMTTYPE=image/jpeg:https://www.brassrailfw.com/wp-content/uploads/2024/06/2024_10_26-vert-ween.jpg
GEO:41.0740622;-85.1478209
X-APPLE-STRUCTURED-LOCATION;VALUE=URI;X-ADDRESS=The Brass Rail 1121 Broadway Fort Wayne IN 46802 United States;X-APPLE-RADIUS=500;X-TITLE=1121 Broadway:geo:-85.1478209,41.0740622
END:VEVENT
BEGIN:VEVENT
DTSTART;TZID=UTC:20241025T213000
DTEND;TZID=UTC:20241025T213000
DTSTAMP:20260425T164527
CREATED:20240612T193756Z
LAST-MODIFIED:20240612T193756Z
UID:10001923-1729891800-1729891800@www.brassrailfw.com
SUMMARY:The Holy Nothing
DESCRIPTION:
URL:https://www.brassrailfw.com/show/the-holy-nothing-2/
LOCATION:The Brass Rail\, 1121 Broadway\, Fort Wayne\, IN\, 46802\, United States
GEO:41.0740622;-85.1478209
X-APPLE-STRUCTURED-LOCATION;VALUE=URI;X-ADDRESS=The Brass Rail 1121 Broadway Fort Wayne IN 46802 United States;X-APPLE-RADIUS=500;X-TITLE=1121 Broadway:geo:-85.1478209,41.0740622
END:VEVENT
BEGIN:VEVENT
DTSTART;TZID=UTC:20241024T210000
DTEND;TZID=UTC:20241024T233000
DTSTAMP:20260425T164527
CREATED:20240906T213709Z
LAST-MODIFIED:20240906T213709Z
UID:10001958-1729803600-1729812600@www.brassrailfw.com
SUMMARY:Halloween Photo Shoot with Bambi Guthrie Photography
DESCRIPTION:
URL:https://www.brassrailfw.com/show/halloween-photo-shoot-with-bambi-guthrie-photography/
LOCATION:The Brass Rail\, 1121 Broadway\, Fort Wayne\, IN\, 46802\, United States
GEO:41.0740622;-85.1478209
X-APPLE-STRUCTURED-LOCATION;VALUE=URI;X-ADDRESS=The Brass Rail 1121 Broadway Fort Wayne IN 46802 United States;X-APPLE-RADIUS=500;X-TITLE=1121 Broadway:geo:-85.1478209,41.0740622
END:VEVENT
BEGIN:VEVENT
DTSTART;TZID=UTC:20241022T200000
DTEND;TZID=UTC:20241022T200000
DTSTAMP:20260425T164527
CREATED:20240724T231955Z
LAST-MODIFIED:20241014T110514Z
UID:10001934-1729627200-1729627200@www.brassrailfw.com
SUMMARY:Gabi Jr\, The Namby Pamby
DESCRIPTION:Gabi Jr\nhttps://linktr.ee/GABI_JR \nThe Namby Pamby\nhttps://www.thenambypamby.com/ \n$15 cover\, must be 21
URL:https://www.brassrailfw.com/show/rui-gabriel-x-thomas-dollbaum/
LOCATION:The Brass Rail\, 1121 Broadway\, Fort Wayne\, IN\, 46802\, United States
ATTACH;FMTTYPE=image/png:https://www.brassrailfw.com/wp-content/uploads/2024/07/2024_10_22-vert-gabi-jr.png
GEO:41.0740622;-85.1478209
X-APPLE-STRUCTURED-LOCATION;VALUE=URI;X-ADDRESS=The Brass Rail 1121 Broadway Fort Wayne IN 46802 United States;X-APPLE-RADIUS=500;X-TITLE=1121 Broadway:geo:-85.1478209,41.0740622
END:VEVENT
BEGIN:VEVENT
DTSTART;TZID=UTC:20241021T200000
DTEND;TZID=UTC:20241021T200000
DTSTAMP:20260425T164527
CREATED:20240804T004323Z
LAST-MODIFIED:20241021T145445Z
UID:10001941-1729540800-1729540800@www.brassrailfw.com
SUMMARY:Kal Marks (new york city)\, Leones
DESCRIPTION:Kal Marks\nhttps://linktr.ee/kalmarksband \nLeones\nhttps://linktr.ee/leonesin \n$7 cover\, must be 21 \n 
URL:https://www.brassrailfw.com/show/h-james-w-3/
LOCATION:The Brass Rail\, 1121 Broadway\, Fort Wayne\, IN\, 46802\, United States
ATTACH;FMTTYPE=image/jpeg:https://www.brassrailfw.com/wp-content/uploads/2024/08/2024_10_21-vert-kal-marks.jpg
GEO:41.0740622;-85.1478209
X-APPLE-STRUCTURED-LOCATION;VALUE=URI;X-ADDRESS=The Brass Rail 1121 Broadway Fort Wayne IN 46802 United States;X-APPLE-RADIUS=500;X-TITLE=1121 Broadway:geo:-85.1478209,41.0740622
END:VEVENT
BEGIN:VEVENT
DTSTART;TZID=UTC:20241019T213000
DTEND;TZID=UTC:20241019T213000
DTSTAMP:20260425T164527
CREATED:20240608T180304Z
LAST-MODIFIED:20240922T143111Z
UID:10001918-1729373400-1729373400@www.brassrailfw.com
SUMMARY:Chris Rebellion\, Bloodstained Sky\, Private Education
DESCRIPTION:
URL:https://www.brassrailfw.com/show/chrisrebellion/
LOCATION:The Brass Rail\, 1121 Broadway\, Fort Wayne\, IN\, 46802\, United States
GEO:41.0740622;-85.1478209
X-APPLE-STRUCTURED-LOCATION;VALUE=URI;X-ADDRESS=The Brass Rail 1121 Broadway Fort Wayne IN 46802 United States;X-APPLE-RADIUS=500;X-TITLE=1121 Broadway:geo:-85.1478209,41.0740622
END:VEVENT
BEGIN:VEVENT
DTSTART;TZID=UTC:20241018T213000
DTEND;TZID=UTC:20241018T213000
DTSTAMP:20260425T164527
CREATED:20240814T145209Z
LAST-MODIFIED:20240922T144115Z
UID:10001948-1729287000-1729287000@www.brassrailfw.com
SUMMARY:POISON RUÏN\, Friendship Commanders
DESCRIPTION:$9 no-fee tickets on sale now \nPOISON RUÏN reach through the dark once again with the new EP\, Confrere! “Confrere”- an ode to the sacred bonds of friendship; a strength which holds true through the endless twisting and straining of space and time. Confrere sees POISON RUÏN elevate their sound with more atmosphere and palpable urgency. \nFollowing the title track\, Confrere continues to hurtle through songs of struggle\, death\, despair\, injustice and revenge. In a dark age where the very foundations of humanity threaten to crumble\, POISON RUÏN believe that perhaps the only thing left to hang on to is the hand of a friend. \nWith  Friendship Commanders\nhttps://linktr.ee/FriendshipCommanders
URL:https://www.brassrailfw.com/show/poisonruin/
LOCATION:The Brass Rail\, 1121 Broadway\, Fort Wayne\, IN\, 46802\, United States
ATTACH;FMTTYPE=image/jpeg:https://www.brassrailfw.com/wp-content/uploads/2024/08/poison_ruin__cecilshangwhaley-Copy.jpg
GEO:41.0740622;-85.1478209
X-APPLE-STRUCTURED-LOCATION;VALUE=URI;X-ADDRESS=The Brass Rail 1121 Broadway Fort Wayne IN 46802 United States;X-APPLE-RADIUS=500;X-TITLE=1121 Broadway:geo:-85.1478209,41.0740622
END:VEVENT
BEGIN:VEVENT
DTSTART;TZID=UTC:20241017T193000
DTEND;TZID=UTC:20241017T235900
DTSTAMP:20260425T164527
CREATED:20240519T005559Z
LAST-MODIFIED:20241008T130730Z
UID:10001912-1729193400-1729209540@www.brassrailfw.com
SUMMARY:Faerie Ring\, Blessed Black\, Fourpiece
DESCRIPTION:Faerie Ring\nhttps://linktr.ee/FaerieRing \nBlessed Black\nhttps://www.instagram.com/blessedblackdoom/ \nFourPiece\nhttps://www.instagram.com/fourpiece_official/ \n$8 cover\, must be 21 \n 
URL:https://www.brassrailfw.com/show/faerie-ring/
LOCATION:The Brass Rail\, 1121 Broadway\, Fort Wayne\, IN\, 46802\, United States
ATTACH;FMTTYPE=image/jpeg:https://www.brassrailfw.com/wp-content/uploads/2024/05/2024_10_17-vert-blessed-black.jpg
GEO:41.0740622;-85.1478209
X-APPLE-STRUCTURED-LOCATION;VALUE=URI;X-ADDRESS=The Brass Rail 1121 Broadway Fort Wayne IN 46802 United States;X-APPLE-RADIUS=500;X-TITLE=1121 Broadway:geo:-85.1478209,41.0740622
END:VEVENT
BEGIN:VEVENT
DTSTART;TZID=UTC:20241012T214500
DTEND;TZID=UTC:20241012T214500
DTSTAMP:20260425T164527
CREATED:20240813T132420Z
LAST-MODIFIED:20240925T114750Z
UID:10001947-1728769500-1728769500@www.brassrailfw.com
SUMMARY:Lord Humongous\, Scare Tape\, and DiPt
DESCRIPTION:Lord Humongous\nhttps://www.instagram.com/lord_humongous_thrash/ \nScare Tape\nhttps://www.instagram.com/scaretapeband/ \nDiPt\nhttps://www.instagram.com/diptpv260/
URL:https://www.brassrailfw.com/show/lord-humongous/
LOCATION:The Brass Rail\, 1121 Broadway\, Fort Wayne\, IN\, 46802\, United States
GEO:41.0740622;-85.1478209
X-APPLE-STRUCTURED-LOCATION;VALUE=URI;X-ADDRESS=The Brass Rail 1121 Broadway Fort Wayne IN 46802 United States;X-APPLE-RADIUS=500;X-TITLE=1121 Broadway:geo:-85.1478209,41.0740622
END:VEVENT
BEGIN:VEVENT
DTSTART;TZID=UTC:20241011T213000
DTEND;TZID=UTC:20241011T235500
DTSTAMP:20260425T164527
CREATED:20240804T004037Z
LAST-MODIFIED:20241008T181045Z
UID:10001940-1728682200-1728690900@www.brassrailfw.com
SUMMARY:Moon Goons\, The Magnavoxs\, Chewy Lucas
DESCRIPTION:Moon Goons\nhttps://linktr.ee/moongoonsmusic \nThe Magnavoxs\nhttps://linktr.ee/themagnavoxs \nChewy Lucas\nhttps://solo.to/chewylucas \n$7 cover\, must be 21 \n 
URL:https://www.brassrailfw.com/show/magnavoxes/
LOCATION:The Brass Rail\, 1121 Broadway\, Fort Wayne\, IN\, 46802\, United States
ATTACH;FMTTYPE=image/jpeg:https://www.brassrailfw.com/wp-content/uploads/2024/08/2024_10_11-vert-chewy.jpeg
GEO:41.0740622;-85.1478209
X-APPLE-STRUCTURED-LOCATION;VALUE=URI;X-ADDRESS=The Brass Rail 1121 Broadway Fort Wayne IN 46802 United States;X-APPLE-RADIUS=500;X-TITLE=1121 Broadway:geo:-85.1478209,41.0740622
END:VEVENT
BEGIN:VEVENT
DTSTART;TZID=UTC:20241010T210000
DTEND;TZID=UTC:20241010T235900
DTSTAMP:20260425T164527
CREATED:20240714T200610Z
LAST-MODIFIED:20240922T153532Z
UID:10001930-1728594000-1728604740@www.brassrailfw.com
SUMMARY:Thunderhawk. aadia
DESCRIPTION:THEY ARE BACK – ONE NIGHT ONLY \n\nThunderhawk reforms for a special performance with their friends aadia\nthunderhawk.bandcamp.comaadia.bandcamp.com/merch/moby-tee\n\n$7 cover\, must be 21\, poster by Pretty Good Poster
URL:https://www.brassrailfw.com/show/thunderhawk24/
LOCATION:The Brass Rail\, 1121 Broadway\, Fort Wayne\, IN\, 46802\, United States
ATTACH;FMTTYPE=image/jpeg:https://www.brassrailfw.com/wp-content/uploads/2024/07/2024_10_10-square-thunderhawk.jpg
GEO:41.0740622;-85.1478209
X-APPLE-STRUCTURED-LOCATION;VALUE=URI;X-ADDRESS=The Brass Rail 1121 Broadway Fort Wayne IN 46802 United States;X-APPLE-RADIUS=500;X-TITLE=1121 Broadway:geo:-85.1478209,41.0740622
END:VEVENT
BEGIN:VEVENT
DTSTART;TZID=UTC:20241005T214500
DTEND;TZID=UTC:20241005T214500
DTSTAMP:20260425T164527
CREATED:20240922T150816Z
LAST-MODIFIED:20240922T150821Z
UID:10001962-1728164700-1728164700@www.brassrailfw.com
SUMMARY:John & Ben Carraoke
DESCRIPTION:Our original take on the same old Karaoke. \n  \n$5 cover\, must be 21
URL:https://www.brassrailfw.com/show/john-ben-carraoke-4/
LOCATION:The Brass Rail\, 1121 Broadway\, Fort Wayne\, IN\, 46802\, United States
ATTACH;FMTTYPE=image/jpeg:https://www.brassrailfw.com/wp-content/uploads/2024/06/bencarr.jpg
GEO:41.0740622;-85.1478209
X-APPLE-STRUCTURED-LOCATION;VALUE=URI;X-ADDRESS=The Brass Rail 1121 Broadway Fort Wayne IN 46802 United States;X-APPLE-RADIUS=500;X-TITLE=1121 Broadway:geo:-85.1478209,41.0740622
END:VEVENT
BEGIN:VEVENT
DTSTART;TZID=UTC:20241004T210000
DTEND;TZID=UTC:20241004T210000
DTSTAMP:20260425T164527
CREATED:20240804T002745Z
LAST-MODIFIED:20240922T145419Z
UID:10001939-1728075600-1728075600@www.brassrailfw.com
SUMMARY:Fred Masherino (of Taking Back Sunday)\, Rookie of The Year\, Mighty Vices\, Danny Attacks
DESCRIPTION:Fred Masherino (lead guitarist and co-lead vocalist in Taking Back Sunday) \nRookie of The Year (acoustic-oriented emo band from North Carolina) \nMighty Vices \nDanny Attacks \n$10 tickets on sale now
URL:https://www.brassrailfw.com/show/h-c-purvis/
LOCATION:The Brass Rail\, 1121 Broadway\, Fort Wayne\, IN\, 46802\, United States
ATTACH;FMTTYPE=image/jpeg:https://www.brassrailfw.com/wp-content/uploads/2024/08/2024_10_04-vert-Fred.jpg
GEO:41.0740622;-85.1478209
X-APPLE-STRUCTURED-LOCATION;VALUE=URI;X-ADDRESS=The Brass Rail 1121 Broadway Fort Wayne IN 46802 United States;X-APPLE-RADIUS=500;X-TITLE=1121 Broadway:geo:-85.1478209,41.0740622
END:VEVENT
BEGIN:VEVENT
DTSTART;TZID=UTC:20241002T200000
DTEND;TZID=UTC:20241002T200000
DTSTAMP:20260425T164527
CREATED:20240809T174629Z
LAST-MODIFIED:20240922T135953Z
UID:10001945-1727899200-1727899200@www.brassrailfw.com
SUMMARY:Jimmy The Kid (chicago)\, Los Electro
DESCRIPTION:
URL:https://www.brassrailfw.com/show/jimmythekid/
LOCATION:The Brass Rail\, 1121 Broadway\, Fort Wayne\, IN\, 46802\, United States
GEO:41.0740622;-85.1478209
X-APPLE-STRUCTURED-LOCATION;VALUE=URI;X-ADDRESS=The Brass Rail 1121 Broadway Fort Wayne IN 46802 United States;X-APPLE-RADIUS=500;X-TITLE=1121 Broadway:geo:-85.1478209,41.0740622
END:VEVENT
BEGIN:VEVENT
DTSTART;TZID=UTC:20240928T213000
DTEND;TZID=UTC:20240928T213000
DTSTAMP:20260425T164527
CREATED:20240731T001417Z
LAST-MODIFIED:20240922T003143Z
UID:10001936-1727559000-1727559000@www.brassrailfw.com
SUMMARY:Everything Now\, Heaven's Gateway Drugs\, Florets
DESCRIPTION:Everything\, Now! (Indiana rock band\, since 2003)\nhttps://www.instagram.com/everythingnowband/\n\nHeaven’s Gateway Drugs\nhttps://heavensgatewaydrugs.bandcamp.com/track/anyones-guess-but-mineFlorets\nhttps://florets.bandcamp.com/album/greetings-from \n\n\n$7 cover\, must be 21
URL:https://www.brassrailfw.com/show/everythingnow/
LOCATION:The Brass Rail\, 1121 Broadway\, Fort Wayne\, IN\, 46802\, United States
ATTACH;FMTTYPE=image/png:https://www.brassrailfw.com/wp-content/uploads/2024/07/2024_09_28-vert-hgd.png
GEO:41.0740622;-85.1478209
X-APPLE-STRUCTURED-LOCATION;VALUE=URI;X-ADDRESS=The Brass Rail 1121 Broadway Fort Wayne IN 46802 United States;X-APPLE-RADIUS=500;X-TITLE=1121 Broadway:geo:-85.1478209,41.0740622
END:VEVENT
END:VCALENDAR