BEGIN:VCALENDAR
VERSION:2.0
PRODID:-//The Brass Rail - ECPv6.15.20//NONSGML v1.0//EN
CALSCALE:GREGORIAN
METHOD:PUBLISH
X-WR-CALNAME:The Brass Rail
X-ORIGINAL-URL:https://www.brassrailfw.com
X-WR-CALDESC:Events for The Brass Rail
REFRESH-INTERVAL;VALUE=DURATION:PT1H
X-Robots-Tag:noindex
X-PUBLISHED-TTL:PT1H
BEGIN:VTIMEZONE
TZID:UTC
BEGIN:STANDARD
TZOFFSETFROM:+0000
TZOFFSETTO:+0000
TZNAME:UTC
DTSTART:20250101T000000
END:STANDARD
END:VTIMEZONE
BEGIN:VEVENT
DTSTART;TZID=UTC:20260325T190000
DTEND;TZID=UTC:20260325T235900
DTSTAMP:20260425T142203
CREATED:20251209T235506Z
LAST-MODIFIED:20260323T000116Z
UID:10002174-1774465200-1774483140@www.brassrailfw.com
SUMMARY:The Burkharts with Danny Ayala (of the lemon twigs)\, Thinning
DESCRIPTION:The Burkharts bring a dose of sun-soaked nostalgia from the shores of Buffalo\, NY. Blending breezy \nmelodies with jangly guitars\, their indie surf-pop sound drifts somewhere between a 1960s Californian \ndaydream and modern lo-fi charm. Frontman Trevor pens the tunes while his brother Gavon keeps time \non the drums\, joined by Austin\, Luke\, and James to complete the band’s retro-tinged rhythm section. \nTheir latest single\, “Tell Me\,” is out now—perfect for late-night drives and golden-hour memories. \nThe Burkharts’ music video for their most recent single\, Tell Me\, out now! \nDanny Ayala\n \nWhat’s bold is new again and what’s original never truly goes out \nof style. That is the thesis behind ‘Only Fools Love Again\,’ setting \nit and its author\, Danny Ayala\, up for long-term success and a \ntenure-track rotation on any discerning pop fan’s turntable. The \ntouring bassist and keyboardist with glam and power pop \nwunderkinds\, THE LEMON TWIGS\, strikes again! ‘Only Fools \nLove Again’ ranks near the top of an extremely short list of pop \nrevival offerings that transcend sonic posturing and mere \ntribute-act dress-up pastiche. \nA forward-facing throwback\, showing off a range of influences \nboth new and old\, digital and analog\, ‘Only Fools Love Again’ is \nTHE NEW Long Island Sound and it comes highly recommended. \nGet ‘Only Fools Love Again’ today and baby you can go all the \nway. \n$12 no-fee tickets on sale now. $15 day of show. \nDoors at 7PM\, must at 8PM
URL:https://www.brassrailfw.com/show/burkharts/
LOCATION:The Brass Rail\, 1121 Broadway\, Fort Wayne\, IN\, 46802\, United States
ATTACH;FMTTYPE=image/png:https://www.brassrailfw.com/wp-content/uploads/2025/12/2026_03_25-burkharts-1.png
GEO:41.0740622;-85.1478209
X-APPLE-STRUCTURED-LOCATION;VALUE=URI;X-ADDRESS=The Brass Rail 1121 Broadway Fort Wayne IN 46802 United States;X-APPLE-RADIUS=500;X-TITLE=1121 Broadway:geo:-85.1478209,41.0740622
END:VEVENT
BEGIN:VEVENT
DTSTART;TZID=UTC:20260326T210000
DTEND;TZID=UTC:20260326T235900
DTSTAMP:20260425T142203
CREATED:20251119T192135Z
LAST-MODIFIED:20260204T043559Z
UID:10002158-1774558800-1774569540@www.brassrailfw.com
SUMMARY:Helicopter Leaves\, S.H.E (Second Hand Embrassment)\, Thinning
DESCRIPTION:
URL:https://www.brassrailfw.com/show/h-hellicopter/
LOCATION:The Brass Rail\, 1121 Broadway\, Fort Wayne\, IN\, 46802\, United States
GEO:41.0740622;-85.1478209
X-APPLE-STRUCTURED-LOCATION;VALUE=URI;X-ADDRESS=The Brass Rail 1121 Broadway Fort Wayne IN 46802 United States;X-APPLE-RADIUS=500;X-TITLE=1121 Broadway:geo:-85.1478209,41.0740622
END:VEVENT
BEGIN:VEVENT
DTSTART;TZID=UTC:20260327T210000
DTEND;TZID=UTC:20260327T235900
DTSTAMP:20260425T142203
CREATED:20260323T000040Z
LAST-MODIFIED:20260323T000040Z
UID:10002207-1774645200-1774655940@www.brassrailfw.com
SUMMARY:Mom Wagon\, Little Good\, Schlumpty Dumpty
DESCRIPTION:$7 cover\, must be 21
URL:https://www.brassrailfw.com/show/mom-wagon-little-good-schlumpty-dumpty/
LOCATION:The Brass Rail\, 1121 Broadway\, Fort Wayne\, IN\, 46802\, United States
ATTACH;FMTTYPE=image/jpeg:https://www.brassrailfw.com/wp-content/uploads/2026/03/2026_03_27-scaled.jpeg
GEO:41.0740622;-85.1478209
X-APPLE-STRUCTURED-LOCATION;VALUE=URI;X-ADDRESS=The Brass Rail 1121 Broadway Fort Wayne IN 46802 United States;X-APPLE-RADIUS=500;X-TITLE=1121 Broadway:geo:-85.1478209,41.0740622
END:VEVENT
BEGIN:VEVENT
DTSTART;TZID=UTC:20260328T210000
DTEND;TZID=UTC:20260328T235900
DTSTAMP:20260425T142203
CREATED:20260111T200037Z
LAST-MODIFIED:20260221T035035Z
UID:10002186-1774731600-1774742340@www.brassrailfw.com
SUMMARY:Post Punk Dance Night with Abel\, Los Electro
DESCRIPTION:Abel\nhttps://www.instagram.com/abelabelmusic/ \nLos Electro\nhttps://www.instagram.com/loselectroband/ \n$7 cover\, must be 21
URL:https://www.brassrailfw.com/show/los-electro-5/
LOCATION:The Brass Rail\, 1121 Broadway\, Fort Wayne\, IN\, 46802\, United States
ATTACH;FMTTYPE=image/jpeg:https://www.brassrailfw.com/wp-content/uploads/2025/12/2026_03_28-Post-Punk-Dance-Night-samller.jpg
GEO:41.0740622;-85.1478209
X-APPLE-STRUCTURED-LOCATION;VALUE=URI;X-ADDRESS=The Brass Rail 1121 Broadway Fort Wayne IN 46802 United States;X-APPLE-RADIUS=500;X-TITLE=1121 Broadway:geo:-85.1478209,41.0740622
END:VEVENT
BEGIN:VEVENT
DTSTART;TZID=UTC:20260402T210000
DTEND;TZID=UTC:20260402T235900
DTSTAMP:20260425T142203
CREATED:20260108T040517Z
LAST-MODIFIED:20260328T031736Z
UID:10002184-1775163600-1775174340@www.brassrailfw.com
SUMMARY:The Namby Pamby\, Caley Conway\, Fresh Tar
DESCRIPTION:The Namby Pamby\nhttps://www.instagram.com/the.nambypamby/ \nCaley Conway (Ethereal indie rock from Milwaukee\, WI)\nhttps://www.instagram.com/caleyconwaymusic/ \nFresh Tar\nhttps://www.instagram.com/freshtarmusic/ \n$10 cover\, must be 21
URL:https://www.brassrailfw.com/show/caley-conway-2/
LOCATION:The Brass Rail\, 1121 Broadway\, Fort Wayne\, IN\, 46802\, United States
ATTACH;FMTTYPE=image/png:https://www.brassrailfw.com/wp-content/uploads/2026/01/2026_03_02-caley-conway.png
GEO:41.0740622;-85.1478209
X-APPLE-STRUCTURED-LOCATION;VALUE=URI;X-ADDRESS=The Brass Rail 1121 Broadway Fort Wayne IN 46802 United States;X-APPLE-RADIUS=500;X-TITLE=1121 Broadway:geo:-85.1478209,41.0740622
END:VEVENT
BEGIN:VEVENT
DTSTART;TZID=UTC:20260403T213000
DTEND;TZID=UTC:20260403T235900
DTSTAMP:20260425T142203
CREATED:20251102T171727Z
LAST-MODIFIED:20260217T192314Z
UID:10002148-1775251800-1775260740@www.brassrailfw.com
SUMMARY:Wayne "The Train" Hancock\, Denny And The Down & Outers
DESCRIPTION:$12 no-fee advance tickets on sale now. $15 day of show \nWayne Hancock has more Hank Sr. in him than either I or Hank Williams Jr. He is the real deal.” – Hank III \n“Hancock\, who tosses out a roots mix of old country\, roadhouse blues\, western dance swing\, boogie bop\, and straight-up rockabilly\, takes what was once old and makes it seem like it’s always been and always will be.”—allmusic.com \n“The country music scene could do with a lot more characters like Wayne\, who push the music’s limits while staying truer to its roots than any well-known names associated with the genre today.” – Slug Magazine \nSince his stunning debut\, Thunderstorms and Neon Signs in 1995\, Wayne “The Train” Hancock has been the undisputed king of Juke Joint Swing–that alchemist’s dream of honky-tonk\, western swing\, blues\, Texas rockabilly and big band. Always an anomaly among his country music peers\, Wayne’s uncompromising interpretation of the music he loves is in fact what defines him: steeped in traditional but never “retro;” bare bones but bone shaking; hardcore but with a swing. Like the comfortable crackle of a Wurlitzer 45 jukebox\, Wayne is the embodiment of genuine\, house rocking\, hillbilly boogie. \nWayne makes music fit for any road house anywhere. With his unmistakable voice\, The Train’s reckless honky-tonk can move the dead. If you see him live (and he is ALWAYS touring)\, you’ll surely work up some sweat stains on that snazzy Rayon shirt you’re wearing. If you buy his records\, you’ll be rolling up your carpets\, spreading sawdust on the hardwood\, and dancing until the downstairs neighbors are banging their brooms on the ceiling. Call him a throwback if you want\, Wayne just wants to ENTERTAIN you\, and what’s wrong with that? \nWayne’s disdain for the slick swill that passes for real deal country is well known. Like he’s fond of saying: “Man\, I’m like a stab wound in the fabric of country music in Nashville. See that bloodstain slowly spreading? That’s me.” \nLittle known fact: Wayne is the only Bloodshot artist to have had their CD taken aboard a space shuttle flight. \n“A rare breed of traditionalist\, one who imbues his retro obsessions with such high energy and passions that his songs never feel like the museum pieces he’s trying desperately to preserve.” —AllMusic.com \nWith Denny And The Down & Outers\nhttps://www.instagram.com/denny.denicolo/
URL:https://www.brassrailfw.com/show/h-neon-signs/
LOCATION:The Brass Rail\, 1121 Broadway\, Fort Wayne\, IN\, 46802\, United States
ATTACH;FMTTYPE=image/jpeg:https://www.brassrailfw.com/wp-content/uploads/2025/11/Photo-Dec-11-2023-4-06-37-PM.jpg
GEO:41.0740622;-85.1478209
X-APPLE-STRUCTURED-LOCATION;VALUE=URI;X-ADDRESS=The Brass Rail 1121 Broadway Fort Wayne IN 46802 United States;X-APPLE-RADIUS=500;X-TITLE=1121 Broadway:geo:-85.1478209,41.0740622
END:VEVENT
BEGIN:VEVENT
DTSTART;TZID=UTC:20260404T210000
DTEND;TZID=UTC:20260404T235900
DTSTAMP:20260425T142203
CREATED:20251119T202342Z
LAST-MODIFIED:20260328T025345Z
UID:10002159-1775336400-1775347140@www.brassrailfw.com
SUMMARY:The More Love Tour with Zack Keim and David Shane
DESCRIPTION:Zack Keim is a critically acclaimed singer-songwriter from Pittsburgh\, PA\, whose soulful melodies and introspective lyrics have captivated audiences worldwide. From 2022 to 2025\, he embarked on an extensive tour across the U.S. and Europe\, bringing his unique sound to fans everywhere. \nKnown for his electrifying live shows\, Keim has shared the stage with legendary artists such as Peter Case (The Nerves/Plimsouls)\, indie icon Calvin Johnson (Beat Happening/ K Records)\, JD Wilkes (Legendary Shack Shackers)\, Marty Wilson Piper (The Church)\, Evan Westfall (Caamp)\, and acclaimed indie songwriter Matt Costa. His standout track\, “Better Days”\, has earned rave reviews\, with Sirius XMU calling it a “fun\, fuzzy\, classic.” Keim is set to captivate fans with a performance\, showcasing songs from his much-anticipated new album\, “Battery Lane” out now. \nNEW ALBUM “Battery Lane” Out Now on CAAMP’s Super Sport Records in the US\, and Action Weekend Records and Off Label Records in Europe. Listen on Spotify here. \n“confessional songwriting with vibrant bursts of stomping\, scuzzy energy\, and lush harmonic undertones” — Under The Radar \n“an impressive work of folk songwriter craftsmanship.” \n— Glide Magazine \nDavid Shane is a filmmaker and live storyteller best known for More Love Projects a viral movement built on human connection that has generated over 500Mviews across social media worldwide. His work explores connection\, vulnerability\, and the quietmoments that make us human. \nOn stage\, David blends storytelling\, audience interaction\, and emotional honesty to create intimate live experiences that feel more likeshared moments than performances.
URL:https://www.brassrailfw.com/show/h-chainsmoking/
LOCATION:The Brass Rail\, 1121 Broadway\, Fort Wayne\, IN\, 46802\, United States
ATTACH;FMTTYPE=image/jpeg:https://www.brassrailfw.com/wp-content/uploads/2025/11/Zack-Keim-Press-Photo-1.jpeg
GEO:41.0740622;-85.1478209
X-APPLE-STRUCTURED-LOCATION;VALUE=URI;X-ADDRESS=The Brass Rail 1121 Broadway Fort Wayne IN 46802 United States;X-APPLE-RADIUS=500;X-TITLE=1121 Broadway:geo:-85.1478209,41.0740622
END:VEVENT
BEGIN:VEVENT
DTSTART;TZID=UTC:20260408T210000
DTEND;TZID=UTC:20260408T235900
DTSTAMP:20260425T142203
CREATED:20251208T004458Z
LAST-MODIFIED:20260328T034841Z
UID:10002170-1775682000-1775692740@www.brassrailfw.com
SUMMARY:Bronson Arm (Michigan)\,  Dug ( Minneapolis)\, Loomspore
DESCRIPTION:Bronson Arm\nhttps://www.instagram.com/bronson_arm_noise/ \nDug\nhttps://www.instagram.com/dug_noise/ \nLoomspore\nhttps://www.instagram.com/loomspore/ \n$7 cover\, must be 21
URL:https://www.brassrailfw.com/show/bronson-arm-michigan-dug-minneapolis-loomspore/
LOCATION:The Brass Rail\, 1121 Broadway\, Fort Wayne\, IN\, 46802\, United States
ATTACH;FMTTYPE=image/png:https://www.brassrailfw.com/wp-content/uploads/2025/12/2026_04_08-bronson-arm.png
GEO:41.0740622;-85.1478209
X-APPLE-STRUCTURED-LOCATION;VALUE=URI;X-ADDRESS=The Brass Rail 1121 Broadway Fort Wayne IN 46802 United States;X-APPLE-RADIUS=500;X-TITLE=1121 Broadway:geo:-85.1478209,41.0740622
END:VEVENT
BEGIN:VEVENT
DTSTART;TZID=UTC:20260410T210000
DTEND;TZID=UTC:20260410T235900
DTSTAMP:20260425T142203
CREATED:20251217T011150Z
LAST-MODIFIED:20260328T032458Z
UID:10002175-1775854800-1775865540@www.brassrailfw.com
SUMMARY:Robbery Club\, Best Sleep\, Joyhouse
DESCRIPTION:Robbery Club\nhttps://www.instagram.com/robberyclub/ \nBest Sleep\nhttps://www.instagram.com/bestsleepband/ \nJoyhouse\nhttps://www.instagram.com/joyhouseband/ \n$10 cover\, must be 21
URL:https://www.brassrailfw.com/show/h-james-holm/
LOCATION:The Brass Rail\, 1121 Broadway\, Fort Wayne\, IN\, 46802\, United States
ATTACH;FMTTYPE=image/jpeg:https://www.brassrailfw.com/wp-content/uploads/2025/12/2026_04_10-joyhouse.jpeg
GEO:41.0740622;-85.1478209
X-APPLE-STRUCTURED-LOCATION;VALUE=URI;X-ADDRESS=The Brass Rail 1121 Broadway Fort Wayne IN 46802 United States;X-APPLE-RADIUS=500;X-TITLE=1121 Broadway:geo:-85.1478209,41.0740622
END:VEVENT
BEGIN:VEVENT
DTSTART;TZID=UTC:20260411T210000
DTEND;TZID=UTC:20260411T235900
DTSTAMP:20260425T142203
CREATED:20260122T012242Z
LAST-MODIFIED:20260328T035044Z
UID:10002192-1775941200-1775951940@www.brassrailfw.com
SUMMARY:GOTH NIGHT:  Healing\, Angel-Maker\, Cloudmaker
DESCRIPTION:Healing \nAngel-Maker\nhttps://www.instagram.com/angelmakerband/ \nCloudmaker\nhttps://www.instagram.com/cloud._.maker/
URL:https://www.brassrailfw.com/show/h-eric-frank/
LOCATION:The Brass Rail\, 1121 Broadway\, Fort Wayne\, IN\, 46802\, United States
ATTACH;FMTTYPE=image/png:https://www.brassrailfw.com/wp-content/uploads/2026/01/cloudmaker.png
GEO:41.0740622;-85.1478209
X-APPLE-STRUCTURED-LOCATION;VALUE=URI;X-ADDRESS=The Brass Rail 1121 Broadway Fort Wayne IN 46802 United States;X-APPLE-RADIUS=500;X-TITLE=1121 Broadway:geo:-85.1478209,41.0740622
END:VEVENT
BEGIN:VEVENT
DTSTART;TZID=UTC:20260417T213000
DTEND;TZID=UTC:20260417T235900
DTSTAMP:20260425T142203
CREATED:20251102T173055Z
LAST-MODIFIED:20260329T012408Z
UID:10002150-1776461400-1776470340@www.brassrailfw.com
SUMMARY:SUN.DYLE\, OXENFREE\, WAMPUS MILK DADDIES
DESCRIPTION:SUN.DYLE\nhttps://www.instagram.com/sun.dyle/ \nOXENFREE\nhttps://www.instagram.com/oxenfreeband/ \nWAMPUS MILK DADDIES\nhttps://www.instagram.com/wampusmilkdaddies/ \n  \n$9 cover\, must be 21
URL:https://www.brassrailfw.com/show/sun-dyle-2/
LOCATION:The Brass Rail\, 1121 Broadway\, Fort Wayne\, IN\, 46802\, United States
ATTACH;FMTTYPE=image/jpeg:https://www.brassrailfw.com/wp-content/uploads/2025/11/2026_04_17-sun-dyle.jpeg
GEO:41.0740622;-85.1478209
X-APPLE-STRUCTURED-LOCATION;VALUE=URI;X-ADDRESS=The Brass Rail 1121 Broadway Fort Wayne IN 46802 United States;X-APPLE-RADIUS=500;X-TITLE=1121 Broadway:geo:-85.1478209,41.0740622
END:VEVENT
BEGIN:VEVENT
DTSTART;TZID=UTC:20260418T213000
DTEND;TZID=UTC:20260418T235900
DTSTAMP:20260425T142203
CREATED:20260201T180928Z
LAST-MODIFIED:20260228T184242Z
UID:10002193-1776547800-1776556740@www.brassrailfw.com
SUMMARY:The Meat Flowers\, Dingo Dango\, Farmer Five
DESCRIPTION:The Meat Flowers\nhttps://www.instagram.com/themeatflowers/ \nDingo Dango\nhttps://www.instagram.com/dingodango_/ \nFarmer Five \n$7 cover\, poster by Jared Andrews
URL:https://www.brassrailfw.com/show/dingo-dango/
LOCATION:The Brass Rail\, 1121 Broadway\, Fort Wayne\, IN\, 46802\, United States
ATTACH;FMTTYPE=image/jpeg:https://www.brassrailfw.com/wp-content/uploads/2026/01/2026_04_18-meat-flowers.jpg
GEO:41.0740622;-85.1478209
X-APPLE-STRUCTURED-LOCATION;VALUE=URI;X-ADDRESS=The Brass Rail 1121 Broadway Fort Wayne IN 46802 United States;X-APPLE-RADIUS=500;X-TITLE=1121 Broadway:geo:-85.1478209,41.0740622
END:VEVENT
BEGIN:VEVENT
DTSTART;TZID=UTC:20260423T203000
DTEND;TZID=UTC:20260423T235900
DTSTAMP:20260425T142203
CREATED:20260203T230735Z
LAST-MODIFIED:20260329T152301Z
UID:10002194-1776976200-1776988740@www.brassrailfw.com
SUMMARY:The Hooten Hallers with Revers
DESCRIPTION:The Hooten Hallers are a band that was founded by guitarist/lead vocalist John Randall and drummer/ falsetto vocalist Andy Rehm\, who performed as a duo and were known for their raucous and often improvised live performances. Paul Weber briefly joined the band in 2013–14 on harmonica and tuba\, and wrote several of the group’s songs\, such as “She Used to Love My Music” and “Trouble Is”. Baritone and bass saxophonist Kellie Everett joined in 2014 and solidified the group’s line-up as a trio. The Hooten Hallers are a “high-energy blues\, soul and rock and roll band known for their gritty Americana roots music”. \nhttps://www.instagram.com/thehootenhallers/ \nWith REVERS (crazy love blues grunge from Arcola) \n$10 no-fee tickets available before the day of the show
URL:https://www.brassrailfw.com/show/h-hh-2/
LOCATION:The Brass Rail\, 1121 Broadway\, Fort Wayne\, IN\, 46802\, United States
ATTACH;FMTTYPE=image/jpeg:https://www.brassrailfw.com/wp-content/uploads/2026/02/2026_04_23-hooten-hallers.jpg
GEO:41.0740622;-85.1478209
X-APPLE-STRUCTURED-LOCATION;VALUE=URI;X-ADDRESS=The Brass Rail 1121 Broadway Fort Wayne IN 46802 United States;X-APPLE-RADIUS=500;X-TITLE=1121 Broadway:geo:-85.1478209,41.0740622
END:VEVENT
BEGIN:VEVENT
DTSTART;TZID=UTC:20260424T210000
DTEND;TZID=UTC:20260424T235900
DTSTAMP:20260425T142203
CREATED:20260208T170219Z
LAST-MODIFIED:20260408T235739Z
UID:10002199-1777064400-1777075140@www.brassrailfw.com
SUMMARY:For Darlene\, Joyhouse\, Tuesday Atlas
DESCRIPTION:For Darlene\nhttps://www.instagram.com/for_darlene/ \nJoyhouse\nhttps://www.instagram.com/joyhouseband/ \nTuesday Atlas\nhttps://www.instagram.com/tuesday_atlas/ \n$7 cover\, must be 21
URL:https://www.brassrailfw.com/show/for-darlene/
LOCATION:The Brass Rail\, 1121 Broadway\, Fort Wayne\, IN\, 46802\, United States
ATTACH;FMTTYPE=image/jpeg:https://www.brassrailfw.com/wp-content/uploads/2026/02/2026_04_24-for-darlene.jpeg
GEO:41.0740622;-85.1478209
X-APPLE-STRUCTURED-LOCATION;VALUE=URI;X-ADDRESS=The Brass Rail 1121 Broadway Fort Wayne IN 46802 United States;X-APPLE-RADIUS=500;X-TITLE=1121 Broadway:geo:-85.1478209,41.0740622
END:VEVENT
BEGIN:VEVENT
DTSTART;TZID=UTC:20260425T214500
DTEND;TZID=UTC:20260425T235900
DTSTAMP:20260425T142203
CREATED:20260213T004858Z
LAST-MODIFIED:20260409T000021Z
UID:10002203-1777153500-1777161540@www.brassrailfw.com
SUMMARY:Stache\, Mike Neglia and the Nobles
DESCRIPTION:Stache \nMike Neglia & The Nobles\nhttps://www.instagram.com/mikeneglia_thenobles/ \n$5 cover\, must be 21
URL:https://www.brassrailfw.com/show/stache/
LOCATION:The Brass Rail\, 1121 Broadway\, Fort Wayne\, IN\, 46802\, United States
GEO:41.0740622;-85.1478209
X-APPLE-STRUCTURED-LOCATION;VALUE=URI;X-ADDRESS=The Brass Rail 1121 Broadway Fort Wayne IN 46802 United States;X-APPLE-RADIUS=500;X-TITLE=1121 Broadway:geo:-85.1478209,41.0740622
END:VEVENT
BEGIN:VEVENT
DTSTART;TZID=UTC:20260501T210000
DTEND;TZID=UTC:20260501T235900
DTSTAMP:20260425T142203
CREATED:20250922T191618Z
LAST-MODIFIED:20260126T204705Z
UID:10002137-1777669200-1777679940@www.brassrailfw.com
SUMMARY:Sooflay\, Sparkleteeth\, The Problem With Kids Today
DESCRIPTION:Sooflay \nSparkleteeth \nThe Problem With Kids Today \n$8 cover\, must be 21
URL:https://www.brassrailfw.com/show/h-sam-clay-3/
LOCATION:The Brass Rail\, 1121 Broadway\, Fort Wayne\, IN\, 46802\, United States
ATTACH;FMTTYPE=image/png:https://www.brassrailfw.com/wp-content/uploads/2025/09/2026_05_01-soofley-scaled.png
GEO:41.0740622;-85.1478209
X-APPLE-STRUCTURED-LOCATION;VALUE=URI;X-ADDRESS=The Brass Rail 1121 Broadway Fort Wayne IN 46802 United States;X-APPLE-RADIUS=500;X-TITLE=1121 Broadway:geo:-85.1478209,41.0740622
END:VEVENT
BEGIN:VEVENT
DTSTART;TZID=UTC:20260502T210000
DTEND;TZID=UTC:20260502T235900
DTSTAMP:20260425T142203
CREATED:20260111T200111Z
LAST-MODIFIED:20260409T001240Z
UID:10002187-1777755600-1777766340@www.brassrailfw.com
SUMMARY:Psych Rock Night:  Threegon\, Los Electro\, Echo Pilot
DESCRIPTION:Threegon\nhttps://www.instagram.com/threegonband/ \nLos Electro\nhttps://www.instagram.com/loselectroband/ \nEcho Pilot\nhttps://www.instagram.com/echopilotmusic/ \n$7 cover\, must be 21
URL:https://www.brassrailfw.com/show/los-electro-6/
LOCATION:The Brass Rail\, 1121 Broadway\, Fort Wayne\, IN\, 46802\, United States
ATTACH;FMTTYPE=image/jpeg:https://www.brassrailfw.com/wp-content/uploads/2026/02/2026_05_02-los-electro.jpg
GEO:41.0740622;-85.1478209
X-APPLE-STRUCTURED-LOCATION;VALUE=URI;X-ADDRESS=The Brass Rail 1121 Broadway Fort Wayne IN 46802 United States;X-APPLE-RADIUS=500;X-TITLE=1121 Broadway:geo:-85.1478209,41.0740622
END:VEVENT
BEGIN:VEVENT
DTSTART;TZID=UTC:20260508T210000
DTEND;TZID=UTC:20260508T235900
DTSTAMP:20260425T142203
CREATED:20251209T234922Z
LAST-MODIFIED:20260310T213344Z
UID:10002173-1778274000-1778284740@www.brassrailfw.com
SUMMARY:Necromoon\, Joyhouse\, Etymon
DESCRIPTION:
URL:https://www.brassrailfw.com/show/necromoon-12/
LOCATION:The Brass Rail\, 1121 Broadway\, Fort Wayne\, IN\, 46802\, United States
GEO:41.0740622;-85.1478209
X-APPLE-STRUCTURED-LOCATION;VALUE=URI;X-ADDRESS=The Brass Rail 1121 Broadway Fort Wayne IN 46802 United States;X-APPLE-RADIUS=500;X-TITLE=1121 Broadway:geo:-85.1478209,41.0740622
END:VEVENT
BEGIN:VEVENT
DTSTART;TZID=UTC:20260509T210000
DTEND;TZID=UTC:20260509T235900
DTSTAMP:20260425T142203
CREATED:20260115T160534Z
LAST-MODIFIED:20260115T160534Z
UID:10002191-1778360400-1778371140@www.brassrailfw.com
SUMMARY:Dead Sugar.
DESCRIPTION:
URL:https://www.brassrailfw.com/show/dead-sugar/
LOCATION:The Brass Rail\, 1121 Broadway\, Fort Wayne\, IN\, 46802\, United States
GEO:41.0740622;-85.1478209
X-APPLE-STRUCTURED-LOCATION;VALUE=URI;X-ADDRESS=The Brass Rail 1121 Broadway Fort Wayne IN 46802 United States;X-APPLE-RADIUS=500;X-TITLE=1121 Broadway:geo:-85.1478209,41.0740622
END:VEVENT
BEGIN:VEVENT
DTSTART;TZID=UTC:20260514T210000
DTEND;TZID=UTC:20260514T235900
DTSTAMP:20260425T142203
CREATED:20251204T014411Z
LAST-MODIFIED:20260317T233454Z
UID:10002167-1778792400-1778803140@www.brassrailfw.com
SUMMARY:Debutants with Front Porch
DESCRIPTION:Debutants\nhttps://www.instagram.com/wearedebutants/ \nFront Porch (arkansas)\nhttps://www.instagram.com/front.porch.music/ \n$12 advance/$15 day of show \n 
URL:https://www.brassrailfw.com/show/h-colin-4/
LOCATION:The Brass Rail\, 1121 Broadway\, Fort Wayne\, IN\, 46802\, United States
ATTACH;FMTTYPE=image/png:https://www.brassrailfw.com/wp-content/uploads/2025/12/2026_05_14-Debutants-scaled.png
GEO:41.0740622;-85.1478209
X-APPLE-STRUCTURED-LOCATION;VALUE=URI;X-ADDRESS=The Brass Rail 1121 Broadway Fort Wayne IN 46802 United States;X-APPLE-RADIUS=500;X-TITLE=1121 Broadway:geo:-85.1478209,41.0740622
END:VEVENT
BEGIN:VEVENT
DTSTART;TZID=UTC:20260519T204500
DTEND;TZID=UTC:20260519T235900
DTSTAMP:20260425T142203
CREATED:20260212T214930Z
LAST-MODIFIED:20260213T005432Z
UID:10002202-1779223500-1779235140@www.brassrailfw.com
SUMMARY:Final Gasp (boston)\, Blood Vulture (new york)\, Funayurei
DESCRIPTION:Final Gasp\nhttps://www.instagram.com/final_gasp?igsh=Z2p4a2hjNTVwdWZk \nBlood Vulture\nhttps://www.instagram.com/bloodvultureband?igsh=MTFqdHl5cTd4ZmthMw== \nFunayurei\nhttps://www.instagram.com/funayureimusic/
URL:https://www.brassrailfw.com/show/final-gasp-boston-blood-vulture-new-york-funayurei/
LOCATION:The Brass Rail\, 1121 Broadway\, Fort Wayne\, IN\, 46802\, United States
GEO:41.0740622;-85.1478209
X-APPLE-STRUCTURED-LOCATION;VALUE=URI;X-ADDRESS=The Brass Rail 1121 Broadway Fort Wayne IN 46802 United States;X-APPLE-RADIUS=500;X-TITLE=1121 Broadway:geo:-85.1478209,41.0740622
END:VEVENT
BEGIN:VEVENT
DTSTART;TZID=UTC:20260522T080000
DTEND;TZID=UTC:20260522T170000
DTSTAMP:20260425T142203
CREATED:20260421T215829Z
LAST-MODIFIED:20260421T215829Z
UID:10002219-1779436800-1779469200@www.brassrailfw.com
SUMMARY:(h) mighty vices
DESCRIPTION:
URL:https://www.brassrailfw.com/show/h-mighty-vices/
LOCATION:The Brass Rail\, 1121 Broadway\, Fort Wayne\, IN\, 46802\, United States
GEO:41.0740622;-85.1478209
X-APPLE-STRUCTURED-LOCATION;VALUE=URI;X-ADDRESS=The Brass Rail 1121 Broadway Fort Wayne IN 46802 United States;X-APPLE-RADIUS=500;X-TITLE=1121 Broadway:geo:-85.1478209,41.0740622
END:VEVENT
BEGIN:VEVENT
DTSTART;TZID=UTC:20260524T210000
DTEND;TZID=UTC:20260524T235900
DTSTAMP:20260425T142203
CREATED:20260411T142738Z
LAST-MODIFIED:20260411T142738Z
UID:10002214-1779656400-1779667140@www.brassrailfw.com
SUMMARY:Thelma & The Sleaze\, Farmer Five
DESCRIPTION:
URL:https://www.brassrailfw.com/show/thelma-the-sleaze-farmer-five/
LOCATION:The Brass Rail\, 1121 Broadway\, Fort Wayne\, IN\, 46802\, United States
GEO:41.0740622;-85.1478209
X-APPLE-STRUCTURED-LOCATION;VALUE=URI;X-ADDRESS=The Brass Rail 1121 Broadway Fort Wayne IN 46802 United States;X-APPLE-RADIUS=500;X-TITLE=1121 Broadway:geo:-85.1478209,41.0740622
END:VEVENT
BEGIN:VEVENT
DTSTART;TZID=UTC:20260529T210000
DTEND;TZID=UTC:20260529T230000
DTSTAMP:20260425T142203
CREATED:20260403T213905Z
LAST-MODIFIED:20260403T213905Z
UID:10002211-1780088400-1780095600@www.brassrailfw.com
SUMMARY:(h) colin
DESCRIPTION:possible via facebook
URL:https://www.brassrailfw.com/show/h-colin-3/
LOCATION:The Brass Rail\, 1121 Broadway\, Fort Wayne\, IN\, 46802\, United States
GEO:41.0740622;-85.1478209
X-APPLE-STRUCTURED-LOCATION;VALUE=URI;X-ADDRESS=The Brass Rail 1121 Broadway Fort Wayne IN 46802 United States;X-APPLE-RADIUS=500;X-TITLE=1121 Broadway:geo:-85.1478209,41.0740622
END:VEVENT
BEGIN:VEVENT
DTSTART;TZID=UTC:20260530T210000
DTEND;TZID=UTC:20260530T235900
DTSTAMP:20260425T142203
CREATED:20260228T175153Z
LAST-MODIFIED:20260228T183459Z
UID:10002205-1780174800-1780185540@www.brassrailfw.com
SUMMARY:Chewy Lucas
DESCRIPTION:
URL:https://www.brassrailfw.com/show/chewy-lucas-2/
LOCATION:The Brass Rail\, 1121 Broadway\, Fort Wayne\, IN\, 46802\, United States
GEO:41.0740622;-85.1478209
X-APPLE-STRUCTURED-LOCATION;VALUE=URI;X-ADDRESS=The Brass Rail 1121 Broadway Fort Wayne IN 46802 United States;X-APPLE-RADIUS=500;X-TITLE=1121 Broadway:geo:-85.1478209,41.0740622
END:VEVENT
BEGIN:VEVENT
DTSTART;TZID=UTC:20260605T204500
DTEND;TZID=UTC:20260605T235900
DTSTAMP:20260425T142203
CREATED:20260111T202615Z
LAST-MODIFIED:20260204T195138Z
UID:10002188-1780692300-1780703940@www.brassrailfw.com
SUMMARY:Maximiano\, The Namby Pamby
DESCRIPTION:payton via email
URL:https://www.brassrailfw.com/show/maximiano-the-namby-pamby/
LOCATION:The Brass Rail\, 1121 Broadway\, Fort Wayne\, IN\, 46802\, United States
GEO:41.0740622;-85.1478209
X-APPLE-STRUCTURED-LOCATION;VALUE=URI;X-ADDRESS=The Brass Rail 1121 Broadway Fort Wayne IN 46802 United States;X-APPLE-RADIUS=500;X-TITLE=1121 Broadway:geo:-85.1478209,41.0740622
END:VEVENT
BEGIN:VEVENT
DTSTART;TZID=UTC:20260606T210000
DTEND;TZID=UTC:20260606T235900
DTSTAMP:20260425T142203
CREATED:20260204T195158Z
LAST-MODIFIED:20260204T195158Z
UID:10002197-1780779600-1780790340@www.brassrailfw.com
SUMMARY:(h) Jess
DESCRIPTION:
URL:https://www.brassrailfw.com/show/h-jess-23/
LOCATION:The Brass Rail\, 1121 Broadway\, Fort Wayne\, IN\, 46802\, United States
GEO:41.0740622;-85.1478209
X-APPLE-STRUCTURED-LOCATION;VALUE=URI;X-ADDRESS=The Brass Rail 1121 Broadway Fort Wayne IN 46802 United States;X-APPLE-RADIUS=500;X-TITLE=1121 Broadway:geo:-85.1478209,41.0740622
END:VEVENT
BEGIN:VEVENT
DTSTART;TZID=UTC:20260613T210000
DTEND;TZID=UTC:20260613T235900
DTSTAMP:20260425T142203
CREATED:20260403T213735Z
LAST-MODIFIED:20260403T213811Z
UID:10002210-1781384400-1781395140@www.brassrailfw.com
SUMMARY:(2nd H) Cloudmaker
DESCRIPTION:
URL:https://www.brassrailfw.com/show/2nd-h-cloudmaker/
LOCATION:The Brass Rail\, 1121 Broadway\, Fort Wayne\, IN\, 46802\, United States
GEO:41.0740622;-85.1478209
X-APPLE-STRUCTURED-LOCATION;VALUE=URI;X-ADDRESS=The Brass Rail 1121 Broadway Fort Wayne IN 46802 United States;X-APPLE-RADIUS=500;X-TITLE=1121 Broadway:geo:-85.1478209,41.0740622
END:VEVENT
BEGIN:VEVENT
DTSTART;TZID=UTC:20260620T210000
DTEND;TZID=UTC:20260620T235900
DTSTAMP:20260425T142203
CREATED:20260408T225819Z
LAST-MODIFIED:20260408T230426Z
UID:10002212-1781989200-1781999940@www.brassrailfw.com
SUMMARY:Staay Up
DESCRIPTION:
URL:https://www.brassrailfw.com/show/staay-up/
LOCATION:The Brass Rail\, 1121 Broadway\, Fort Wayne\, IN\, 46802\, United States
GEO:41.0740622;-85.1478209
X-APPLE-STRUCTURED-LOCATION;VALUE=URI;X-ADDRESS=The Brass Rail 1121 Broadway Fort Wayne IN 46802 United States;X-APPLE-RADIUS=500;X-TITLE=1121 Broadway:geo:-85.1478209,41.0740622
END:VEVENT
BEGIN:VEVENT
DTSTART;TZID=UTC:20260625T200000
DTEND;TZID=UTC:20260625T200000
DTSTAMP:20260425T142203
CREATED:20260403T212009Z
LAST-MODIFIED:20260403T213720Z
UID:10002209-1782417600-1782417600@www.brassrailfw.com
SUMMARY:(h) Drew T
DESCRIPTION:chicago country band
URL:https://www.brassrailfw.com/show/h-drew-t/
LOCATION:The Brass Rail\, 1121 Broadway\, Fort Wayne\, IN\, 46802\, United States
GEO:41.0740622;-85.1478209
X-APPLE-STRUCTURED-LOCATION;VALUE=URI;X-ADDRESS=The Brass Rail 1121 Broadway Fort Wayne IN 46802 United States;X-APPLE-RADIUS=500;X-TITLE=1121 Broadway:geo:-85.1478209,41.0740622
END:VEVENT
END:VCALENDAR