BEGIN:VCALENDAR
VERSION:2.0
PRODID:-//The Brass Rail - ECPv6.15.20//NONSGML v1.0//EN
CALSCALE:GREGORIAN
METHOD:PUBLISH
X-WR-CALNAME:The Brass Rail
X-ORIGINAL-URL:https://www.brassrailfw.com
X-WR-CALDESC:Events for The Brass Rail
REFRESH-INTERVAL;VALUE=DURATION:PT1H
X-Robots-Tag:noindex
X-PUBLISHED-TTL:PT1H
BEGIN:VTIMEZONE
TZID:UTC
BEGIN:STANDARD
TZOFFSETFROM:+0000
TZOFFSETTO:+0000
TZNAME:UTC
DTSTART:20230101T000000
END:STANDARD
END:VTIMEZONE
BEGIN:VEVENT
DTSTART;TZID=UTC:20240105T214500
DTEND;TZID=UTC:20240105T214500
DTSTAMP:20260426T041345
CREATED:20231127T220303Z
LAST-MODIFIED:20240105T125125Z
UID:10001822-1704491100-1704491100@www.brassrailfw.com
SUMMARY:**cancelled** Necromoon\, Cloudmaker\, Joyhouse
DESCRIPTION:Because of illness with some of the bands we’ll have to reschedule this show.  Tis the season.
URL:https://www.brassrailfw.com/show/necromoon-9/
LOCATION:The Brass Rail\, 1121 Broadway\, Fort Wayne\, IN\, 46802\, United States
ATTACH;FMTTYPE=image/jpeg:https://www.brassrailfw.com/wp-content/uploads/2023/11/2024_01_05-vert-necromoon.jpg
GEO:41.0740622;-85.1478209
X-APPLE-STRUCTURED-LOCATION;VALUE=URI;X-ADDRESS=The Brass Rail 1121 Broadway Fort Wayne IN 46802 United States;X-APPLE-RADIUS=500;X-TITLE=1121 Broadway:geo:-85.1478209,41.0740622
END:VEVENT
BEGIN:VEVENT
DTSTART;TZID=UTC:20240106T203000
DTEND;TZID=UTC:20240106T203000
DTSTAMP:20260426T041345
CREATED:20230817T134757Z
LAST-MODIFIED:20240102T024816Z
UID:10001776-1704573000-1704573000@www.brassrailfw.com
SUMMARY:Namby Pamby\, Thinning\, Ulna\,
DESCRIPTION:
URL:https://www.brassrailfw.com/show/namby-pamby-thinning-ulna/
LOCATION:The Brass Rail\, 1121 Broadway\, Fort Wayne\, IN\, 46802\, United States
ATTACH;FMTTYPE=image/jpeg:https://www.brassrailfw.com/wp-content/uploads/2023/08/Screenshot_2024-01-01-21-41-50-33_1c337646f29875672b5a61192b9010f9.jpg
GEO:41.0740622;-85.1478209
X-APPLE-STRUCTURED-LOCATION;VALUE=URI;X-ADDRESS=The Brass Rail 1121 Broadway Fort Wayne IN 46802 United States;X-APPLE-RADIUS=500;X-TITLE=1121 Broadway:geo:-85.1478209,41.0740622
END:VEVENT
BEGIN:VEVENT
DTSTART;TZID=UTC:20240112T210000
DTEND;TZID=UTC:20240112T210000
DTSTAMP:20260426T041345
CREATED:20230927T022458Z
LAST-MODIFIED:20240112T193116Z
UID:10001787-1705093200-1705093200@www.brassrailfw.com
SUMMARY:Swell Time\, Mickyle James
DESCRIPTION:SWELL TIME and Mickyle James \n$7 cover\, must be 21
URL:https://www.brassrailfw.com/show/chapped-lips/
LOCATION:The Brass Rail\, 1121 Broadway\, Fort Wayne\, IN\, 46802\, United States
ATTACH;FMTTYPE=image/jpeg:https://www.brassrailfw.com/wp-content/uploads/2023/09/2024_01_12-wide-Chapped-Lips.jpg
GEO:41.0740622;-85.1478209
X-APPLE-STRUCTURED-LOCATION;VALUE=URI;X-ADDRESS=The Brass Rail 1121 Broadway Fort Wayne IN 46802 United States;X-APPLE-RADIUS=500;X-TITLE=1121 Broadway:geo:-85.1478209,41.0740622
END:VEVENT
BEGIN:VEVENT
DTSTART;TZID=UTC:20240113T214500
DTEND;TZID=UTC:20240113T214500
DTSTAMP:20260426T041345
CREATED:20231019T142351Z
LAST-MODIFIED:20231227T211148Z
UID:10001802-1705182300-1705182300@www.brassrailfw.com
SUMMARY:Thumbrider\, Olivia Kramer\, Salt River
DESCRIPTION:$8 cover\, must be 21
URL:https://www.brassrailfw.com/show/h-michael-morgan/
LOCATION:The Brass Rail\, 1121 Broadway\, Fort Wayne\, IN\, 46802\, United States
ATTACH;FMTTYPE=image/jpeg:https://www.brassrailfw.com/wp-content/uploads/2023/10/2024_01_13-vert-Thumbrider-scaled.jpg
GEO:41.0740622;-85.1478209
X-APPLE-STRUCTURED-LOCATION;VALUE=URI;X-ADDRESS=The Brass Rail 1121 Broadway Fort Wayne IN 46802 United States;X-APPLE-RADIUS=500;X-TITLE=1121 Broadway:geo:-85.1478209,41.0740622
END:VEVENT
BEGIN:VEVENT
DTSTART;TZID=UTC:20240116T204500
DTEND;TZID=UTC:20240116T204500
DTSTAMP:20260426T041345
CREATED:20231106T181333Z
LAST-MODIFIED:20240110T025243Z
UID:10001808-1705437900-1705437900@www.brassrailfw.com
SUMMARY:Sundogsarah\, Roxy 2\, Abadeer
DESCRIPTION:$7 cover
URL:https://www.brassrailfw.com/show/sundogsarah/
LOCATION:The Brass Rail\, 1121 Broadway\, Fort Wayne\, IN\, 46802\, United States
ATTACH;FMTTYPE=image/jpeg:https://www.brassrailfw.com/wp-content/uploads/2023/11/640377DC-.jpg.jpeg
GEO:41.0740622;-85.1478209
X-APPLE-STRUCTURED-LOCATION;VALUE=URI;X-ADDRESS=The Brass Rail 1121 Broadway Fort Wayne IN 46802 United States;X-APPLE-RADIUS=500;X-TITLE=1121 Broadway:geo:-85.1478209,41.0740622
END:VEVENT
BEGIN:VEVENT
DTSTART;TZID=UTC:20240119T213000
DTEND;TZID=UTC:20240119T213000
DTSTAMP:20260426T041345
CREATED:20231031T200448Z
LAST-MODIFIED:20231222T143244Z
UID:10001806-1705699800-1705699800@www.brassrailfw.com
SUMMARY:Red Temple Pray\, Static Arm\, Second To Last
DESCRIPTION:21+ with ID\n$7 Cover at the Door\nBands Start at 10:00pm\nPerforming Live at:\nThe Brass Rail\n1121 Broadway St.\nFort Wayne\, IN 46802\nPresented by: Grande Gigs – https://www.facebook.com/grandegigs\nBands Include:\nStatic Arm (Fort Wayne) [Pop Punk]- https://www.instagram.com/staticarm_band\nRed Temple Pray (Columbus\, Ohio) [ALT ROCK]- https://www.facebook.com/redtemplepray\nIntroducing:\nSecond to Last (Fort Wayne) [Pop Punk] – https://www.facebook.com/SecondToLastFW
URL:https://www.brassrailfw.com/show/red-temple-pray/
LOCATION:The Brass Rail\, 1121 Broadway\, Fort Wayne\, IN\, 46802\, United States
ATTACH;FMTTYPE=image/jpeg:https://www.brassrailfw.com/wp-content/uploads/2023/10/2024_01_19-vert-Red-Temple-Pray.jpg
GEO:41.0740622;-85.1478209
X-APPLE-STRUCTURED-LOCATION;VALUE=URI;X-ADDRESS=The Brass Rail 1121 Broadway Fort Wayne IN 46802 United States;X-APPLE-RADIUS=500;X-TITLE=1121 Broadway:geo:-85.1478209,41.0740622
END:VEVENT
BEGIN:VEVENT
DTSTART;TZID=UTC:20240120T210000
DTEND;TZID=UTC:20240120T235900
DTSTAMP:20260426T041345
CREATED:20231114T022229Z
LAST-MODIFIED:20240116T015312Z
UID:10001810-1705784400-1705795140@www.brassrailfw.com
SUMMARY:Mac Day with J. Tubbs hosted by OG Killa Kels\, Clyde Cyrus
DESCRIPTION:$7 cover\, must be 21
URL:https://www.brassrailfw.com/show/mac-day-with-j-tubbs/
LOCATION:The Brass Rail\, 1121 Broadway\, Fort Wayne\, IN\, 46802\, United States
ATTACH;FMTTYPE=image/jpeg:https://www.brassrailfw.com/wp-content/uploads/2023/11/2024_01_20-vert-mac.jpg
GEO:41.0740622;-85.1478209
X-APPLE-STRUCTURED-LOCATION;VALUE=URI;X-ADDRESS=The Brass Rail 1121 Broadway Fort Wayne IN 46802 United States;X-APPLE-RADIUS=500;X-TITLE=1121 Broadway:geo:-85.1478209,41.0740622
END:VEVENT
BEGIN:VEVENT
DTSTART;TZID=UTC:20240126T210000
DTEND;TZID=UTC:20240126T235900
DTSTAMP:20260426T041345
CREATED:20230926T145704Z
LAST-MODIFIED:20240116T012316Z
UID:10001786-1706302800-1706313540@www.brassrailfw.com
SUMMARY:Overlook\, Loveseat\, The Reveal
DESCRIPTION:Live Original Music \n$7 cover\, must be 21
URL:https://www.brassrailfw.com/show/overlook-2/
LOCATION:The Brass Rail\, 1121 Broadway\, Fort Wayne\, IN\, 46802\, United States
ATTACH;FMTTYPE=image/jpeg:https://www.brassrailfw.com/wp-content/uploads/2023/09/2024_01_26-vert-overlook.jpg
GEO:41.0740622;-85.1478209
X-APPLE-STRUCTURED-LOCATION;VALUE=URI;X-ADDRESS=The Brass Rail 1121 Broadway Fort Wayne IN 46802 United States;X-APPLE-RADIUS=500;X-TITLE=1121 Broadway:geo:-85.1478209,41.0740622
END:VEVENT
BEGIN:VEVENT
DTSTART;TZID=UTC:20240127T213000
DTEND;TZID=UTC:20240127T213000
DTSTAMP:20260426T041345
CREATED:20231019T001410Z
LAST-MODIFIED:20240116T015014Z
UID:10001801-1706391000-1706391000@www.brassrailfw.com
SUMMARY:Antlerhead\, Weekend Run Club\, Private Education
DESCRIPTION:$7 cover\, must be 21
URL:https://www.brassrailfw.com/show/antlerhead-weekend-run-club/
LOCATION:The Brass Rail\, 1121 Broadway\, Fort Wayne\, IN\, 46802\, United States
ATTACH;FMTTYPE=image/jpeg:https://www.brassrailfw.com/wp-content/uploads/2023/10/2024_01_27-wide-antlerhead.jpg
GEO:41.0740622;-85.1478209
X-APPLE-STRUCTURED-LOCATION;VALUE=URI;X-ADDRESS=The Brass Rail 1121 Broadway Fort Wayne IN 46802 United States;X-APPLE-RADIUS=500;X-TITLE=1121 Broadway:geo:-85.1478209,41.0740622
END:VEVENT
END:VCALENDAR