BEGIN:VCALENDAR
VERSION:2.0
PRODID:-//The Brass Rail - ECPv6.15.20//NONSGML v1.0//EN
CALSCALE:GREGORIAN
METHOD:PUBLISH
X-ORIGINAL-URL:https://www.brassrailfw.com
X-WR-CALDESC:Events for The Brass Rail
REFRESH-INTERVAL;VALUE=DURATION:PT1H
X-Robots-Tag:noindex
X-PUBLISHED-TTL:PT1H
BEGIN:VTIMEZONE
TZID:UTC
BEGIN:STANDARD
TZOFFSETFROM:+0000
TZOFFSETTO:+0000
TZNAME:UTC
DTSTART:20230101T000000
END:STANDARD
END:VTIMEZONE
BEGIN:VEVENT
DTSTART;TZID=UTC:20240301T214500
DTEND;TZID=UTC:20240301T214500
DTSTAMP:20260426T014902
CREATED:20240116T175519Z
LAST-MODIFIED:20240220T022713Z
UID:10001850-1709329500-1709329500@www.brassrailfw.com
SUMMARY:Metavari / March On\, Comrade / Necromoon
DESCRIPTION:$7 cover\, must be 21
URL:https://www.brassrailfw.com/show/march-on-comrade-6/
LOCATION:The Brass Rail\, 1121 Broadway\, Fort Wayne\, IN\, 46802\, United States
ATTACH;FMTTYPE=image/jpeg:https://www.brassrailfw.com/wp-content/uploads/2024/01/2024_03_01-vert-metavari.jpg
GEO:41.0740622;-85.1478209
X-APPLE-STRUCTURED-LOCATION;VALUE=URI;X-ADDRESS=The Brass Rail 1121 Broadway Fort Wayne IN 46802 United States;X-APPLE-RADIUS=500;X-TITLE=1121 Broadway:geo:-85.1478209,41.0740622
END:VEVENT
BEGIN:VEVENT
DTSTART;TZID=UTC:20240302T214500
DTEND;TZID=UTC:20240302T214500
DTSTAMP:20260426T014902
CREATED:20231207T185847Z
LAST-MODIFIED:20240220T032527Z
UID:10001826-1709415900-1709415900@www.brassrailfw.com
SUMMARY:The Be Colony\, Evan Lee
DESCRIPTION:EP Release Show
URL:https://www.brassrailfw.com/show/h-the-be-colony-4/
LOCATION:The Brass Rail\, 1121 Broadway\, Fort Wayne\, IN\, 46802\, United States
ATTACH;FMTTYPE=image/jpeg:https://www.brassrailfw.com/wp-content/uploads/2023/12/2024_03_02-vert-the-be-colony.jpg
GEO:41.0740622;-85.1478209
X-APPLE-STRUCTURED-LOCATION;VALUE=URI;X-ADDRESS=The Brass Rail 1121 Broadway Fort Wayne IN 46802 United States;X-APPLE-RADIUS=500;X-TITLE=1121 Broadway:geo:-85.1478209,41.0740622
END:VEVENT
BEGIN:VEVENT
DTSTART;TZID=UTC:20240307T203000
DTEND;TZID=UTC:20240307T203000
DTSTAMP:20260426T014902
CREATED:20240218T151003Z
LAST-MODIFIED:20240218T151003Z
UID:10001875-1709843400-1709843400@www.brassrailfw.com
SUMMARY:John & Ben Carroake
DESCRIPTION:
URL:https://www.brassrailfw.com/show/john-ben-carroake/
LOCATION:The Brass Rail\, 1121 Broadway\, Fort Wayne\, IN\, 46802\, United States
GEO:41.0740622;-85.1478209
X-APPLE-STRUCTURED-LOCATION;VALUE=URI;X-ADDRESS=The Brass Rail 1121 Broadway Fort Wayne IN 46802 United States;X-APPLE-RADIUS=500;X-TITLE=1121 Broadway:geo:-85.1478209,41.0740622
END:VEVENT
BEGIN:VEVENT
DTSTART;TZID=UTC:20240308T213000
DTEND;TZID=UTC:20240308T213000
DTSTAMP:20260426T014902
CREATED:20231227T014501Z
LAST-MODIFIED:20240228T231122Z
UID:10001836-1709933400-1709933400@www.brassrailfw.com
SUMMARY:Mighty Vices\, When The Sun Sets\, Years Later
DESCRIPTION:$8 cover\, must be 21
URL:https://www.brassrailfw.com/show/mighty-vices/
LOCATION:The Brass Rail\, 1121 Broadway\, Fort Wayne\, IN\, 46802\, United States
ATTACH;FMTTYPE=image/png:https://www.brassrailfw.com/wp-content/uploads/2023/12/2024_03_08-vert-mighty-vices-Copy-7-Copy.png
GEO:41.0740622;-85.1478209
X-APPLE-STRUCTURED-LOCATION;VALUE=URI;X-ADDRESS=The Brass Rail 1121 Broadway Fort Wayne IN 46802 United States;X-APPLE-RADIUS=500;X-TITLE=1121 Broadway:geo:-85.1478209,41.0740622
END:VEVENT
BEGIN:VEVENT
DTSTART;TZID=UTC:20240309T214500
DTEND;TZID=UTC:20240309T214500
DTSTAMP:20260426T014902
CREATED:20231218T173453Z
LAST-MODIFIED:20231218T173544Z
UID:10001833-1710020700-1710020700@www.brassrailfw.com
SUMMARY:Middle Names\, Olivia Kramer\, Chewy Lucas
DESCRIPTION:
URL:https://www.brassrailfw.com/show/middle-names-olivia-kramer-chewy-lucas/
LOCATION:The Brass Rail\, 1121 Broadway\, Fort Wayne\, IN\, 46802\, United States
GEO:41.0740622;-85.1478209
X-APPLE-STRUCTURED-LOCATION;VALUE=URI;X-ADDRESS=The Brass Rail 1121 Broadway Fort Wayne IN 46802 United States;X-APPLE-RADIUS=500;X-TITLE=1121 Broadway:geo:-85.1478209,41.0740622
END:VEVENT
BEGIN:VEVENT
DTSTART;TZID=UTC:20240315T210000
DTEND;TZID=UTC:20240315T210000
DTSTAMP:20260426T014902
CREATED:20231019T001214Z
LAST-MODIFIED:20240315T181958Z
UID:10001800-1710536400-1710536400@www.brassrailfw.com
SUMMARY:Abadeer\, Placeholder
DESCRIPTION:$7 cover\, must be 21
URL:https://www.brassrailfw.com/show/public-universal-friend-indianapolis-the-namby-pamby/
LOCATION:The Brass Rail\, 1121 Broadway\, Fort Wayne\, IN\, 46802\, United States
ATTACH;FMTTYPE=image/png:https://www.brassrailfw.com/wp-content/uploads/2023/10/Screenshot-2024-03-15-135346.png
GEO:41.0740622;-85.1478209
X-APPLE-STRUCTURED-LOCATION;VALUE=URI;X-ADDRESS=The Brass Rail 1121 Broadway Fort Wayne IN 46802 United States;X-APPLE-RADIUS=500;X-TITLE=1121 Broadway:geo:-85.1478209,41.0740622
END:VEVENT
BEGIN:VEVENT
DTSTART;TZID=UTC:20240316T214500
DTEND;TZID=UTC:20240316T214500
DTSTAMP:20260426T014902
CREATED:20231119T233115Z
LAST-MODIFIED:20240312T194728Z
UID:10001814-1710625500-1710625500@www.brassrailfw.com
SUMMARY:Unlikely Alibi with The Essentials
DESCRIPTION:Unlikely Alibi at The Brass Rail\, with very special guests The Essentials (Toledo’s finest reggae/rocksteady)\n\n\nFort Wayne\, Indiana
URL:https://www.brassrailfw.com/show/unlikely-alibi-7/
LOCATION:The Brass Rail\, 1121 Broadway\, Fort Wayne\, IN\, 46802\, United States
ATTACH;FMTTYPE=image/jpeg:https://www.brassrailfw.com/wp-content/uploads/2023/11/409126681_812867193985963_6110610232210649067_n.jpg
GEO:41.0740622;-85.1478209
X-APPLE-STRUCTURED-LOCATION;VALUE=URI;X-ADDRESS=The Brass Rail 1121 Broadway Fort Wayne IN 46802 United States;X-APPLE-RADIUS=500;X-TITLE=1121 Broadway:geo:-85.1478209,41.0740622
END:VEVENT
BEGIN:VEVENT
DTSTART;TZID=UTC:20240322T214500
DTEND;TZID=UTC:20240322T214500
DTSTAMP:20260426T014902
CREATED:20240116T230214Z
LAST-MODIFIED:20240312T201741Z
UID:10001851-1711143900-1711143900@www.brassrailfw.com
SUMMARY:Cloudmaker\, Twice Dark\, Adam Araque
DESCRIPTION:$7 cover\, must be 21
URL:https://www.brassrailfw.com/show/cloudmaker-twice-dark/
LOCATION:The Brass Rail\, 1121 Broadway\, Fort Wayne\, IN\, 46802\, United States
ATTACH;FMTTYPE=image/png:https://www.brassrailfw.com/wp-content/uploads/2024/01/CLOUDMAKER-TWICE-DARK-ADAM-ARAQUE-1.png
GEO:41.0740622;-85.1478209
X-APPLE-STRUCTURED-LOCATION;VALUE=URI;X-ADDRESS=The Brass Rail 1121 Broadway Fort Wayne IN 46802 United States;X-APPLE-RADIUS=500;X-TITLE=1121 Broadway:geo:-85.1478209,41.0740622
END:VEVENT
BEGIN:VEVENT
DTSTART;TZID=UTC:20240323T214500
DTEND;TZID=UTC:20240323T214500
DTSTAMP:20260426T014902
CREATED:20231210T171608Z
LAST-MODIFIED:20240312T204830Z
UID:10001828-1711230300-1711230300@www.brassrailfw.com
SUMMARY:Caley Conway\, Cathedral Becomes Tomb\, Quiet/Creator
DESCRIPTION:$7 cover\, must be 21
URL:https://www.brassrailfw.com/show/caley-conway-cathedral-becomes-tomb/
LOCATION:The Brass Rail\, 1121 Broadway\, Fort Wayne\, IN\, 46802\, United States
ATTACH;FMTTYPE=image/png:https://www.brassrailfw.com/wp-content/uploads/2023/12/Screenshot-2024-03-12-164246.png
GEO:41.0740622;-85.1478209
X-APPLE-STRUCTURED-LOCATION;VALUE=URI;X-ADDRESS=The Brass Rail 1121 Broadway Fort Wayne IN 46802 United States;X-APPLE-RADIUS=500;X-TITLE=1121 Broadway:geo:-85.1478209,41.0740622
END:VEVENT
BEGIN:VEVENT
DTSTART;TZID=UTC:20240326T200000
DTEND;TZID=UTC:20240326T200000
DTSTAMP:20260426T014902
CREATED:20231116T222403Z
LAST-MODIFIED:20240312T202929Z
UID:10001812-1711483200-1711483200@www.brassrailfw.com
SUMMARY:The Namby Pamby\, Mol Sullivan (Cinci)\, Hello Sapien (Cinci)
DESCRIPTION:$7 cover\, must be 21
URL:https://www.brassrailfw.com/show/the-namby-pamby-mol-sullivan-cinci-hello-sapien-cinci/
LOCATION:The Brass Rail\, 1121 Broadway\, Fort Wayne\, IN\, 46802\, United States
ATTACH;FMTTYPE=image/png:https://www.brassrailfw.com/wp-content/uploads/2023/11/Screenshot-2024-03-12-162827.png
GEO:41.0740622;-85.1478209
X-APPLE-STRUCTURED-LOCATION;VALUE=URI;X-ADDRESS=The Brass Rail 1121 Broadway Fort Wayne IN 46802 United States;X-APPLE-RADIUS=500;X-TITLE=1121 Broadway:geo:-85.1478209,41.0740622
END:VEVENT
BEGIN:VEVENT
DTSTART;TZID=UTC:20240329T213000
DTEND;TZID=UTC:20240329T213000
DTSTAMP:20260426T014902
CREATED:20231203T155440Z
LAST-MODIFIED:20240313T172015Z
UID:10001825-1711747800-1711747800@www.brassrailfw.com
SUMMARY:Macho\, The Holy Nothing\, Flamingo Nosebleed
DESCRIPTION:Macho (dirty-gritty rock-n-roll)\nhttps://machodetroit.bandcamp.com/album/ep-iii \nThe Holy Nothing (hardcore)\nhttps://theholynothing.bandcamp.com/ \nFlamingo Nosebleed (punk)\nhttps://flamingonosebleedpunk.bandcamp.com/ \nposter by Craig Horky \n$7 cover\, must be 21
URL:https://www.brassrailfw.com/show/machodetroit/
LOCATION:The Brass Rail\, 1121 Broadway\, Fort Wayne\, IN\, 46802\, United States
ATTACH;FMTTYPE=image/jpeg:https://www.brassrailfw.com/wp-content/uploads/2023/12/423541652_430362316022765_1806756521499396178_n.jpg
GEO:41.0740622;-85.1478209
X-APPLE-STRUCTURED-LOCATION;VALUE=URI;X-ADDRESS=The Brass Rail 1121 Broadway Fort Wayne IN 46802 United States;X-APPLE-RADIUS=500;X-TITLE=1121 Broadway:geo:-85.1478209,41.0740622
END:VEVENT
BEGIN:VEVENT
DTSTART;TZID=UTC:20240330T214500
DTEND;TZID=UTC:20240330T214500
DTSTAMP:20260426T014902
CREATED:20240110T214348Z
LAST-MODIFIED:20240317T001526Z
UID:10001845-1711835100-1711835100@www.brassrailfw.com
SUMMARY:Los Electro with Leones
DESCRIPTION:Live Original Music with\nLos Electro – A Band full of Latinos playing Latin Rock and Psychedelic Cumbia for the Soul \nhttps://solo.to/loselectro\nLeones – Indiana 3 Piece\nhttps://linktr.ee/leonesin\n$8 cover\, must be 21
URL:https://www.brassrailfw.com/show/los-electros-2/
LOCATION:The Brass Rail\, 1121 Broadway\, Fort Wayne\, IN\, 46802\, United States
ATTACH;FMTTYPE=image/jpeg:https://www.brassrailfw.com/wp-content/uploads/2024/01/2024_03_30-vert-Los-Electros.jpg
GEO:41.0740622;-85.1478209
X-APPLE-STRUCTURED-LOCATION;VALUE=URI;X-ADDRESS=The Brass Rail 1121 Broadway Fort Wayne IN 46802 United States;X-APPLE-RADIUS=500;X-TITLE=1121 Broadway:geo:-85.1478209,41.0740622
END:VEVENT
BEGIN:VEVENT
DTSTART;TZID=UTC:20240331T200000
DTEND;TZID=UTC:20240331T235900
DTSTAMP:20260426T014902
CREATED:20230825T165835Z
LAST-MODIFIED:20240314T024443Z
UID:10001781-1711915200-1711929540@www.brassrailfw.com
SUMMARY:Shadow Show\, Uncle Muscle\, Necromoon
DESCRIPTION:Live Original Music with \nShadow Show\nshadowshow-detroit.bandcamp.com \nHailing from Detroit\, Shadow Show is an uncompromising power trio that combines elements of 60’s garage-psychedelia into a 21st century modern pop-art incarnation. Sleek and spellbinding\, the music sweeps you up into frenetic grooves and dazzling harmonies. Their music pushes the boundaries of what can be\, yet remains deeply rooted in the raw\, untouchable Detroit sound. \nUncle Muscle\nunclemuscle.bandcamp.com \nNecromoon\nnecromoon.bandcamp.com
URL:https://www.brassrailfw.com/show/shadow-show/
LOCATION:The Brass Rail\, 1121 Broadway\, Fort Wayne\, IN\, 46802\, United States
ATTACH;FMTTYPE=image/jpeg:https://www.brassrailfw.com/wp-content/uploads/2023/08/2024_03_31-vert-Shadow-Show.jpeg
GEO:41.0740622;-85.1478209
X-APPLE-STRUCTURED-LOCATION;VALUE=URI;X-ADDRESS=The Brass Rail 1121 Broadway Fort Wayne IN 46802 United States;X-APPLE-RADIUS=500;X-TITLE=1121 Broadway:geo:-85.1478209,41.0740622
END:VEVENT
END:VCALENDAR