BEGIN:VCALENDAR
VERSION:2.0
PRODID:-//The Brass Rail - ECPv6.15.20//NONSGML v1.0//EN
CALSCALE:GREGORIAN
METHOD:PUBLISH
X-ORIGINAL-URL:https://www.brassrailfw.com
X-WR-CALDESC:Events for The Brass Rail
REFRESH-INTERVAL;VALUE=DURATION:PT1H
X-Robots-Tag:noindex
X-PUBLISHED-TTL:PT1H
BEGIN:VTIMEZONE
TZID:UTC
BEGIN:STANDARD
TZOFFSETFROM:+0000
TZOFFSETTO:+0000
TZNAME:UTC
DTSTART:20230101T000000
END:STANDARD
END:VTIMEZONE
BEGIN:VEVENT
DTSTART;TZID=UTC:20240601T214500
DTEND;TZID=UTC:20240601T214500
DTSTAMP:20260425T215323
CREATED:20240130T150433Z
LAST-MODIFIED:20240423T015235Z
UID:10001866-1717278300-1717278300@www.brassrailfw.com
SUMMARY:The Lurking Corpses\, Wastelander\, The Tentakills\, Strange Waters
DESCRIPTION:
URL:https://www.brassrailfw.com/show/the-lurking-corpses-2/
LOCATION:The Brass Rail\, 1121 Broadway\, Fort Wayne\, IN\, 46802\, United States
ATTACH;FMTTYPE=image/jpeg:https://www.brassrailfw.com/wp-content/uploads/2024/01/2024_06_01-vert-Lurking-Corpses-Copy-6-Copy.jpg
GEO:41.0740622;-85.1478209
X-APPLE-STRUCTURED-LOCATION;VALUE=URI;X-ADDRESS=The Brass Rail 1121 Broadway Fort Wayne IN 46802 United States;X-APPLE-RADIUS=500;X-TITLE=1121 Broadway:geo:-85.1478209,41.0740622
END:VEVENT
BEGIN:VEVENT
DTSTART;TZID=UTC:20240604T210000
DTEND;TZID=UTC:20240604T210000
DTSTAMP:20260425T215323
CREATED:20240422T012141Z
LAST-MODIFIED:20240422T012141Z
UID:10001906-1717534800-1717534800@www.brassrailfw.com
SUMMARY:Carraoke
DESCRIPTION:
URL:https://www.brassrailfw.com/show/carraoke/
LOCATION:The Brass Rail\, 1121 Broadway\, Fort Wayne\, IN\, 46802\, United States
GEO:41.0740622;-85.1478209
X-APPLE-STRUCTURED-LOCATION;VALUE=URI;X-ADDRESS=The Brass Rail 1121 Broadway Fort Wayne IN 46802 United States;X-APPLE-RADIUS=500;X-TITLE=1121 Broadway:geo:-85.1478209,41.0740622
END:VEVENT
BEGIN:VEVENT
DTSTART;TZID=UTC:20240606T210000
DTEND;TZID=UTC:20240606T210000
DTSTAMP:20260425T215323
CREATED:20240416T232910Z
LAST-MODIFIED:20240522T025753Z
UID:10001904-1717707600-1717707600@www.brassrailfw.com
SUMMARY:For Darlene\, Mckenna Parks\, Midwest Suburbanized Sasquatch
DESCRIPTION:
URL:https://www.brassrailfw.com/show/h-skylar/
LOCATION:The Brass Rail\, 1121 Broadway\, Fort Wayne\, IN\, 46802\, United States
GEO:41.0740622;-85.1478209
X-APPLE-STRUCTURED-LOCATION;VALUE=URI;X-ADDRESS=The Brass Rail 1121 Broadway Fort Wayne IN 46802 United States;X-APPLE-RADIUS=500;X-TITLE=1121 Broadway:geo:-85.1478209,41.0740622
END:VEVENT
BEGIN:VEVENT
DTSTART;TZID=UTC:20240607T214500
DTEND;TZID=UTC:20240607T214500
DTSTAMP:20260425T215323
CREATED:20240118T165144Z
LAST-MODIFIED:20240525T172831Z
UID:10001853-1717796700-1717796700@www.brassrailfw.com
SUMMARY:Man of The Flood\, Abadeer\, Maren
DESCRIPTION:$7 cover\, must be 21
URL:https://www.brassrailfw.com/show/anthoney-giraldi/
LOCATION:The Brass Rail\, 1121 Broadway\, Fort Wayne\, IN\, 46802\, United States
ATTACH;FMTTYPE=image/jpeg:https://www.brassrailfw.com/wp-content/uploads/2024/01/2024_06_07-vert-man-of-the-flood.jpg
GEO:41.0740622;-85.1478209
X-APPLE-STRUCTURED-LOCATION;VALUE=URI;X-ADDRESS=The Brass Rail 1121 Broadway Fort Wayne IN 46802 United States;X-APPLE-RADIUS=500;X-TITLE=1121 Broadway:geo:-85.1478209,41.0740622
END:VEVENT
BEGIN:VEVENT
DTSTART;TZID=UTC:20240608T213000
DTEND;TZID=UTC:20240608T213000
DTSTAMP:20260425T215323
CREATED:20240201T020119Z
LAST-MODIFIED:20240321T144817Z
UID:10001867-1717882200-1717882200@www.brassrailfw.com
SUMMARY:The High Curbs with Loveseat
DESCRIPTION:$12 advance no-fee tickets.   $15 day of show \nThe High Curbs are a staple of the Southern California music scene. The band\nwas formed by Ed Moreno and Aaron Korbe in 2013 as young teens in the\nsuburban landscape known as the Inland Empire. Alberto joined them\nAlvarenga when the band began to tour in 2016\, he’s remained a pillar to the\ngroup ever since. In recent years\, the band welcomed Kenny Huerta on bass and\nTaylor Hecocks of King Shelter on second guitar. The band has put out a massive\ncollection of music throughout the last decade\, releasing 3 records\, a series of\nsingles\, and EPs. \nThe High Curbs have gathered notoriety over song” Want” thanks to Thrasher’s\n“King of the road”. \nThe band is currently working on a new record set to release sometime in 2024. \nPlaying with LOVESEAT\nhttps://linktr.ee/loveseet \nhttps://linktr.ee/TheHighCurbs \n  \nBuy Tickets Online\nbrassrailfw.ticketleap.com/highcurbs/
URL:https://www.brassrailfw.com/show/highcurbs/
LOCATION:The Brass Rail\, 1121 Broadway\, Fort Wayne\, IN\, 46802\, United States
ATTACH;FMTTYPE=image/jpeg:https://www.brassrailfw.com/wp-content/uploads/2024/02/Photo-Alternate-–-High-Curbs-1-scaled.jpg
GEO:41.0740622;-85.1478209
X-APPLE-STRUCTURED-LOCATION;VALUE=URI;X-ADDRESS=The Brass Rail 1121 Broadway Fort Wayne IN 46802 United States;X-APPLE-RADIUS=500;X-TITLE=1121 Broadway:geo:-85.1478209,41.0740622
END:VEVENT
BEGIN:VEVENT
DTSTART;TZID=UTC:20240614T213000
DTEND;TZID=UTC:20240614T213000
DTSTAMP:20260425T215323
CREATED:20240405T021513Z
LAST-MODIFIED:20240612T145418Z
UID:10001898-1718400600-1718400600@www.brassrailfw.com
SUMMARY:Los Electro\, Eli Khan\, The Erly
DESCRIPTION:$7 cover\, must be 21
URL:https://www.brassrailfw.com/show/h-los-electros/
LOCATION:The Brass Rail\, 1121 Broadway\, Fort Wayne\, IN\, 46802\, United States
ATTACH;FMTTYPE=image/jpeg:https://www.brassrailfw.com/wp-content/uploads/2024/04/Los-Electro.jpg
GEO:41.0740622;-85.1478209
X-APPLE-STRUCTURED-LOCATION;VALUE=URI;X-ADDRESS=The Brass Rail 1121 Broadway Fort Wayne IN 46802 United States;X-APPLE-RADIUS=500;X-TITLE=1121 Broadway:geo:-85.1478209,41.0740622
END:VEVENT
BEGIN:VEVENT
DTSTART;TZID=UTC:20240615T214500
DTEND;TZID=UTC:20240615T214500
DTSTAMP:20260425T215323
CREATED:20240120T214548Z
LAST-MODIFIED:20240525T174408Z
UID:10001854-1718487900-1718487900@www.brassrailfw.com
SUMMARY:Piques\, Mudland\, Frogman & The Friends of Frogman
DESCRIPTION:
URL:https://www.brassrailfw.com/show/piques-mudland-frogman-the-friends-of-frogman/
LOCATION:The Brass Rail\, 1121 Broadway\, Fort Wayne\, IN\, 46802\, United States
ATTACH;FMTTYPE=image/jpeg:https://www.brassrailfw.com/wp-content/uploads/2024/01/2024_06_15-vert-piques-Copy-9.jpg
GEO:41.0740622;-85.1478209
X-APPLE-STRUCTURED-LOCATION;VALUE=URI;X-ADDRESS=The Brass Rail 1121 Broadway Fort Wayne IN 46802 United States;X-APPLE-RADIUS=500;X-TITLE=1121 Broadway:geo:-85.1478209,41.0740622
END:VEVENT
BEGIN:VEVENT
DTSTART;TZID=UTC:20240619T200000
DTEND;TZID=UTC:20240619T200000
DTSTAMP:20260425T215323
CREATED:20240222T175809Z
LAST-MODIFIED:20240327T022657Z
UID:10001877-1718827200-1718827200@www.brassrailfw.com
SUMMARY:Cloakroom\, Necroom\, Pale Shade
DESCRIPTION:$12.00 no-fee tickets on sale now.  $15 day of show \nCloakroom celebrate their tenth anniversary as a band with their new album\, Dissolution Wave. \nDissolution Wave is a concept – a space western in which an act of theoretical physics—the dissolution wave—wipes out all of humanity’s existing art and abstract thought. In order to keep the world spinning on its axis\, songsmiths must fill the ether with their compositions. Meanwhile\, the Spire and Ward of Song act as a filter for human imagination: Only the best material can pass through the filter and keep the world turning. \nThis is the universe that Cloakroom guitarist/vocalist Doyle Martin conceived as a way of processing the last few years. “We lost a couple of close friends over the course of writing this record\,” he says. “Dreaming up another world felt easier to digest than the real nitty-gritty we’re immersed in every day.” \nWith lyrics based on an imagined cosmology\, Dissolution Wave also marks a grand expansion of Cloakroom’s dreamy space-rock palette. Written from the perspective of the album’s protagonist—an asteroid miner who writes songs by night—”A Force at Play” has an airy\, pastoral feel. Meanwhile\, the melancholy title track captures the miner’s regret as they lament that they signed up for such a long stint on the job\, while closer “Dissembler” describes their anxiety about the revelator who will judge their work. “If you don’t write a good enough song in this universe\, you run the risk of being forgotten and lose the opportunity to return as a meaningful form of life\,” Martin explains. The stakes have never been higher! \nPlaying With \nNecromoon\nhttps://necromoon.bandcamp.com/ \nPale Shade\nhttps://www.instagram.com/_paleshade/ \nMust be 21 to attend
URL:https://www.brassrailfw.com/show/cloakroom/
LOCATION:The Brass Rail\, 1121 Broadway\, Fort Wayne\, IN\, 46802\, United States
ATTACH;FMTTYPE=image/jpeg:https://www.brassrailfw.com/wp-content/uploads/2024/02/cloakroom_vin_romero_2022_1-2-scaled.jpg
GEO:41.0740622;-85.1478209
X-APPLE-STRUCTURED-LOCATION;VALUE=URI;X-ADDRESS=The Brass Rail 1121 Broadway Fort Wayne IN 46802 United States;X-APPLE-RADIUS=500;X-TITLE=1121 Broadway:geo:-85.1478209,41.0740622
END:VEVENT
BEGIN:VEVENT
DTSTART;TZID=UTC:20240620T203000
DTEND;TZID=UTC:20240620T235900
DTSTAMP:20260425T215323
CREATED:20240206T180321Z
LAST-MODIFIED:20240318T163828Z
UID:10001871-1718915400-1718927940@www.brassrailfw.com
SUMMARY:Connor Kelly\, Nick Allison And The Players Lounge
DESCRIPTION:
URL:https://www.brassrailfw.com/show/h-connor-kelley/
LOCATION:The Brass Rail\, 1121 Broadway\, Fort Wayne\, IN\, 46802\, United States
GEO:41.0740622;-85.1478209
X-APPLE-STRUCTURED-LOCATION;VALUE=URI;X-ADDRESS=The Brass Rail 1121 Broadway Fort Wayne IN 46802 United States;X-APPLE-RADIUS=500;X-TITLE=1121 Broadway:geo:-85.1478209,41.0740622
END:VEVENT
BEGIN:VEVENT
DTSTART;TZID=UTC:20240621T210000
DTEND;TZID=UTC:20240621T210000
DTSTAMP:20260425T215323
CREATED:20240312T202545Z
LAST-MODIFIED:20240522T010659Z
UID:10001886-1719003600-1719003600@www.brassrailfw.com
SUMMARY:Messer Chups\, Big Jaw
DESCRIPTION:$7 no-fee advance tickets on sale now.  $9 day of show \nMesser Chups is an experimental band from St.Petersburg\, Russia and Clint Roth’s band BIG JAW \nMesser Chups was founded by Oleg Gitarkin who had previously performed with Oleg Kostrow under the name of Messer für Frau Müller. Messer Chups is often considered a “spin-off” band of Messer für Frau Müller. \nThe band was originally a duo of Gitarkin on bass guitar and Annette Schneider who played the synths. In period 2000-2002 Messer Chups consisits of Gitarkin and Igir Vdovin on Synth.In 2003\, the producer of Messer Chups and head of homelabel Solnze Records\, Oleg Tarasov\, invited the world famous theremin player\, Lydia Kavina\, to join them. \nTogether they have released several albums and reworked their previous releases. In 2005\, Messer Chups became a duo consisting of Gitarkin and ZombieGirl on bass. In 2007\, they became a trio\, with drummer Denis “Kashey” Kuptzov from the famous band\, Leningrad. \nIn 2008\, they changed their drummer to Alexander Belkok\, and Alexander Skvortzov became their vocalist.Messer Chups’ music often features a fundament of surf drums on which they build collages of samples from odd sources\, like circus music\, jazz\, east European animation soundtracks\, and American B-pictures. \nOn top of that they lay solos from guitar and theremin. The overall effect is one of loving parody and good fun. \nBig Jaw describes themselves as “If Paul Simon Joined AC/DC but refused to help with lyrics = Big Jaw”\nhttps://bigjaw.bandcamp.com/
URL:https://www.brassrailfw.com/show/messer-chups/
LOCATION:The Brass Rail\, 1121 Broadway\, Fort Wayne\, IN\, 46802\, United States
ATTACH;FMTTYPE=image/jpeg:https://www.brassrailfw.com/wp-content/uploads/2024/03/Messer-Chups-2023.jpg
GEO:41.0740622;-85.1478209
X-APPLE-STRUCTURED-LOCATION;VALUE=URI;X-ADDRESS=The Brass Rail 1121 Broadway Fort Wayne IN 46802 United States;X-APPLE-RADIUS=500;X-TITLE=1121 Broadway:geo:-85.1478209,41.0740622
END:VEVENT
BEGIN:VEVENT
DTSTART;TZID=UTC:20240622T200000
DTEND;TZID=UTC:20240622T213000
DTSTAMP:20260425T215323
CREATED:20240206T180353Z
LAST-MODIFIED:20240612T025641Z
UID:10001872-1719086400-1719091800@www.brassrailfw.com
SUMMARY:Etymon\, The Igloos\, Placeholder
DESCRIPTION:Live Original Music with \nEtymon\ninstagram.com/etymonsg/\nThe Igloos\ninstagram.com/theigloosband/\nPlaceholder\ninstagram.com/yourplaceholder/ \n$7 cover\, must be 21\ndoors at 8pm
URL:https://www.brassrailfw.com/show/h-jess-11/
LOCATION:The Brass Rail\, 1121 Broadway\, Fort Wayne\, IN\, 46802\, United States
ATTACH;FMTTYPE=image/jpeg:https://www.brassrailfw.com/wp-content/uploads/2024/02/2024_06_22-vert-etymon-Copy-9.jpg
GEO:41.0740622;-85.1478209
X-APPLE-STRUCTURED-LOCATION;VALUE=URI;X-ADDRESS=The Brass Rail 1121 Broadway Fort Wayne IN 46802 United States;X-APPLE-RADIUS=500;X-TITLE=1121 Broadway:geo:-85.1478209,41.0740622
END:VEVENT
BEGIN:VEVENT
DTSTART;TZID=UTC:20240624T203000
DTEND;TZID=UTC:20240624T203000
DTSTAMP:20260425T215323
CREATED:20240226T000635Z
LAST-MODIFIED:20240624T020414Z
UID:10001878-1719261000-1719261000@www.brassrailfw.com
SUMMARY:Good Looks (austin)\, Love Seat
DESCRIPTION:$7 cover\, must be 21 \nGood Looks\ngoodlooksband.com \nToday\, the Austin\, Texas rock quartet Good Looks announce their electric new album Lived Here For A While\, out June 7th via Keeled Scales\, and share its lead single/video\, “If It’s Gone.” The follow-up to Good Looks’ critically acclaimed 2022 debut Bummer Year\, Lived Here For A While trades the Americana sound that colored in the lines of their debut for clanging post-punk guitars and expansive indie rock. The album was tracked at Texas’ Dandy Sounds with producer/engineer Dan Duszynski (of Loma and Cross Record). Frontman Tyler Jordan’s primary focus on Lived Here For A While is dissecting relationships of all kinds: familial\, platonic\, creative\, and romantic. \nWith Love Seat\nhttps://www.instagram.com/lovethatseat/ \n 
URL:https://www.brassrailfw.com/show/goodlucks/
LOCATION:The Brass Rail\, 1121 Broadway\, Fort Wayne\, IN\, 46802\, United States
ATTACH;FMTTYPE=image/jpeg:https://www.brassrailfw.com/wp-content/uploads/2024/02/Good-Looks-by-Jackie-Lee-Young-alternate-scaled.jpg
GEO:41.0740622;-85.1478209
X-APPLE-STRUCTURED-LOCATION;VALUE=URI;X-ADDRESS=The Brass Rail 1121 Broadway Fort Wayne IN 46802 United States;X-APPLE-RADIUS=500;X-TITLE=1121 Broadway:geo:-85.1478209,41.0740622
END:VEVENT
BEGIN:VEVENT
DTSTART;TZID=UTC:20240627T203000
DTEND;TZID=UTC:20240627T203000
DTSTAMP:20260425T215323
CREATED:20240110T012316Z
LAST-MODIFIED:20240608T174104Z
UID:10001840-1719520200-1719520200@www.brassrailfw.com
SUMMARY:Mojohand\, Thumbrider
DESCRIPTION:NJ/NYC based Americana-rockers Mojohand have been winning over audiences from Pittsburgh\, PA to Austin\, TX and everywhere in between since late-2016. Mojohand have played countless shows in dive bars\, DIY basement venues\, and at colleges\, and clubs across New Jersey\, New York\, Vermont\, Pennsylvania\, Massachusetts\, Texas\, Louisiana\, Georgia\, Tennessee\, New Hampshire\, and Connecticut. \nWith Thumbrider \n  \n$9 \n  \n  \n  \nclr kevin white
URL:https://www.brassrailfw.com/show/mojohand/
LOCATION:The Brass Rail\, 1121 Broadway\, Fort Wayne\, IN\, 46802\, United States
ATTACH;FMTTYPE=image/png:https://www.brassrailfw.com/wp-content/uploads/2024/01/mojohand.png
GEO:41.0740622;-85.1478209
X-APPLE-STRUCTURED-LOCATION;VALUE=URI;X-ADDRESS=The Brass Rail 1121 Broadway Fort Wayne IN 46802 United States;X-APPLE-RADIUS=500;X-TITLE=1121 Broadway:geo:-85.1478209,41.0740622
END:VEVENT
BEGIN:VEVENT
DTSTART;TZID=UTC:20240628T214500
DTEND;TZID=UTC:20240628T214500
DTSTAMP:20260425T215323
CREATED:20240302T215328Z
LAST-MODIFIED:20240619T023849Z
UID:10001880-1719611100-1719611100@www.brassrailfw.com
SUMMARY:Kumbia Queers\, Los Electros
DESCRIPTION:Kumbia Queers\nhttps://www.instagram.com/kumbia_queers \nGet ready to rethink everything you know about cumbia at a very special Pride month event featuring the unmistakably unforgettable Kumbia Queers from Buenos Aires! This non-binary and lesbian quintet blends the grimy\, electronic-driven subgenre of cumbia villera with driven guitar rock for a uniquely dynamic fusion of traditional and cutting-edge sounds. As NPR Latino says\, “they’re no punchline. They’re for real.” Many of the members of the Kumbia Queers hail from the influential Argentinian ’90s punk trio She-Devils\, who bring that combo’s signature grungy\, DIY style to life with million-stream hits like “Mientes” and “Puesta”. The band’s debut at The Brass Rail will feature a relentless blast of tropical-punk originals\, covers\, and new tracks from the group’s latest album Fiesteria. A show with Kumbia Queers is more than just a concert; it’s a celebration of inclusivity and freedom where everyone is invited to let loose and join the party! \nwith LOS ELECTRO \n$12 no-fee advance tickets on sale now
URL:https://www.brassrailfw.com/show/h-kumbia-colin/
LOCATION:The Brass Rail\, 1121 Broadway\, Fort Wayne\, IN\, 46802\, United States
ATTACH;FMTTYPE=image/jpeg:https://www.brassrailfw.com/wp-content/uploads/2024/03/448295553_2075044366229486_1181933539824439595_n.jpg
GEO:41.0740622;-85.1478209
X-APPLE-STRUCTURED-LOCATION;VALUE=URI;X-ADDRESS=The Brass Rail 1121 Broadway Fort Wayne IN 46802 United States;X-APPLE-RADIUS=500;X-TITLE=1121 Broadway:geo:-85.1478209,41.0740622
END:VEVENT
BEGIN:VEVENT
DTSTART;TZID=UTC:20240629T214500
DTEND;TZID=UTC:20240629T214500
DTSTAMP:20260425T215323
CREATED:20240306T014422Z
LAST-MODIFIED:20240619T010757Z
UID:10001881-1719697500-1719697500@www.brassrailfw.com
SUMMARY:Loomspore\, Lung\, Necromoon
DESCRIPTION:Live Original Music with \nLoomspore\nhttps://www.instagram.com/lungtheband/ \nObserver\nhttps://www.instagram.com/observer_fw/ \nLung\nhttps://www.instagram.com/lungtheband/ \n$7 cover\, must be 21 \n 
URL:https://www.brassrailfw.com/show/2nd-h-loomspore/
LOCATION:The Brass Rail\, 1121 Broadway\, Fort Wayne\, IN\, 46802\, United States
ATTACH;FMTTYPE=image/jpeg:https://www.brassrailfw.com/wp-content/uploads/2024/03/2024_06_29-vert-loomspore.jpg
GEO:41.0740622;-85.1478209
X-APPLE-STRUCTURED-LOCATION;VALUE=URI;X-ADDRESS=The Brass Rail 1121 Broadway Fort Wayne IN 46802 United States;X-APPLE-RADIUS=500;X-TITLE=1121 Broadway:geo:-85.1478209,41.0740622
END:VEVENT
END:VCALENDAR