BEGIN:VCALENDAR
VERSION:2.0
PRODID:-//The Brass Rail - ECPv6.15.20//NONSGML v1.0//EN
CALSCALE:GREGORIAN
METHOD:PUBLISH
X-WR-CALNAME:The Brass Rail
X-ORIGINAL-URL:https://www.brassrailfw.com
X-WR-CALDESC:Events for The Brass Rail
REFRESH-INTERVAL;VALUE=DURATION:PT1H
X-Robots-Tag:noindex
X-PUBLISHED-TTL:PT1H
BEGIN:VTIMEZONE
TZID:UTC
BEGIN:STANDARD
TZOFFSETFROM:+0000
TZOFFSETTO:+0000
TZNAME:UTC
DTSTART:20230101T000000
END:STANDARD
END:VTIMEZONE
BEGIN:VEVENT
DTSTART;TZID=UTC:20240705T214500
DTEND;TZID=UTC:20240705T235900
DTSTAMP:20260425T203130
CREATED:20240315T163607Z
LAST-MODIFIED:20240619T011406Z
UID:10001891-1720215900-1720223940@www.brassrailfw.com
SUMMARY:ATCQ vs OutKast (DJ Party) with B. Jones and J. Tubbs
DESCRIPTION:YMC MUSIC GROUP PRESENT \nA Tribe Called Quest Vs. OutKast (DJ Party) \n$8 cover\, must be 21
URL:https://www.brassrailfw.com/show/h-j-tubbs-4/
LOCATION:The Brass Rail\, 1121 Broadway\, Fort Wayne\, IN\, 46802\, United States
ATTACH;FMTTYPE=image/jpeg:https://www.brassrailfw.com/wp-content/uploads/2024/03/2024_07_05-vert-outkast.jpg
GEO:41.0740622;-85.1478209
X-APPLE-STRUCTURED-LOCATION;VALUE=URI;X-ADDRESS=The Brass Rail 1121 Broadway Fort Wayne IN 46802 United States;X-APPLE-RADIUS=500;X-TITLE=1121 Broadway:geo:-85.1478209,41.0740622
END:VEVENT
BEGIN:VEVENT
DTSTART;TZID=UTC:20240706T213000
DTEND;TZID=UTC:20240706T213000
DTSTAMP:20260425T203130
CREATED:20240206T180554Z
LAST-MODIFIED:20240628T114236Z
UID:10001873-1720301400-1720301400@www.brassrailfw.com
SUMMARY:See Ray Hardy\, Thinning\, Anna Faye
DESCRIPTION:
URL:https://www.brassrailfw.com/show/seeray-2/
LOCATION:The Brass Rail\, 1121 Broadway\, Fort Wayne\, IN\, 46802\, United States
ATTACH;FMTTYPE=image/jpeg:https://www.brassrailfw.com/wp-content/uploads/2024/02/2024_07_06-vert-see-ray.jpg
GEO:41.0740622;-85.1478209
X-APPLE-STRUCTURED-LOCATION;VALUE=URI;X-ADDRESS=The Brass Rail 1121 Broadway Fort Wayne IN 46802 United States;X-APPLE-RADIUS=500;X-TITLE=1121 Broadway:geo:-85.1478209,41.0740622
END:VEVENT
BEGIN:VEVENT
DTSTART;TZID=UTC:20240709T200000
DTEND;TZID=UTC:20240709T200000
DTSTAMP:20260425T203130
CREATED:20240403T160447Z
LAST-MODIFIED:20240708T021928Z
UID:10001897-1720555200-1720555200@www.brassrailfw.com
SUMMARY:MX Lonely\, 7th Cloud\, Holy Nothing
DESCRIPTION:MX Lonely\nhttps://www.instagram.com/mxlonely/ \n7th Cloud\nhttps://www.instagram.com/seventhcloudfw/ \nHoly Nothing\nhttps://www.instagram.com/theholynothing
URL:https://www.brassrailfw.com/show/h-7th-cloud-mx-lonely/
LOCATION:The Brass Rail\, 1121 Broadway\, Fort Wayne\, IN\, 46802\, United States
ATTACH;FMTTYPE=image/png:https://www.brassrailfw.com/wp-content/uploads/2024/04/mxlonely.png
GEO:41.0740622;-85.1478209
X-APPLE-STRUCTURED-LOCATION;VALUE=URI;X-ADDRESS=The Brass Rail 1121 Broadway Fort Wayne IN 46802 United States;X-APPLE-RADIUS=500;X-TITLE=1121 Broadway:geo:-85.1478209,41.0740622
END:VEVENT
BEGIN:VEVENT
DTSTART;TZID=UTC:20240712T213000
DTEND;TZID=UTC:20240712T213000
DTSTAMP:20260425T203130
CREATED:20240306T014852Z
LAST-MODIFIED:20240619T172642Z
UID:10001883-1720819800-1720819800@www.brassrailfw.com
SUMMARY:Necromoon\, Coffin Problem\, Joyhouse
DESCRIPTION:
URL:https://www.brassrailfw.com/show/necromoon-coffin-problem/
LOCATION:The Brass Rail\, 1121 Broadway\, Fort Wayne\, IN\, 46802\, United States
ATTACH;FMTTYPE=image/jpeg:https://www.brassrailfw.com/wp-content/uploads/2024/03/2024_07_12-vert-necromoon.jpeg
GEO:41.0740622;-85.1478209
X-APPLE-STRUCTURED-LOCATION;VALUE=URI;X-ADDRESS=The Brass Rail 1121 Broadway Fort Wayne IN 46802 United States;X-APPLE-RADIUS=500;X-TITLE=1121 Broadway:geo:-85.1478209,41.0740622
END:VEVENT
BEGIN:VEVENT
DTSTART;TZID=UTC:20240713T214500
DTEND;TZID=UTC:20240713T214500
DTSTAMP:20260425T203130
CREATED:20240209T015729Z
LAST-MODIFIED:20240218T000444Z
UID:10001874-1720907100-1720907100@www.brassrailfw.com
SUMMARY:The Part You Left Out\, Rusted Hearts (Cleveland)\, I Think Too Much
DESCRIPTION:clr Krystal
URL:https://www.brassrailfw.com/show/the-part-you-left-out/
LOCATION:The Brass Rail\, 1121 Broadway\, Fort Wayne\, IN\, 46802\, United States
GEO:41.0740622;-85.1478209
X-APPLE-STRUCTURED-LOCATION;VALUE=URI;X-ADDRESS=The Brass Rail 1121 Broadway Fort Wayne IN 46802 United States;X-APPLE-RADIUS=500;X-TITLE=1121 Broadway:geo:-85.1478209,41.0740622
END:VEVENT
BEGIN:VEVENT
DTSTART;TZID=UTC:20240714T200000
DTEND;TZID=UTC:20240714T235900
DTSTAMP:20260425T203130
CREATED:20240327T024819Z
LAST-MODIFIED:20240701T010828Z
UID:10001895-1720987200-1721001540@www.brassrailfw.com
SUMMARY:The Reveal\, The Radiation\, Overlook
DESCRIPTION:The Reveal (genre-bending power trio from Nashville\, TN.)\nhttps://www.instagram.com/therevealmusic/ \nThe Radiation \nOverlook\nhttps://www.instagram.com/overlook_official/ \n$10 cover\, must be 21
URL:https://www.brassrailfw.com/show/overlook-reveal/
LOCATION:The Brass Rail\, 1121 Broadway\, Fort Wayne\, IN\, 46802\, United States
ATTACH;FMTTYPE=image/jpeg:https://www.brassrailfw.com/wp-content/uploads/2024/03/2024_07_14-vert-overlook.jpg
GEO:41.0740622;-85.1478209
X-APPLE-STRUCTURED-LOCATION;VALUE=URI;X-ADDRESS=The Brass Rail 1121 Broadway Fort Wayne IN 46802 United States;X-APPLE-RADIUS=500;X-TITLE=1121 Broadway:geo:-85.1478209,41.0740622
END:VEVENT
BEGIN:VEVENT
DTSTART;TZID=UTC:20240718T204500
DTEND;TZID=UTC:20240718T204500
DTSTAMP:20260425T203130
CREATED:20240628T114300Z
LAST-MODIFIED:20240716T005110Z
UID:10001925-1721335500-1721335500@www.brassrailfw.com
SUMMARY:John & Ben Carraoke
DESCRIPTION:
URL:https://www.brassrailfw.com/show/john-ben-carraoke-2/
LOCATION:The Brass Rail\, 1121 Broadway\, Fort Wayne\, IN\, 46802\, United States
ATTACH;FMTTYPE=image/jpeg:https://www.brassrailfw.com/wp-content/uploads/2024/06/bencarr.jpg
GEO:41.0740622;-85.1478209
X-APPLE-STRUCTURED-LOCATION;VALUE=URI;X-ADDRESS=The Brass Rail 1121 Broadway Fort Wayne IN 46802 United States;X-APPLE-RADIUS=500;X-TITLE=1121 Broadway:geo:-85.1478209,41.0740622
END:VEVENT
BEGIN:VEVENT
DTSTART;TZID=UTC:20240719T214500
DTEND;TZID=UTC:20240719T235900
DTSTAMP:20260425T203130
CREATED:20240423T005354Z
LAST-MODIFIED:20240523T234306Z
UID:10001907-1721425500-1721433540@www.brassrailfw.com
SUMMARY:Dormant\, Kangaroo Kourt\, Free Joel
DESCRIPTION:
URL:https://www.brassrailfw.com/show/dormant/
LOCATION:The Brass Rail\, 1121 Broadway\, Fort Wayne\, IN\, 46802\, United States
ATTACH;FMTTYPE=image/jpeg:https://www.brassrailfw.com/wp-content/uploads/2024/04/436341014_241032805764905_4197082497338024564_n.jpg
GEO:41.0740622;-85.1478209
X-APPLE-STRUCTURED-LOCATION;VALUE=URI;X-ADDRESS=The Brass Rail 1121 Broadway Fort Wayne IN 46802 United States;X-APPLE-RADIUS=500;X-TITLE=1121 Broadway:geo:-85.1478209,41.0740622
END:VEVENT
BEGIN:VEVENT
DTSTART;TZID=UTC:20240720T214500
DTEND;TZID=UTC:20240720T214500
DTSTAMP:20260425T203130
CREATED:20240110T032600Z
LAST-MODIFIED:20240709T232922Z
UID:10001844-1721511900-1721511900@www.brassrailfw.com
SUMMARY:Silver Smiths\, DJ MSG\, Chemdogg Cordo\, Tesla Chapman
DESCRIPTION:Silver Smiths\nhttps://www.instagram.com/deeziousjuan/ \nDJ MSG\nhttps://www.instagram.com/tedsutaphong/ \nChemdogg Cordo\nhttps://www.instagram.com/chemdogg_cordo/ \nTesla Chapman\nhttps://www.instagram.com/teslachapman/ \n$7 cover\, must be 21 \nposter by Pretty Good Posters\nhttps://www.instagram.com/prettygoodposters/
URL:https://www.brassrailfw.com/show/sankofa-6/
LOCATION:The Brass Rail\, 1121 Broadway\, Fort Wayne\, IN\, 46802\, United States
ATTACH;FMTTYPE=image/jpeg:https://www.brassrailfw.com/wp-content/uploads/2024/01/20240720-Silversmiths-IG.jpg
GEO:41.0740622;-85.1478209
X-APPLE-STRUCTURED-LOCATION;VALUE=URI;X-ADDRESS=The Brass Rail 1121 Broadway Fort Wayne IN 46802 United States;X-APPLE-RADIUS=500;X-TITLE=1121 Broadway:geo:-85.1478209,41.0740622
END:VEVENT
BEGIN:VEVENT
DTSTART;TZID=UTC:20240724T203000
DTEND;TZID=UTC:20240724T235900
DTSTAMP:20260425T203130
CREATED:20240228T230912Z
LAST-MODIFIED:20240626T140635Z
UID:10001879-1721853000-1721865540@www.brassrailfw.com
SUMMARY:Snõõper with Youth In Asia and Skull Cult
DESCRIPTION:Snõõper (the Project) began as a collaboration between local Nashville punk mainstay Connor Cummins and Blair Tramel\, an early education teacher with a sideline in wickedly funny animation and art. As their cassette tapes and homemade videos began to find scattered fans around the world\, the duo brought the Project to the live stage in late 2021 and Snõõper (the Band) was born. \nwith Youth In Asia and Skull Cult \n$12 no-fee advance tickets / $15 day of show \n  \nTicket Link\nhttps://brassrailfw.ticketleap.com/snooper/
URL:https://www.brassrailfw.com/show/snooper/
LOCATION:The Brass Rail\, 1121 Broadway\, Fort Wayne\, IN\, 46802\, United States
ATTACH;FMTTYPE=image/jpeg:https://www.brassrailfw.com/wp-content/uploads/2024/02/PROMO-1.jpg
GEO:41.0740622;-85.1478209
X-APPLE-STRUCTURED-LOCATION;VALUE=URI;X-ADDRESS=The Brass Rail 1121 Broadway Fort Wayne IN 46802 United States;X-APPLE-RADIUS=500;X-TITLE=1121 Broadway:geo:-85.1478209,41.0740622
END:VEVENT
BEGIN:VEVENT
DTSTART;TZID=UTC:20240725T203000
DTEND;TZID=UTC:20240725T234500
DTSTAMP:20260425T203130
CREATED:20240115T212211Z
LAST-MODIFIED:20240722T010606Z
UID:10001849-1721939400-1721951100@www.brassrailfw.com
SUMMARY:The Hillbilly Casino with Loveseat
DESCRIPTION:$8 advance no-fee tickets on sale now.    $10 day of show \nIn a town known for ‘hat act’ pop country\, and slick production\, the Hillbilly Casino has been working hard.  Since 2005\, the band has been an anchor of Nashville’s underground roots music community.  Booking their own local shows\, and touring across the US and Europe with acts as diverse as Brian Setzer\, Rancid and Yelawolf\, and releasing their own records\, The Hillbilly Casino took the best of the DYI ethic from the punk scene\, and applied it to their very own brand of real american music. \nDrawing inspiration from early rock and roll and blues\, to punk\, metal and everything inbetween\, these four have created a sound and attitude that is unforgettable.  Featuring former members of Brian Setzer’s Nashvillains\, BR549\, and the Blue Moon Boys\, The Hillbilly Casino has a roots pedigree that comes through in their writing and playing\, and a live show that has blown away audiences from all over the world.
URL:https://www.brassrailfw.com/show/h-snapi/
LOCATION:The Brass Rail\, 1121 Broadway\, Fort Wayne\, IN\, 46802\, United States
ATTACH;FMTTYPE=image/png:https://www.brassrailfw.com/wp-content/uploads/2024/01/Hillbilly-Casino.png
GEO:41.0740622;-85.1478209
X-APPLE-STRUCTURED-LOCATION;VALUE=URI;X-ADDRESS=The Brass Rail 1121 Broadway Fort Wayne IN 46802 United States;X-APPLE-RADIUS=500;X-TITLE=1121 Broadway:geo:-85.1478209,41.0740622
END:VEVENT
BEGIN:VEVENT
DTSTART;TZID=UTC:20240726T213000
DTEND;TZID=UTC:20240726T213000
DTSTAMP:20260425T203130
CREATED:20240528T200137Z
LAST-MODIFIED:20240716T015354Z
UID:10001916-1722029400-1722029400@www.brassrailfw.com
SUMMARY:Best Sleep\, The Namby Pamby\, Frog Tongue
DESCRIPTION:$7
URL:https://www.brassrailfw.com/show/best-sleep-7/
LOCATION:The Brass Rail\, 1121 Broadway\, Fort Wayne\, IN\, 46802\, United States
ATTACH;FMTTYPE=image/jpeg:https://www.brassrailfw.com/wp-content/uploads/2024/05/2024_07_26-vert-best-sleep.jpg
GEO:41.0740622;-85.1478209
X-APPLE-STRUCTURED-LOCATION;VALUE=URI;X-ADDRESS=The Brass Rail 1121 Broadway Fort Wayne IN 46802 United States;X-APPLE-RADIUS=500;X-TITLE=1121 Broadway:geo:-85.1478209,41.0740622
END:VEVENT
BEGIN:VEVENT
DTSTART;TZID=UTC:20240727T213000
DTEND;TZID=UTC:20240727T213000
DTSTAMP:20260425T203130
CREATED:20240516T164709Z
LAST-MODIFIED:20240724T023021Z
UID:10001911-1722115800-1722115800@www.brassrailfw.com
SUMMARY:Heaven's Gateway Drugs\, Thumbrider\, For Darlene
DESCRIPTION:Live original music with \nHeaven’s Gateway Drugs\ninstagram.com/hvnsgtwydrgs/ \nThumbrider\ninstagram.com/thumbriderband/ \nFor Darlene\ninstagram.com/for_darlene/ \n$7 cover\, must be 21
URL:https://www.brassrailfw.com/show/heavens-gateway-drugs-9/
LOCATION:The Brass Rail\, 1121 Broadway\, Fort Wayne\, IN\, 46802\, United States
ATTACH;FMTTYPE=image/jpeg:https://www.brassrailfw.com/wp-content/uploads/2024/05/2024_07_27-vert-Heavens-Gateway-Drugs.jpg
GEO:41.0740622;-85.1478209
X-APPLE-STRUCTURED-LOCATION;VALUE=URI;X-ADDRESS=The Brass Rail 1121 Broadway Fort Wayne IN 46802 United States;X-APPLE-RADIUS=500;X-TITLE=1121 Broadway:geo:-85.1478209,41.0740622
END:VEVENT
BEGIN:VEVENT
DTSTART;TZID=UTC:20240728T160000
DTEND;TZID=UTC:20240728T170000
DTSTAMP:20260425T203130
CREATED:20240401T161914Z
LAST-MODIFIED:20240716T020342Z
UID:10001896-1722182400-1722186000@www.brassrailfw.com
SUMMARY:SPAR: Afternoon Arm Rastlin'
DESCRIPTION:DO YOU HAVE WHAT IT TAKES?!?!! BULGING BICEPS! GLITTER AND FRINGE! FAME AND GLORY! BEAUTIFUL DISPLAYS OF POWER\, AND BRUTE STRENGTH – FEATURING THE MOST HYPE FOLX IN THE LAND!If this sounds like you. S.P.A.R. might be just what you’re looking for! Strong People of Arm Rastlin’ is a full on\, glitz and glam arm wrestling tournament.What it is: Bracket style arm wrestling; that’s about pageantry/show\, and FUN!FAME AND GLORY NOT YOUR THING? Feel free to sit back and cheer on your favorite people from a safe vantage point!Where: The Brass RailWhen: July 28th\, 4-8 pmOther important S#@T:COSTUMES\, CHEERLEADERS/HYPE SQUAD\, POSITIVE ATTITUDE MANDATORY!Special guest M.C and referee announced soon! $5 (or more) suggested donation. All proceeds from the event will be directly donated to the Fort Wayne Center For Nonviolence!DM TO ADD YOUR NAME TO THE ROSTER!
URL:https://www.brassrailfw.com/show/h-cheesebrew/
LOCATION:The Brass Rail\, 1121 Broadway\, Fort Wayne\, IN\, 46802\, United States
ATTACH;FMTTYPE=image/jpeg:https://www.brassrailfw.com/wp-content/uploads/2024/04/2024_07_28-vert-SPAR.jpg
GEO:41.0740622;-85.1478209
X-APPLE-STRUCTURED-LOCATION;VALUE=URI;X-ADDRESS=The Brass Rail 1121 Broadway Fort Wayne IN 46802 United States;X-APPLE-RADIUS=500;X-TITLE=1121 Broadway:geo:-85.1478209,41.0740622
END:VEVENT
END:VCALENDAR