BEGIN:VCALENDAR
VERSION:2.0
PRODID:-//The Brass Rail - ECPv6.15.20//NONSGML v1.0//EN
CALSCALE:GREGORIAN
METHOD:PUBLISH
X-WR-CALNAME:The Brass Rail
X-ORIGINAL-URL:https://www.brassrailfw.com
X-WR-CALDESC:Events for The Brass Rail
REFRESH-INTERVAL;VALUE=DURATION:PT1H
X-Robots-Tag:noindex
X-PUBLISHED-TTL:PT1H
BEGIN:VTIMEZONE
TZID:UTC
BEGIN:STANDARD
TZOFFSETFROM:+0000
TZOFFSETTO:+0000
TZNAME:UTC
DTSTART:20230101T000000
END:STANDARD
END:VTIMEZONE
BEGIN:VEVENT
DTSTART;TZID=UTC:20240802T213000
DTEND;TZID=UTC:20240802T213000
DTSTAMP:20260425T191215
CREATED:20240514T170837Z
LAST-MODIFIED:20240724T023533Z
UID:10001910-1722634200-1722634200@www.brassrailfw.com
SUMMARY:Chewy Lucas\, Funayūrei (Fort Wayne)\, Radar Gold (Indianapolis)
DESCRIPTION:Chewy Lucas\ninstagram.com/chewy_lucas/ \nFunayūrei\ninstagram.com/funayureimusic/ \nRadar Gold\ninstagram.com/radar_gold/ \n$7 cover\, must be 21 \n 
URL:https://www.brassrailfw.com/show/chewy-lucas/
LOCATION:The Brass Rail\, 1121 Broadway\, Fort Wayne\, IN\, 46802\, United States
ATTACH;FMTTYPE=image/jpeg:https://www.brassrailfw.com/wp-content/uploads/2024/05/2024_08_02-vert-Chewy-Lucas.jpg
GEO:41.0740622;-85.1478209
X-APPLE-STRUCTURED-LOCATION;VALUE=URI;X-ADDRESS=The Brass Rail 1121 Broadway Fort Wayne IN 46802 United States;X-APPLE-RADIUS=500;X-TITLE=1121 Broadway:geo:-85.1478209,41.0740622
END:VEVENT
BEGIN:VEVENT
DTSTART;TZID=UTC:20240803T213000
DTEND;TZID=UTC:20240803T213000
DTSTAMP:20260425T191215
CREATED:20240306T014551Z
LAST-MODIFIED:20240730T022835Z
UID:10001882-1722720600-1722720600@www.brassrailfw.com
SUMMARY:Garbage Greek\, The Meat Flowers\, Aaron Plain and Tall
DESCRIPTION:$10 cover\, must be 21
URL:https://www.brassrailfw.com/show/garbage-greek/
LOCATION:The Brass Rail\, 1121 Broadway\, Fort Wayne\, IN\, 46802\, United States
ATTACH;FMTTYPE=image/jpeg:https://www.brassrailfw.com/wp-content/uploads/2024/03/2024_08_03-vert-GARBAGE-GREEK.jpg
GEO:41.0740622;-85.1478209
X-APPLE-STRUCTURED-LOCATION;VALUE=URI;X-ADDRESS=The Brass Rail 1121 Broadway Fort Wayne IN 46802 United States;X-APPLE-RADIUS=500;X-TITLE=1121 Broadway:geo:-85.1478209,41.0740622
END:VEVENT
BEGIN:VEVENT
DTSTART;TZID=UTC:20240807T200000
DTEND;TZID=UTC:20240807T200000
DTSTAMP:20260425T191215
CREATED:20240724T230040Z
LAST-MODIFIED:20240724T230040Z
UID:10001931-1723060800-1723060800@www.brassrailfw.com
SUMMARY:Loveseat and Stephie James
DESCRIPTION:
URL:https://www.brassrailfw.com/show/loveseat-and-stephie-james/
LOCATION:The Brass Rail\, 1121 Broadway\, Fort Wayne\, IN\, 46802\, United States
GEO:41.0740622;-85.1478209
X-APPLE-STRUCTURED-LOCATION;VALUE=URI;X-ADDRESS=The Brass Rail 1121 Broadway Fort Wayne IN 46802 United States;X-APPLE-RADIUS=500;X-TITLE=1121 Broadway:geo:-85.1478209,41.0740622
END:VEVENT
BEGIN:VEVENT
DTSTART;TZID=UTC:20240808T200000
DTEND;TZID=UTC:20240808T200000
DTSTAMP:20260425T191215
CREATED:20240612T013030Z
LAST-MODIFIED:20240724T023505Z
UID:10001919-1723147200-1723147200@www.brassrailfw.com
SUMMARY:Chilli Hendrix & T-Pulse\, My Poor Soul\, Autem with DJ Keylo
DESCRIPTION:A Rap\, Rock & Alternative Jam: Hosted by DJ Keylo \n\nChilli Hendrix & T-Pulseinstagram.com/takeapillchill/instagram.com/tpxlse/\nMy Poor Soul\nAutem\n$7 cover\, must be 21
URL:https://www.brassrailfw.com/show/chilli-hendrix/
LOCATION:The Brass Rail\, 1121 Broadway\, Fort Wayne\, IN\, 46802\, United States
ATTACH;FMTTYPE=image/jpeg:https://www.brassrailfw.com/wp-content/uploads/2024/06/2024_08_08-vert-chili.jpg
GEO:41.0740622;-85.1478209
X-APPLE-STRUCTURED-LOCATION;VALUE=URI;X-ADDRESS=The Brass Rail 1121 Broadway Fort Wayne IN 46802 United States;X-APPLE-RADIUS=500;X-TITLE=1121 Broadway:geo:-85.1478209,41.0740622
END:VEVENT
BEGIN:VEVENT
DTSTART;TZID=UTC:20240809T210000
DTEND;TZID=UTC:20240809T210000
DTSTAMP:20260425T191215
CREATED:20240313T154818Z
LAST-MODIFIED:20240802T183209Z
UID:10001888-1723237200-1723237200@www.brassrailfw.com
SUMMARY:Los Electro\, Faith In\, Giovany Revelle
DESCRIPTION:Live Original Music with \nLos Electro\nhttps://www.instagram.com/loselectroband/ \nFaith In Nothing\nhttps://www.instagram.com/faithinnothingmusic/ \nGiovany Revelle\nhttps://www.instagram.com/giovanyrevelle/ \n$8 cover\, must be 21
URL:https://www.brassrailfw.com/show/giovany/
LOCATION:The Brass Rail\, 1121 Broadway\, Fort Wayne\, IN\, 46802\, United States
ATTACH;FMTTYPE=image/jpeg:https://www.brassrailfw.com/wp-content/uploads/2024/03/att.ad_Y-tw1nUvNJPp-Cnpb72x9POQpd3NROQYTttau__c.jpg
GEO:41.0740622;-85.1478209
X-APPLE-STRUCTURED-LOCATION;VALUE=URI;X-ADDRESS=The Brass Rail 1121 Broadway Fort Wayne IN 46802 United States;X-APPLE-RADIUS=500;X-TITLE=1121 Broadway:geo:-85.1478209,41.0740622
END:VEVENT
BEGIN:VEVENT
DTSTART;TZID=UTC:20240810T210000
DTEND;TZID=UTC:20240810T213000
DTSTAMP:20260425T191215
CREATED:20240512T024843Z
LAST-MODIFIED:20240701T013518Z
UID:10001909-1723323600-1723325400@www.brassrailfw.com
SUMMARY:Maren\, The Part You Left Out\, New League Record
DESCRIPTION:A Night of Sad Times at The Brass Rail with music by: \nMaren (post-hardcore)\nhttps://www.instagram.com/maren.260/ \nThe Part You Left Out (emo post-hardcore)\nhttps://www.instagram.com/thepartyouleftout/ \nNew League Record (melodic punk rock)\nhttps://www.instagram.com/newleaguerecord/ \n$8 cover\, must be 21
URL:https://www.brassrailfw.com/show/the-part-you-left-out-2/
LOCATION:The Brass Rail\, 1121 Broadway\, Fort Wayne\, IN\, 46802\, United States
ATTACH;FMTTYPE=image/jpeg:https://www.brassrailfw.com/wp-content/uploads/2024/05/2024_08_10-things.jpeg
GEO:41.0740622;-85.1478209
X-APPLE-STRUCTURED-LOCATION;VALUE=URI;X-ADDRESS=The Brass Rail 1121 Broadway Fort Wayne IN 46802 United States;X-APPLE-RADIUS=500;X-TITLE=1121 Broadway:geo:-85.1478209,41.0740622
END:VEVENT
BEGIN:VEVENT
DTSTART;TZID=UTC:20240812T203000
DTEND;TZID=UTC:20240812T203000
DTSTAMP:20260425T191215
CREATED:20240313T154111Z
LAST-MODIFIED:20240619T023826Z
UID:10001887-1723494600-1723494600@www.brassrailfw.com
SUMMARY:Cardiel\, Squirrel Cage
DESCRIPTION:Cardielhttps://www.instagram.com/cardieltheband/ \n\nSquirrel Cagehttps://www.instagram.com/squirrelcageband/\n$8 cover\, must be 21
URL:https://www.brassrailfw.com/show/cardiel/
LOCATION:The Brass Rail\, 1121 Broadway\, Fort Wayne\, IN\, 46802\, United States
ATTACH;FMTTYPE=image/jpeg:https://www.brassrailfw.com/wp-content/uploads/2024/03/2024_08_12-vert-Squirrel-Cage-scaled.jpeg
GEO:41.0740622;-85.1478209
X-APPLE-STRUCTURED-LOCATION;VALUE=URI;X-ADDRESS=The Brass Rail 1121 Broadway Fort Wayne IN 46802 United States;X-APPLE-RADIUS=500;X-TITLE=1121 Broadway:geo:-85.1478209,41.0740622
END:VEVENT
BEGIN:VEVENT
DTSTART;TZID=UTC:20240813T203000
DTEND;TZID=UTC:20240813T203000
DTSTAMP:20260425T191215
CREATED:20240313T155007Z
LAST-MODIFIED:20240813T231015Z
UID:10001889-1723581000-1723581000@www.brassrailfw.com
SUMMARY:Carrie Nation & The Speakeasy\, Thumbrider
DESCRIPTION:CARRIE NATION & THE SPEAKEASY (CNS) is a high-energy quintet from Wichita\, KS\, USA. The band\, whose sound has been described as “…a stagecoach in overdrive”\, has performed their signature blend of strings and horns across 49 states and 9 countries since 2007. \nCNS has built a solid grassroots following with their energetic live show and ability to fit on bills ranging from bluegrass to punk; rockabilly to ska.  Thoughtful songwriting is delivered through dynamic arrangements and unconventional instrumentation. Throaty vocals glide over percussive guitar. Mandolin solos melt into blaring trombone lines at breakneck speed\, while the upright bass and rock-solid drums churn out aggressive rhythms that carry the force of a Kansas freight train. Psychedelic soundscapes are punctuated by downright amphetaminic tempos and controlled cacophony. Anything but derivitive\, CNS has developed a singular style that continues to bemuse newcomers and delight loyal fans.  \nThe band’s DIY approach is evident in their self-recorded albums\, self-published music\, self-booked tours\, and collaborations with local and regional visual artists. A live CNS performance is a loud\, fast\, sweeping journey to a brand new destination.  \nFile under: thrashgrass/ experimental acoustic/ folkpunk for people who hate folkpunk. \nVIDEOS: \nAll Men Created Equal [OFFICIAL VIDEO] \nBard Sessions live in studio \n  \nMUSIC STREAM: \nSPOTIFY \nWith Thumbrider \n$12 cover
URL:https://www.brassrailfw.com/show/carrienation-2/
LOCATION:The Brass Rail\, 1121 Broadway\, Fort Wayne\, IN\, 46802\, United States
ATTACH;FMTTYPE=image/jpeg:https://www.brassrailfw.com/wp-content/uploads/2024/03/CNS_KEYS_6_WARM.jpg
GEO:41.0740622;-85.1478209
X-APPLE-STRUCTURED-LOCATION;VALUE=URI;X-ADDRESS=The Brass Rail 1121 Broadway Fort Wayne IN 46802 United States;X-APPLE-RADIUS=500;X-TITLE=1121 Broadway:geo:-85.1478209,41.0740622
END:VEVENT
BEGIN:VEVENT
DTSTART;TZID=UTC:20240816T213000
DTEND;TZID=UTC:20240816T213000
DTSTAMP:20260425T191215
CREATED:20240608T174631Z
LAST-MODIFIED:20240813T134233Z
UID:10001917-1723843800-1723843800@www.brassrailfw.com
SUMMARY:Loveseat\, Red Scarves
DESCRIPTION:Loveseat\nhttps://www.instagram.com/lovethatseat/ \nThe Red Scarves\nhttps://www.instagram.com/theredscarves/ \n$7 cover\, must be 21 \n 
URL:https://www.brassrailfw.com/show/h-loveseat-red-scarves/
LOCATION:The Brass Rail\, 1121 Broadway\, Fort Wayne\, IN\, 46802\, United States
ATTACH;FMTTYPE=image/png:https://www.brassrailfw.com/wp-content/uploads/2024/06/loveseat.png
GEO:41.0740622;-85.1478209
X-APPLE-STRUCTURED-LOCATION;VALUE=URI;X-ADDRESS=The Brass Rail 1121 Broadway Fort Wayne IN 46802 United States;X-APPLE-RADIUS=500;X-TITLE=1121 Broadway:geo:-85.1478209,41.0740622
END:VEVENT
BEGIN:VEVENT
DTSTART;TZID=UTC:20240817T213000
DTEND;TZID=UTC:20240817T213000
DTSTAMP:20260425T191215
CREATED:20240525T175455Z
LAST-MODIFIED:20240813T135310Z
UID:10001915-1723930200-1723930200@www.brassrailfw.com
SUMMARY:Ione (Chicago)\, for darlene\, Quiet Creator\, Mckenna Parks
DESCRIPTION:IONE returnshttps://www.instagram.com/ucancallme_ione/\nQuiet/Creatorhttps://www.instagram.com/quietcreatorquietcreator/\nMcKenna Parkshttps://www.instagram.com/mckenna.parks/\nFor Darlenehttps://www.instagram.com/for_darlene/\n$7 cover\, must be 21
URL:https://www.brassrailfw.com/show/ione-chicago-for-darlene-quiet-creator-mckenna-parks/
LOCATION:The Brass Rail\, 1121 Broadway\, Fort Wayne\, IN\, 46802\, United States
ATTACH;FMTTYPE=image/jpeg:https://www.brassrailfw.com/wp-content/uploads/2024/05/2024_08_17-wide-ion.jpg
GEO:41.0740622;-85.1478209
X-APPLE-STRUCTURED-LOCATION;VALUE=URI;X-ADDRESS=The Brass Rail 1121 Broadway Fort Wayne IN 46802 United States;X-APPLE-RADIUS=500;X-TITLE=1121 Broadway:geo:-85.1478209,41.0740622
END:VEVENT
BEGIN:VEVENT
DTSTART;TZID=UTC:20240821T200000
DTEND;TZID=UTC:20240821T235900
DTSTAMP:20260425T191215
CREATED:20240512T024605Z
LAST-MODIFIED:20240821T005243Z
UID:10001908-1724270400-1724284740@www.brassrailfw.com
SUMMARY:Lockstep\, Loomspore\, Seventh Cloud
DESCRIPTION:Lockstep (nashville)https://www.instagram.com/lockstepnoise/\nLoomsporeSeventh Cloudhttps://www.instagram.com/seventhcloudfw/\n$10 cover\, must be 21
URL:https://www.brassrailfw.com/show/lockstep-necromoon/
LOCATION:The Brass Rail\, 1121 Broadway\, Fort Wayne\, IN\, 46802\, United States
ATTACH;FMTTYPE=image/jpeg:https://www.brassrailfw.com/wp-content/uploads/2024/05/2024_08_21-vert-lockstep.jpg
GEO:41.0740622;-85.1478209
X-APPLE-STRUCTURED-LOCATION;VALUE=URI;X-ADDRESS=The Brass Rail 1121 Broadway Fort Wayne IN 46802 United States;X-APPLE-RADIUS=500;X-TITLE=1121 Broadway:geo:-85.1478209,41.0740622
END:VEVENT
BEGIN:VEVENT
DTSTART;TZID=UTC:20240822T213000
DTEND;TZID=UTC:20240822T213000
DTSTAMP:20260425T191215
CREATED:20240306T015120Z
LAST-MODIFIED:20240813T235820Z
UID:10001884-1724362200-1724362200@www.brassrailfw.com
SUMMARY:Lollygagger\, The Holy Nothing\, Observer
DESCRIPTION:Lollygagger\nhttps://www.instagram.com/lollygaggermusic/ \nThe Holy Nothing\nhttps://www.instagram.com/theholynothing/ \nObserver\nhttps://www.instagram.com/observer_fw/
URL:https://www.brassrailfw.com/show/lollygagger/
LOCATION:The Brass Rail\, 1121 Broadway\, Fort Wayne\, IN\, 46802\, United States
ATTACH;FMTTYPE=image/png:https://www.brassrailfw.com/wp-content/uploads/2024/03/lollygagger.png
GEO:41.0740622;-85.1478209
X-APPLE-STRUCTURED-LOCATION;VALUE=URI;X-ADDRESS=The Brass Rail 1121 Broadway Fort Wayne IN 46802 United States;X-APPLE-RADIUS=500;X-TITLE=1121 Broadway:geo:-85.1478209,41.0740622
END:VEVENT
BEGIN:VEVENT
DTSTART;TZID=UTC:20240822T214500
DTEND;TZID=UTC:20240822T214500
DTSTAMP:20260425T191215
CREATED:20240822T180030Z
LAST-MODIFIED:20240822T180030Z
UID:10001953-1724363100-1724363100@www.brassrailfw.com
SUMMARY:Jay Dixie\, 𝔾𝕣𝕒𝕔𝕖 𝕁𝕠𝕤𝕖𝕡𝕙𝕚𝕟𝕖
DESCRIPTION:Jay Dixie\nhttps://www.instagram.com/_jaydid_/ \nGrace Josephine\nhttps://www.instagram.com/amazinggoddessgrace/
URL:https://www.brassrailfw.com/show/jay-dixie-%f0%9d%94%be%f0%9d%95%a3%f0%9d%95%92%f0%9d%95%94%f0%9d%95%96-%f0%9d%95%81%f0%9d%95%a0%f0%9d%95%a4%f0%9d%95%96%f0%9d%95%a1%f0%9d%95%99%f0%9d%95%9a%f0%9d%95%9f%f0%9d%95%96/
LOCATION:The Brass Rail\, 1121 Broadway\, Fort Wayne\, IN\, 46802\, United States
ATTACH;FMTTYPE=image/png:https://www.brassrailfw.com/wp-content/uploads/2024/08/jaydixie.png
GEO:41.0740622;-85.1478209
X-APPLE-STRUCTURED-LOCATION;VALUE=URI;X-ADDRESS=The Brass Rail 1121 Broadway Fort Wayne IN 46802 United States;X-APPLE-RADIUS=500;X-TITLE=1121 Broadway:geo:-85.1478209,41.0740622
END:VEVENT
BEGIN:VEVENT
DTSTART;TZID=UTC:20240823T213000
DTEND;TZID=UTC:20240823T213000
DTSTAMP:20260425T191215
CREATED:20240703T123800Z
LAST-MODIFIED:20240814T001210Z
UID:10001926-1724448600-1724448600@www.brassrailfw.com
SUMMARY:Anthony Giraldi\, Eli Sines Beatrat & The Family Reunion
DESCRIPTION:Anthony Giraldi\nhttps://www.instagram.com/anthonygiraldi/ \nEli Sines Beatrat & The Family Reunion\nhttps://www.instagram.com/eli_sines/ \n$9 cover\, must be 21
URL:https://www.brassrailfw.com/show/anthony-giraldi-3/
LOCATION:The Brass Rail\, 1121 Broadway\, Fort Wayne\, IN\, 46802\, United States
ATTACH;FMTTYPE=image/jpeg:https://www.brassrailfw.com/wp-content/uploads/2024/07/2024_08_23-vert-Anthony-GIr.jpg
GEO:41.0740622;-85.1478209
X-APPLE-STRUCTURED-LOCATION;VALUE=URI;X-ADDRESS=The Brass Rail 1121 Broadway Fort Wayne IN 46802 United States;X-APPLE-RADIUS=500;X-TITLE=1121 Broadway:geo:-85.1478209,41.0740622
END:VEVENT
BEGIN:VEVENT
DTSTART;TZID=UTC:20240824T210000
DTEND;TZID=UTC:20240824T210000
DTSTAMP:20260425T191215
CREATED:20240612T013518Z
LAST-MODIFIED:20240814T010025Z
UID:10001920-1724533200-1724533200@www.brassrailfw.com
SUMMARY:GOTH NIGHT:  with Cloudmaker\, Twice Dark\, B2B DJ Set See Ray Hardly & LÜBS
DESCRIPTION:Cloudmaker\nhttps://www.instagram.com/cloud._.maker/ \nTwice Dark\nhttps://www.instagram.com/twicedark/ \nDJ SET\nSee Ray Hardly & LÜBS\nhttps://www.instagram.com/seerayhardly/\nhttps://www.instagram.com/lubsofficial/ \n$10 cover\, must be 21
URL:https://www.brassrailfw.com/show/cloudmaker-14/
LOCATION:The Brass Rail\, 1121 Broadway\, Fort Wayne\, IN\, 46802\, United States
ATTACH;FMTTYPE=image/png:https://www.brassrailfw.com/wp-content/uploads/2024/06/2024_08_24-vert-cloudmaker.png
GEO:41.0740622;-85.1478209
X-APPLE-STRUCTURED-LOCATION;VALUE=URI;X-ADDRESS=The Brass Rail 1121 Broadway Fort Wayne IN 46802 United States;X-APPLE-RADIUS=500;X-TITLE=1121 Broadway:geo:-85.1478209,41.0740622
END:VEVENT
BEGIN:VEVENT
DTSTART;TZID=UTC:20240829T193000
DTEND;TZID=UTC:20240829T200000
DTSTAMP:20260425T191215
CREATED:20240712T145615Z
LAST-MODIFIED:20240818T203136Z
UID:10001928-1724959800-1724961600@www.brassrailfw.com
SUMMARY:The Trap Door:  STORY SLAM!
DESCRIPTION:What’s a Story Slam\, you ask? Think of it like karaoke for storytelling. If you have a short story you wanna tell onstage\, come to the event and throw your name in the hat. We’ll start drawing names and calling storytellers up to the stage at 8 pm.Stories should be brief–between 2 and 10 minutes–but no topic\, language or vibe is off-limits. Let ‘er rip!We’ll use 100% of the proceeds of this show to stock the Forward Indiana food pantries.Cover: Bring a non-perishable\, ready-to-eat food item or personal hygiene product to stock the pantries. Suggested cash donation is $10.
URL:https://www.brassrailfw.com/show/trapdoor/
LOCATION:The Brass Rail\, 1121 Broadway\, Fort Wayne\, IN\, 46802\, United States
ATTACH;FMTTYPE=image/jpeg:https://www.brassrailfw.com/wp-content/uploads/2024/07/2024_08_29-wide-trap-door.jpg
GEO:41.0740622;-85.1478209
X-APPLE-STRUCTURED-LOCATION;VALUE=URI;X-ADDRESS=The Brass Rail 1121 Broadway Fort Wayne IN 46802 United States;X-APPLE-RADIUS=500;X-TITLE=1121 Broadway:geo:-85.1478209,41.0740622
END:VEVENT
BEGIN:VEVENT
DTSTART;TZID=UTC:20240830T213000
DTEND;TZID=UTC:20240830T213000
DTSTAMP:20260425T191215
CREATED:20240614T224253Z
LAST-MODIFIED:20240814T012647Z
UID:10001924-1725053400-1725053400@www.brassrailfw.com
SUMMARY:Man of The Flood\, Middle Names\, City Sun
DESCRIPTION:Man of The Flood\nhttps://www.instagram.com/manoftheflood/ \nMiddle Names\nhttps://www.instagram.com/middlenamesband/ \nCity Sun\nhttps://www.instagram.com/citysunband/ \n$8 cover\, must be 21
URL:https://www.brassrailfw.com/show/middle-names-4/
LOCATION:The Brass Rail\, 1121 Broadway\, Fort Wayne\, IN\, 46802\, United States
ATTACH;FMTTYPE=image/jpeg:https://www.brassrailfw.com/wp-content/uploads/2024/06/2024_08_30-vert-man-of-the-flood.jpg
GEO:41.0740622;-85.1478209
X-APPLE-STRUCTURED-LOCATION;VALUE=URI;X-ADDRESS=The Brass Rail 1121 Broadway Fort Wayne IN 46802 United States;X-APPLE-RADIUS=500;X-TITLE=1121 Broadway:geo:-85.1478209,41.0740622
END:VEVENT
BEGIN:VEVENT
DTSTART;TZID=UTC:20240831T214500
DTEND;TZID=UTC:20240831T214500
DTSTAMP:20260425T191215
CREATED:20240130T145928Z
LAST-MODIFIED:20240814T014843Z
UID:10001865-1725140700-1725140700@www.brassrailfw.com
SUMMARY:Sun.Dyle\, Mike Neglia & The Nobles\, Augmentasia
DESCRIPTION:Sundyle\nhttps://www.instagram.com/sun.dyle/ \nMike Neglia & The Nobles\nhttps://www.instagram.com/mikenegliamusic/ \nAugmentasia\nhttps://www.instagram.com/augmentasia_/ \n$8 cover\, must be 21
URL:https://www.brassrailfw.com/show/sundyle/
LOCATION:The Brass Rail\, 1121 Broadway\, Fort Wayne\, IN\, 46802\, United States
ATTACH;FMTTYPE=image/jpeg:https://www.brassrailfw.com/wp-content/uploads/2024/01/2024_08_31-vert-sundyle.jpg
GEO:41.0740622;-85.1478209
X-APPLE-STRUCTURED-LOCATION;VALUE=URI;X-ADDRESS=The Brass Rail 1121 Broadway Fort Wayne IN 46802 United States;X-APPLE-RADIUS=500;X-TITLE=1121 Broadway:geo:-85.1478209,41.0740622
END:VEVENT
END:VCALENDAR