BEGIN:VCALENDAR
VERSION:2.0
PRODID:-//The Brass Rail - ECPv6.15.20//NONSGML v1.0//EN
CALSCALE:GREGORIAN
METHOD:PUBLISH
X-ORIGINAL-URL:https://www.brassrailfw.com
X-WR-CALDESC:Events for The Brass Rail
REFRESH-INTERVAL;VALUE=DURATION:PT1H
X-Robots-Tag:noindex
X-PUBLISHED-TTL:PT1H
BEGIN:VTIMEZONE
TZID:UTC
BEGIN:STANDARD
TZOFFSETFROM:+0000
TZOFFSETTO:+0000
TZNAME:UTC
DTSTART:20240101T000000
END:STANDARD
END:VTIMEZONE
BEGIN:VEVENT
DTSTART;TZID=UTC:20250201T213000
DTEND;TZID=UTC:20250201T213000
DTSTAMP:20260425T102149
CREATED:20241111T235009Z
LAST-MODIFIED:20250119T022247Z
UID:10001976-1738445400-1738445400@www.brassrailfw.com
SUMMARY:The Slow Death\, Flamingo Nosebleed
DESCRIPTION:Hide yo kids\, hide yo wife! \nThe Slow Death are comin back to The Brass Rail! Flamingo Nosebleed is gonna be rippin it up too\, along with Field Goal (the rockers formerly known as church shoes). All around killer night. \nDoors at 9. Show at 930/10. Come kick it and bring all your buds and enemies! Let’s rip some beers and have a killer time!!!!! \n$10
URL:https://www.brassrailfw.com/show/the-slow-death-flamingo-nosebleed/
LOCATION:The Brass Rail\, 1121 Broadway\, Fort Wayne\, IN\, 46802\, United States
ATTACH;FMTTYPE=image/jpeg:https://www.brassrailfw.com/wp-content/uploads/2024/11/2025_02_01-vert-flamingo.jpg
GEO:41.0740622;-85.1478209
X-APPLE-STRUCTURED-LOCATION;VALUE=URI;X-ADDRESS=The Brass Rail 1121 Broadway Fort Wayne IN 46802 United States;X-APPLE-RADIUS=500;X-TITLE=1121 Broadway:geo:-85.1478209,41.0740622
END:VEVENT
BEGIN:VEVENT
DTSTART;TZID=UTC:20250206T200000
DTEND;TZID=UTC:20250206T200000
DTSTAMP:20260425T102149
CREATED:20250117T144711Z
LAST-MODIFIED:20250124T131316Z
UID:10002027-1738872000-1738872000@www.brassrailfw.com
SUMMARY:Near Mint 10th Anniversary Show: Sirius Blvck\, Growing Stone\, Thinning
DESCRIPTION:Near Mint Record Label\nhttps://www.instagram.com/wearenearmint/ \nis celebrating their 10 Year Anniversay with musical acts \nSirius Blvck\nhttps://www.instagram.com/siriusblvck/ \nGrowing Stone\nhttps://www.instagram.com/growingstonemusic/ \nThinning\nhttps://www.instagram.com/itsthinning/ \n$8 cover\, must be 21
URL:https://www.brassrailfw.com/show/nearmint10/
LOCATION:The Brass Rail\, 1121 Broadway\, Fort Wayne\, IN\, 46802\, United States
ATTACH;FMTTYPE=image/jpeg:https://www.brassrailfw.com/wp-content/uploads/2025/01/2025_02_06-near-mint-10.jpg
GEO:41.0740622;-85.1478209
X-APPLE-STRUCTURED-LOCATION;VALUE=URI;X-ADDRESS=The Brass Rail 1121 Broadway Fort Wayne IN 46802 United States;X-APPLE-RADIUS=500;X-TITLE=1121 Broadway:geo:-85.1478209,41.0740622
END:VEVENT
BEGIN:VEVENT
DTSTART;TZID=UTC:20250207T210000
DTEND;TZID=UTC:20250207T213000
DTSTAMP:20260425T102149
CREATED:20241228T214736Z
LAST-MODIFIED:20250206T021301Z
UID:10002015-1738962000-1738963800@www.brassrailfw.com
SUMMARY:New League Record\, Split Parasite\, ITHINKTOOMUCH
DESCRIPTION:Split Parasitehttps://www.instagram.com/split.parasite/\nITHINKTOOMUCHhttps://www.instagram.com/ithnk2mch/\n$5 cover\, must be 21
URL:https://www.brassrailfw.com/show/faithinnothing-2/
LOCATION:The Brass Rail\, 1121 Broadway\, Fort Wayne\, IN\, 46802\, United States
ATTACH;FMTTYPE=image/jpeg:https://www.brassrailfw.com/wp-content/uploads/2024/12/2025_02_07-vert-split-parasite-scaled.jpeg
GEO:41.0740622;-85.1478209
X-APPLE-STRUCTURED-LOCATION;VALUE=URI;X-ADDRESS=The Brass Rail 1121 Broadway Fort Wayne IN 46802 United States;X-APPLE-RADIUS=500;X-TITLE=1121 Broadway:geo:-85.1478209,41.0740622
END:VEVENT
BEGIN:VEVENT
DTSTART;TZID=UTC:20250208T210000
DTEND;TZID=UTC:20250208T210000
DTSTAMP:20260425T102149
CREATED:20241120T203942Z
LAST-MODIFIED:20250106T003625Z
UID:10001984-1739048400-1739048400@www.brassrailfw.com
SUMMARY:King Falcon\, Heaven's Gateway Drugs\, Indigo Society
DESCRIPTION:King Falcon (New York City Alt Rock)\nhttps://www.instagram.com/kingfalconband/ \nHeaven’s Gateway Drugs\nhttps://www.instagram.com/hvnsgtwydrgs/ \nIndigo Society\nhttps://www.instagram.com/theindigosocietyband/ \n  \n$7 cover\, must be 21
URL:https://www.brassrailfw.com/show/h-jess-15/
LOCATION:The Brass Rail\, 1121 Broadway\, Fort Wayne\, IN\, 46802\, United States
ATTACH;FMTTYPE=image/jpeg:https://www.brassrailfw.com/wp-content/uploads/2024/11/2025_02_08-falcon.jpeg
GEO:41.0740622;-85.1478209
X-APPLE-STRUCTURED-LOCATION;VALUE=URI;X-ADDRESS=The Brass Rail 1121 Broadway Fort Wayne IN 46802 United States;X-APPLE-RADIUS=500;X-TITLE=1121 Broadway:geo:-85.1478209,41.0740622
END:VEVENT
BEGIN:VEVENT
DTSTART;TZID=UTC:20250214T210000
DTEND;TZID=UTC:20250214T210000
DTSTAMP:20260425T102149
CREATED:20240912T173955Z
LAST-MODIFIED:20250206T020843Z
UID:10001960-1739566800-1739566800@www.brassrailfw.com
SUMMARY:💔 THIS AINT A SCENE\, it’s an emo Valentine’s Day dance party!
DESCRIPTION:Come to The Brass Rail 2/14 and DANCE TO THIS BEAT AND HOLD A LOVER CLOSE. A night of sad bangers supplied by our fav emo DJ @lubsoffical and special guests. MAKE DAMN SURE you don’t miss it! \n💌 Candy grams & in-bar Valentine delivery- Give your CRUSHCRUSHCRUSH something special\, hand delivered by emo cupid! \n✂️ DIY Valentine station— You don’t have to stand OUTSIDE OF THEIR WINDOW WITH YOUR RADIO to let them know you care! \n🔮 Tarot love readings— Find out if it’s time to say THNKS FR TH MMRS or if you should DANCE\, DANCE the night away. \n🐶🐱 Donate to Humane Fort Wayne – Not feeling the love? For a donation we’ll write your ex’s name on a doggy bag that Humane Fort Wayne will use to clean up 💩 at the shelter. You can keep it your DIRTY LITTLE SECRET or share your commemorative certificate with your top 8. \nDon’t be MISERABLE AT BEST this V-Day! Grab your scene bfflz\, DARKEN YOUR CLOTHES AND STRIKE A VIOLENT POSE\, and let’s make this night HANDS DOWN the best Valentine’s Day ever!\nRAwR XD <3 🖤 \n#EmoValentines #SugarWe’reGoinDownToTheBrassRail #ItWasNeverAPhase #rawrXD #<3
URL:https://www.brassrailfw.com/show/h-michael-morgan-2/
LOCATION:The Brass Rail\, 1121 Broadway\, Fort Wayne\, IN\, 46802\, United States
ATTACH;FMTTYPE=image/jpeg:https://www.brassrailfw.com/wp-content/uploads/2024/09/2025_02_14-vert-valentine.jpg
GEO:41.0740622;-85.1478209
X-APPLE-STRUCTURED-LOCATION;VALUE=URI;X-ADDRESS=The Brass Rail 1121 Broadway Fort Wayne IN 46802 United States;X-APPLE-RADIUS=500;X-TITLE=1121 Broadway:geo:-85.1478209,41.0740622
END:VEVENT
BEGIN:VEVENT
DTSTART;TZID=UTC:20250215T210000
DTEND;TZID=UTC:20250215T210000
DTSTAMP:20260425T102149
CREATED:20241203T175237Z
LAST-MODIFIED:20250214T134431Z
UID:10001996-1739653200-1739653200@www.brassrailfw.com
SUMMARY:Joe's Truck Stop\, Jonah Leatherman\, Olivia & The Garden Dogs
DESCRIPTION:$7 cover\, must be 21
URL:https://www.brassrailfw.com/show/joestruckstop/
LOCATION:The Brass Rail\, 1121 Broadway\, Fort Wayne\, IN\, 46802\, United States
ATTACH;FMTTYPE=image/jpeg:https://www.brassrailfw.com/wp-content/uploads/2024/12/2025_02_15-vert-joe-truck-stop.jpg
GEO:41.0740622;-85.1478209
X-APPLE-STRUCTURED-LOCATION;VALUE=URI;X-ADDRESS=The Brass Rail 1121 Broadway Fort Wayne IN 46802 United States;X-APPLE-RADIUS=500;X-TITLE=1121 Broadway:geo:-85.1478209,41.0740622
END:VEVENT
BEGIN:VEVENT
DTSTART;TZID=UTC:20250220T193000
DTEND;TZID=UTC:20250220T235900
DTSTAMP:20260425T102149
CREATED:20241218T022931Z
LAST-MODIFIED:20250113T230658Z
UID:10002010-1740079800-1740095940@www.brassrailfw.com
SUMMARY:Evening with The Ike Reilly Assassination
DESCRIPTION:$13.00 no-fee tickets on sale now \n$15 day of the show \nIke Reilly is a punk-poet-troubadour and the leader of the ferocious musical outfit The Ike Reilly Assassination. The former doorman and gravedigger hailing from the seemingly idyllic town of Libertyville\, Illinois is the subject of the award-winning documentary Don’t Turn Your Back On Friday Night. The film\, from Executive Producer Tom Morello\, chronicles the songs\, career and proverbial life of Reilly.  Like the subject matter of his music\, the film deals with booze\, drugs\, religion\, family\, financial calamity and culls over 30 years of footage to reveal a complicated and formidable artist in his pursuit of both greatness and authenticity. The film is both profound and personal. \nSince his 2001 major label debut\, Salesmen and Racists\, Reilly has been creating rebellious punk/folk/country/blues-influenced rock ’n’ roll records that are both poetic and cinematic. He’s written songs for and collaborated with artists like Johnny Hickman and David Lowery of the band Cracker\, Shooter Jennings and Tom Morello.  Critical praise for his work has been plentiful.  David Carr of the New York Times said\, ”Ike Reilly is a kind of natural resource mined from the bedrock of music\, all the values that make Rock important to people-storytelling\, melody\, rage\, laughter are part and parcel of every Ike Reilly show I’ve ever seen.”  The Washington Post called The Ike Reilly Assassination one of the best live bands in America and author Stephen King recently said “Ike Reilly is the Rock God not enough people have heard of.” \nThe Ike Reilly Assassination will be heading out on their AMERICAN STEAL TOUR this February and Don’t Turn Your Back On Friday Night is now streaming on APPLE TV\, AMAZON PRIME\, YOUTUBE and all major streaming platforms. bit.ly/4hoOMAr
URL:https://www.brassrailfw.com/show/ikereilly/
LOCATION:The Brass Rail\, 1121 Broadway\, Fort Wayne\, IN\, 46802\, United States
ATTACH;FMTTYPE=image/jpeg:https://www.brassrailfw.com/wp-content/uploads/2024/12/IMG_3597.jpeg
GEO:41.0740622;-85.1478209
X-APPLE-STRUCTURED-LOCATION;VALUE=URI;X-ADDRESS=The Brass Rail 1121 Broadway Fort Wayne IN 46802 United States;X-APPLE-RADIUS=500;X-TITLE=1121 Broadway:geo:-85.1478209,41.0740622
END:VEVENT
BEGIN:VEVENT
DTSTART;TZID=UTC:20250221T213000
DTEND;TZID=UTC:20250221T213000
DTSTAMP:20260425T102149
CREATED:20241206T220853Z
LAST-MODIFIED:20250219T144150Z
UID:10001999-1740173400-1740173400@www.brassrailfw.com
SUMMARY:Los Electro\, Wisemary\, The Erly
DESCRIPTION:Live Original Music with \nLOS ELECTRO (latin rock)\nhttps://www.instagram.com/loselectroband/ \nWisemary (st. louis\, rock-n-roll)\nhttps://www.instagram.com/wisemaryofficial/ \nThe Erly (michiana American rock)\nhttps://www.instagram.com/theerlyband/ \n$7 cover\, must be 21
URL:https://www.brassrailfw.com/show/los-electro/
LOCATION:The Brass Rail\, 1121 Broadway\, Fort Wayne\, IN\, 46802\, United States
ATTACH;FMTTYPE=image/jpeg:https://www.brassrailfw.com/wp-content/uploads/2024/12/2025_02_21-vert-los.jpg
GEO:41.0740622;-85.1478209
X-APPLE-STRUCTURED-LOCATION;VALUE=URI;X-ADDRESS=The Brass Rail 1121 Broadway Fort Wayne IN 46802 United States;X-APPLE-RADIUS=500;X-TITLE=1121 Broadway:geo:-85.1478209,41.0740622
END:VEVENT
BEGIN:VEVENT
DTSTART;TZID=UTC:20250222T210000
DTEND;TZID=UTC:20250222T210000
DTSTAMP:20260425T102149
CREATED:20241218T022950Z
LAST-MODIFIED:20250219T150236Z
UID:10002011-1740258000-1740258000@www.brassrailfw.com
SUMMARY:Denny DeNicolo\, quiet/creator\, placeholder
DESCRIPTION:Live original music with \nDenny DeNicolo\nhttps://www.instagram.com/denny.denicolo/ \nquiet/creator\nhttps://www.instagram.com/quietcreatorquietcreator/ \nPlaceholder\nhttps://www.instagram.com/yourplaceholder/ \n$7 cover\, must be 21
URL:https://www.brassrailfw.com/show/h-frank-riley-2/
LOCATION:The Brass Rail\, 1121 Broadway\, Fort Wayne\, IN\, 46802\, United States
ATTACH;FMTTYPE=image/jpeg:https://www.brassrailfw.com/wp-content/uploads/2024/12/2025_02_22-vert-placeholder.jpeg
GEO:41.0740622;-85.1478209
X-APPLE-STRUCTURED-LOCATION;VALUE=URI;X-ADDRESS=The Brass Rail 1121 Broadway Fort Wayne IN 46802 United States;X-APPLE-RADIUS=500;X-TITLE=1121 Broadway:geo:-85.1478209,41.0740622
END:VEVENT
BEGIN:VEVENT
DTSTART;TZID=UTC:20250228T213000
DTEND;TZID=UTC:20250228T235900
DTSTAMP:20260425T102149
CREATED:20250106T001510Z
LAST-MODIFIED:20250220T151529Z
UID:10002019-1740778200-1740787140@www.brassrailfw.com
SUMMARY:Mike Neglia and The Nobles\, Hello Sapien\, Peachtree
DESCRIPTION:Live Original Music with \nMike Neglia and The Nobles\nhttps://www.instagram.com/mikeneglia_thenobles/ \nHello Sapien\nhttps://www.instagram.com/hellosapienmusic/ \nPeachtree \n$7 cover\, must be 21
URL:https://www.brassrailfw.com/show/hello-sapien/
LOCATION:The Brass Rail\, 1121 Broadway\, Fort Wayne\, IN\, 46802\, United States
ATTACH;FMTTYPE=image/jpeg:https://www.brassrailfw.com/wp-content/uploads/2025/01/2025_02_28-vert-mike-nerg-scaled.jpg
GEO:41.0740622;-85.1478209
X-APPLE-STRUCTURED-LOCATION;VALUE=URI;X-ADDRESS=The Brass Rail 1121 Broadway Fort Wayne IN 46802 United States;X-APPLE-RADIUS=500;X-TITLE=1121 Broadway:geo:-85.1478209,41.0740622
END:VEVENT
END:VCALENDAR