BEGIN:VCALENDAR
VERSION:2.0
PRODID:-//The Brass Rail - ECPv6.15.20//NONSGML v1.0//EN
CALSCALE:GREGORIAN
METHOD:PUBLISH
X-ORIGINAL-URL:https://www.brassrailfw.com
X-WR-CALDESC:Events for The Brass Rail
REFRESH-INTERVAL;VALUE=DURATION:PT1H
X-Robots-Tag:noindex
X-PUBLISHED-TTL:PT1H
BEGIN:VTIMEZONE
TZID:UTC
BEGIN:STANDARD
TZOFFSETFROM:+0000
TZOFFSETTO:+0000
TZNAME:UTC
DTSTART:20240101T000000
END:STANDARD
END:VTIMEZONE
BEGIN:VEVENT
DTSTART;TZID=UTC:20251101T214500
DTEND;TZID=UTC:20251101T235900
DTSTAMP:20260424T214640
CREATED:20250604T005054Z
LAST-MODIFIED:20251026T213252Z
UID:10002108-1762033500-1762041540@www.brassrailfw.com
SUMMARY:Loveseat!\, Augmentasia
DESCRIPTION:$7 cover\, must be 21
URL:https://www.brassrailfw.com/show/mary-loveseat/
LOCATION:The Brass Rail\, 1121 Broadway\, Fort Wayne\, IN\, 46802\, United States
ATTACH;FMTTYPE=image/jpeg:https://www.brassrailfw.com/wp-content/uploads/2025/06/2025_11_01.jpg
GEO:41.0740622;-85.1478209
X-APPLE-STRUCTURED-LOCATION;VALUE=URI;X-ADDRESS=The Brass Rail 1121 Broadway Fort Wayne IN 46802 United States;X-APPLE-RADIUS=500;X-TITLE=1121 Broadway:geo:-85.1478209,41.0740622
END:VEVENT
BEGIN:VEVENT
DTSTART;TZID=UTC:20251107T213000
DTEND;TZID=UTC:20251107T235900
DTSTAMP:20260424T214640
CREATED:20250818T211848Z
LAST-MODIFIED:20251028T151544Z
UID:10002122-1762551000-1762559940@www.brassrailfw.com
SUMMARY:Tuesday Atlas\, We Love  You\, Man of The Flood
DESCRIPTION:$7 cover\, must be 21
URL:https://www.brassrailfw.com/show/tuesday-atlas-2/
LOCATION:The Brass Rail\, 1121 Broadway\, Fort Wayne\, IN\, 46802\, United States
ATTACH;FMTTYPE=image/jpeg:https://www.brassrailfw.com/wp-content/uploads/2025/08/Tuesday-Atlast.jpg
GEO:41.0740622;-85.1478209
X-APPLE-STRUCTURED-LOCATION;VALUE=URI;X-ADDRESS=The Brass Rail 1121 Broadway Fort Wayne IN 46802 United States;X-APPLE-RADIUS=500;X-TITLE=1121 Broadway:geo:-85.1478209,41.0740622
END:VEVENT
BEGIN:VEVENT
DTSTART;TZID=UTC:20251108T213000
DTEND;TZID=UTC:20251108T235900
DTSTAMP:20260424T214640
CREATED:20250626T174104Z
LAST-MODIFIED:20251016T154031Z
UID:10002107-1762637400-1762646340@www.brassrailfw.com
SUMMARY:Unwed Sailor with Metavari
DESCRIPTION:Unwed Sailor\nhttps://linktr.ee/unwedsailor \n  \nUnwed Sailor – Cruel Entertainment (Current Taste\, 2025)\nFor their tenth LP in a career spanning more than two decades\, Tulsa’s Unwed Sailor deliver their heaviest riffs\, loudest squalls\, and most deeply textured arrangements yet. Cruel Entertainment is a catalogue of contrasts – dissonance and harmony\, hardcore crunch and post-rock grandeur\, complexity and catchiness – that adds a vibrant new dimension to the second phase of their discography\, spanning thus far from 2019’s landmark Heavy Age up to the “vivid\, starry-eyed psychedelia” (AllMusic) of 2024’s Underwater Over There.\nOpener and lead single\, “Rock Candy”\, roars in with a gale of feedback\, pounding drums\, \nMetavari \nMetavari is a multidisciplinary\, electronic music duo from Fort Wayne\, Indiana. Members include graphic artist and composer\, Nathaniel David Utesch and contemporary percussionist\, Colin Boyd. Metavari’s dark\, cinematic records make extensive use of nostalgic electronics and sampling; a collage of synth-laden melodies\, menacing instrumentation and foley sounds.\nThe project has released nine titles worldwide through Light in the Attic Records\, Mondo\, and Deathwish\, Inc.\, seen 7 members\, and played nearly 400 shows in its twin existences (2008-2015\, 2017-present). They’ve toured with and supported This Will Destroy You\, Maserati\, Tortoise\, Digitalism\, Anamanaguchi\, Small Black\, Adam Jones (S U R V I V E)\, Titus Andronicus\, among others; and shared the festival stage with Thurston Moore\, The Flaming Lips\, Andrew W.K.\, FACS\, Mexican Institute of Sound\, and Kishi Bashi. \nTickets On Sale Now $10.00
URL:https://www.brassrailfw.com/show/h-unwed-sailor-3/
LOCATION:The Brass Rail\, 1121 Broadway\, Fort Wayne\, IN\, 46802\, United States
ATTACH;FMTTYPE=image/jpeg:https://www.brassrailfw.com/wp-content/uploads/2025/06/Unwed-Sailor-small.jpg
GEO:41.0740622;-85.1478209
X-APPLE-STRUCTURED-LOCATION;VALUE=URI;X-ADDRESS=The Brass Rail 1121 Broadway Fort Wayne IN 46802 United States;X-APPLE-RADIUS=500;X-TITLE=1121 Broadway:geo:-85.1478209,41.0740622
END:VEVENT
BEGIN:VEVENT
DTSTART;TZID=UTC:20251111T200000
DTEND;TZID=UTC:20251111T230000
DTSTAMP:20260424T214640
CREATED:20251014T180200Z
LAST-MODIFIED:20251102T170618Z
UID:10002144-1762891200-1762902000@www.brassrailfw.com
SUMMARY:Poetry Night:  Hallie Nowak\, Shanel Turner\, Kay Allday
DESCRIPTION:$7 cover\, must be 21
URL:https://www.brassrailfw.com/show/h-jess-19/
LOCATION:The Brass Rail\, 1121 Broadway\, Fort Wayne\, IN\, 46802\, United States
ATTACH;FMTTYPE=image/png:https://www.brassrailfw.com/wp-content/uploads/2025/10/2025_11_11-poetry-night.png
GEO:41.0740622;-85.1478209
X-APPLE-STRUCTURED-LOCATION;VALUE=URI;X-ADDRESS=The Brass Rail 1121 Broadway Fort Wayne IN 46802 United States;X-APPLE-RADIUS=500;X-TITLE=1121 Broadway:geo:-85.1478209,41.0740622
END:VEVENT
BEGIN:VEVENT
DTSTART;TZID=UTC:20251114T210000
DTEND;TZID=UTC:20251114T235900
DTSTAMP:20260424T214640
CREATED:20250719T234025Z
LAST-MODIFIED:20251028T153256Z
UID:10002115-1763154000-1763164740@www.brassrailfw.com
SUMMARY:Flamingo Nosebleed\, Norcos Y Horchata\, The Blacklist
DESCRIPTION:Flamingo Nosebleed\nhttps://www.instagram.com/flamingonosebleed/ \nNorcos Y Horchata\nhttps://www.instagram.com/norcosyhorchata/ \nThe Blacklist\nhttps://www.instagram.com/theblacklistdetroit/ \nposter by Jake Sauer
URL:https://www.brassrailfw.com/show/flamingo-nosebleed-norcos-y-horchata-the-blacklist/
LOCATION:The Brass Rail\, 1121 Broadway\, Fort Wayne\, IN\, 46802\, United States
ATTACH;FMTTYPE=image/jpeg:https://www.brassrailfw.com/wp-content/uploads/2025/07/2025_11_14-flamingo.jpg
GEO:41.0740622;-85.1478209
X-APPLE-STRUCTURED-LOCATION;VALUE=URI;X-ADDRESS=The Brass Rail 1121 Broadway Fort Wayne IN 46802 United States;X-APPLE-RADIUS=500;X-TITLE=1121 Broadway:geo:-85.1478209,41.0740622
END:VEVENT
BEGIN:VEVENT
DTSTART;TZID=UTC:20251115T213000
DTEND;TZID=UTC:20251115T235900
DTSTAMP:20260424T214640
CREATED:20250711T134910Z
LAST-MODIFIED:20251028T154409Z
UID:10002113-1763242200-1763251140@www.brassrailfw.com
SUMMARY:Middle Names\, Buster Clifton Davis\, Tulja
DESCRIPTION:Middle Names\nhttps://www.instagram.com/middlenamesband/ \nBuster Clifton Davis\nhttps://www.instagram.com/bustercliftondavis/ \nTulja\nhttps://www.instagram.com/tulja.music/ \n$8 cover\, must be 21
URL:https://www.brassrailfw.com/show/middle-names-6/
LOCATION:The Brass Rail\, 1121 Broadway\, Fort Wayne\, IN\, 46802\, United States
ATTACH;FMTTYPE=image/jpeg:https://www.brassrailfw.com/wp-content/uploads/2025/07/2025_11_15-michael-morgan.jpg
GEO:41.0740622;-85.1478209
X-APPLE-STRUCTURED-LOCATION;VALUE=URI;X-ADDRESS=The Brass Rail 1121 Broadway Fort Wayne IN 46802 United States;X-APPLE-RADIUS=500;X-TITLE=1121 Broadway:geo:-85.1478209,41.0740622
END:VEVENT
BEGIN:VEVENT
DTSTART;TZID=UTC:20251121T210000
DTEND;TZID=UTC:20251121T235900
DTSTAMP:20260424T214640
CREATED:20250806T004340Z
LAST-MODIFIED:20251114T031116Z
UID:10002119-1763758800-1763769540@www.brassrailfw.com
SUMMARY:Mycota (bloomington\, in)\, SUN.DYLE\, Augmentasia\,
DESCRIPTION:Mycota\nhttps://www.instagram.com/mycotaofficial/ \nSun.Dyle\nhttps://www.instagram.com/sun.dyle/ \nAugmentasia\nhttps://www.instagram.com/augmentasia_/ \n$7 cover\, must be 21.
URL:https://www.brassrailfw.com/show/sun-dyle-mycota-bloomington-in/
LOCATION:The Brass Rail\, 1121 Broadway\, Fort Wayne\, IN\, 46802\, United States
ATTACH;FMTTYPE=image/png:https://www.brassrailfw.com/wp-content/uploads/2025/08/2025_11_21-sun.dyle_.png
GEO:41.0740622;-85.1478209
X-APPLE-STRUCTURED-LOCATION;VALUE=URI;X-ADDRESS=The Brass Rail 1121 Broadway Fort Wayne IN 46802 United States;X-APPLE-RADIUS=500;X-TITLE=1121 Broadway:geo:-85.1478209,41.0740622
END:VEVENT
BEGIN:VEVENT
DTSTART;TZID=UTC:20251122T213000
DTEND;TZID=UTC:20251122T235900
DTSTAMP:20260424T214640
CREATED:20250708T011845Z
LAST-MODIFIED:20251111T012238Z
UID:10002111-1763847000-1763855940@www.brassrailfw.com
SUMMARY:Atticus Sorrell\, Salvadore Ross and Schurger Shutz Band
DESCRIPTION:Atticus Sorrell\nhttps://www.instagram.com/atticusfinch95/ \nSalvadore Ross\nhttps://www.instagram.com/salvadore_ross_/ \nSchurger Shutz Band \n$7 cover\, must be 21 \nposter by Michael Collins\nhttps://www.instagram.com/michael.collinsart/
URL:https://www.brassrailfw.com/show/h-atticus/
LOCATION:The Brass Rail\, 1121 Broadway\, Fort Wayne\, IN\, 46802\, United States
ATTACH;FMTTYPE=image/png:https://www.brassrailfw.com/wp-content/uploads/2025/07/2025_11_22-atticus-small.png
GEO:41.0740622;-85.1478209
X-APPLE-STRUCTURED-LOCATION;VALUE=URI;X-ADDRESS=The Brass Rail 1121 Broadway Fort Wayne IN 46802 United States;X-APPLE-RADIUS=500;X-TITLE=1121 Broadway:geo:-85.1478209,41.0740622
END:VEVENT
BEGIN:VEVENT
DTSTART;TZID=UTC:20251126T210000
DTEND;TZID=UTC:20251126T235900
DTSTAMP:20260424T214640
CREATED:20250827T015258Z
LAST-MODIFIED:20251115T235737Z
UID:10002125-1764190800-1764201540@www.brassrailfw.com
SUMMARY:Stay Up
DESCRIPTION:$10 before 11pm\, $15 after must be 21 \nStay Up x Brass Rail\, a match made. See you there bb’s!\n.\n.\nw/ our fave @phreshben\n.\n.\n11/26\n.\n.\n9pm – 1am\n.\n.\n$10 before 11pm\, $15 after (come early for discount)\n.\n.\nBring canned food\, non-perishables\, or properly wrapped toiletries for the food pantry outside of fancy and staple—for the love.\n.\n.
URL:https://www.brassrailfw.com/show/stay-up-2/
LOCATION:The Brass Rail\, 1121 Broadway\, Fort Wayne\, IN\, 46802\, United States
ATTACH;FMTTYPE=image/png:https://www.brassrailfw.com/wp-content/uploads/2025/08/2025_11_26-stay-up.png
GEO:41.0740622;-85.1478209
X-APPLE-STRUCTURED-LOCATION;VALUE=URI;X-ADDRESS=The Brass Rail 1121 Broadway Fort Wayne IN 46802 United States;X-APPLE-RADIUS=500;X-TITLE=1121 Broadway:geo:-85.1478209,41.0740622
END:VEVENT
BEGIN:VEVENT
DTSTART;TZID=UTC:20251128T213000
DTEND;TZID=UTC:20251128T235900
DTSTAMP:20260424T214640
CREATED:20250917T143417Z
LAST-MODIFIED:20251118T134400Z
UID:10002136-1764365400-1764374340@www.brassrailfw.com
SUMMARY:A Tribute to Tom Petty with Uncle Muscle and Friends
DESCRIPTION:$7 cover\, must be 21. \nposter by Jared Andrews
URL:https://www.brassrailfw.com/show/uncle-muscle-8/
LOCATION:The Brass Rail\, 1121 Broadway\, Fort Wayne\, IN\, 46802\, United States
ATTACH;FMTTYPE=image/jpeg:https://www.brassrailfw.com/wp-content/uploads/2025/09/2025_11_28-tom-petty-Copy-Copy-2.jpg
GEO:41.0740622;-85.1478209
X-APPLE-STRUCTURED-LOCATION;VALUE=URI;X-ADDRESS=The Brass Rail 1121 Broadway Fort Wayne IN 46802 United States;X-APPLE-RADIUS=500;X-TITLE=1121 Broadway:geo:-85.1478209,41.0740622
END:VEVENT
BEGIN:VEVENT
DTSTART;TZID=UTC:20251129T210000
DTEND;TZID=UTC:20251129T235900
DTSTAMP:20260424T214640
CREATED:20250718T134325Z
LAST-MODIFIED:20251028T153348Z
UID:10002114-1764450000-1764460740@www.brassrailfw.com
SUMMARY:Clownvis Presley with Sooflay
DESCRIPTION:The King Returns! \nThe LA Weekly calls Clownvis Presley “Better than the real Elvis”. A bold statement indeed\, but when it comes to quick wit\, incredibly catchy songs\, and genuine showmanship\, its safe to say Clownvis has earned the title “The King of Clowns”. From the sideshow at Coney Island to the hottest comedy events in Los Angeles and everything in between\, Clownvis is consistently brining his unique blend of comedy\, song\, and magic to stages across America.\nThanks to a controversial appearance on NBC’s America’s Got Talent\, Clownvis is now familiar to millions of people around the planet. His outrageous audition is a must see (check Youtube). Following this break through Clownvis has become a huge sensation\, releasing viral music videos and appearing on Comedy Central\, The Tom Green Show\, Playboy Radio\, Sirius XM\, and on comedy bills with legends such as Tim Heidecker\, Sarah Silverman\, Margaret Cho\, Drew Carry\, David Spade\, Bob Odenkirk\, and many more. \nClownvis\nhttps://linktr.ee/Clownvis \nwith Sooflayhttps://www.instagram.com/s00f14y/ \n$9 no-fee tickets on sale now.   $11 day of show.
URL:https://www.brassrailfw.com/show/clownvis_king/
LOCATION:The Brass Rail\, 1121 Broadway\, Fort Wayne\, IN\, 46802\, United States
ATTACH;FMTTYPE=image/jpeg:https://www.brassrailfw.com/wp-content/uploads/2017/11/clownvis.jpg
GEO:41.0740622;-85.1478209
X-APPLE-STRUCTURED-LOCATION;VALUE=URI;X-ADDRESS=The Brass Rail 1121 Broadway Fort Wayne IN 46802 United States;X-APPLE-RADIUS=500;X-TITLE=1121 Broadway:geo:-85.1478209,41.0740622
END:VEVENT
END:VCALENDAR