BEGIN:VCALENDAR
VERSION:2.0
PRODID:-//The Brass Rail - ECPv6.15.20//NONSGML v1.0//EN
CALSCALE:GREGORIAN
METHOD:PUBLISH
X-ORIGINAL-URL:https://www.brassrailfw.com
X-WR-CALDESC:Events for The Brass Rail
REFRESH-INTERVAL;VALUE=DURATION:PT1H
X-Robots-Tag:noindex
X-PUBLISHED-TTL:PT1H
BEGIN:VTIMEZONE
TZID:UTC
BEGIN:STANDARD
TZOFFSETFROM:+0000
TZOFFSETTO:+0000
TZNAME:UTC
DTSTART:20250101T000000
END:STANDARD
END:VTIMEZONE
BEGIN:VEVENT
DTSTART;TZID=UTC:20260306T200000
DTEND;TZID=UTC:20260306T235900
DTSTAMP:20260424T163921
CREATED:20251125T011113Z
LAST-MODIFIED:20260221T033846Z
UID:10002163-1772827200-1772841540@www.brassrailfw.com
SUMMARY:Sprocket Music\, Candid Antics\, Sun.Dyle
DESCRIPTION:Sprocket Music\nhttps://www.instagram.com/spocketmusic/ \nCandid Antics\nhttps://www.instagram.com/candidantics/ \nSun.Dyle\nhttps://www.instagram.com/sun.dyle/ \n$9 cover\, must be 21 \n 
URL:https://www.brassrailfw.com/show/h-sun-dyle/
LOCATION:The Brass Rail\, 1121 Broadway\, Fort Wayne\, IN\, 46802\, United States
ATTACH;FMTTYPE=image/png:https://www.brassrailfw.com/wp-content/uploads/2025/11/2026_03_06.png
GEO:41.0740622;-85.1478209
X-APPLE-STRUCTURED-LOCATION;VALUE=URI;X-ADDRESS=The Brass Rail 1121 Broadway Fort Wayne IN 46802 United States;X-APPLE-RADIUS=500;X-TITLE=1121 Broadway:geo:-85.1478209,41.0740622
END:VEVENT
BEGIN:VEVENT
DTSTART;TZID=UTC:20260307T210000
DTEND;TZID=UTC:20260307T235900
DTSTAMP:20260424T163921
CREATED:20251205T005100Z
LAST-MODIFIED:20260221T032354Z
UID:10002169-1772917200-1772927940@www.brassrailfw.com
SUMMARY:Denny and the Down & Outers\, Work Friends\, Peachtree
DESCRIPTION:Denny and the Down & Outers \nWork Friends\nhttps://www.instagram.com/workfriendsforever/ \nPeachtree\nhttps://www.instagram.com/peachtree_official/ \n$7 cover\, must be 21
URL:https://www.brassrailfw.com/show/h-drew-taft/
LOCATION:The Brass Rail\, 1121 Broadway\, Fort Wayne\, IN\, 46802\, United States
ATTACH;FMTTYPE=image/jpeg:https://www.brassrailfw.com/wp-content/uploads/2025/12/2026_03_07.jpg
GEO:41.0740622;-85.1478209
X-APPLE-STRUCTURED-LOCATION;VALUE=URI;X-ADDRESS=The Brass Rail 1121 Broadway Fort Wayne IN 46802 United States;X-APPLE-RADIUS=500;X-TITLE=1121 Broadway:geo:-85.1478209,41.0740622
END:VEVENT
BEGIN:VEVENT
DTSTART;TZID=UTC:20260310T200000
DTEND;TZID=UTC:20260310T235900
DTSTAMP:20260424T163921
CREATED:20260210T180953Z
LAST-MODIFIED:20260213T003738Z
UID:10002200-1773172800-1773187140@www.brassrailfw.com
SUMMARY:An Evening with The Ike Reilly Assassination
DESCRIPTION:The Ike Reilly Assassination\nhttps://www.instagram.com/ikereilly/ \nSince his explosive major label debut\, SALESMEN AND RACISTS\, Reilly has been creating rebellious\npunk/folk/country/blues-influenced rock ’n’ roll records that are poetic and cinematic. Critical\npraise for his work has been plentiful\, and he has garnered a wildly loyal fan base — from faithful\nfans in the dirty bars and rock clubs in the middle of nowhere to legendary authors. Reilly’s songs\nhave a unique universality that affects people. Author Stephen King wrote that Reilly’s travel band\nsaga\, “Boltcutter\,” was “the best new song to come out of the Trump era.” The New York Times\ncalled Reilly’s longtime band\, The Assassination\, one of the best live bands in America\, and once\nagain they show their dexterity and growth on Reilly’s new offering\, BECAUSE THE ANGELS \n$13 no-fee tickets on sale now.  $15 day of the show. \nDoors at 8PM
URL:https://www.brassrailfw.com/show/h-mt-re/
LOCATION:The Brass Rail\, 1121 Broadway\, Fort Wayne\, IN\, 46802\, United States
ATTACH;FMTTYPE=image/jpeg:https://www.brassrailfw.com/wp-content/uploads/2026/02/IMG_3597-small.jpg
GEO:41.0740622;-85.1478209
X-APPLE-STRUCTURED-LOCATION;VALUE=URI;X-ADDRESS=The Brass Rail 1121 Broadway Fort Wayne IN 46802 United States;X-APPLE-RADIUS=500;X-TITLE=1121 Broadway:geo:-85.1478209,41.0740622
END:VEVENT
BEGIN:VEVENT
DTSTART;TZID=UTC:20260313T213000
DTEND;TZID=UTC:20260313T235900
DTSTAMP:20260424T163921
CREATED:20260106T163153Z
LAST-MODIFIED:20260228T183341Z
UID:10002183-1773437400-1773446340@www.brassrailfw.com
SUMMARY:The Meat Flowers\, Autopolitan (cleveland)\, Home Phone
DESCRIPTION:The Meat Flowers\nhttps://www.instagram.com/themeatflowers/ \nAutopolitan (cleveland)\nhttps://www.instagram.com/ever.after.over/ \nHomephone\nhttps://www.instagram.com/homephoneworldwide/ \n  \n$7 cover\, poster by Jared Andrews
URL:https://www.brassrailfw.com/show/autopolitan-the-meat-flowers/
LOCATION:The Brass Rail\, 1121 Broadway\, Fort Wayne\, IN\, 46802\, United States
ATTACH;FMTTYPE=image/jpeg:https://www.brassrailfw.com/wp-content/uploads/2026/01/2026_03_16-autopilotan.jpg
GEO:41.0740622;-85.1478209
X-APPLE-STRUCTURED-LOCATION;VALUE=URI;X-ADDRESS=The Brass Rail 1121 Broadway Fort Wayne IN 46802 United States;X-APPLE-RADIUS=500;X-TITLE=1121 Broadway:geo:-85.1478209,41.0740622
END:VEVENT
BEGIN:VEVENT
DTSTART;TZID=UTC:20260314T213000
DTEND;TZID=UTC:20260314T235900
DTSTAMP:20260424T163921
CREATED:20251129T185217Z
LAST-MODIFIED:20260208T172525Z
UID:10002165-1773523800-1773532740@www.brassrailfw.com
SUMMARY:Atticus Sorrell and Rhytm Bloom\, Chirp
DESCRIPTION:Chirp from Detroit\, MI is coming back to the legendary Brass Rail to throw down some funky\, soulful vibes with Atticus Sorrell and Rhythm Bloom!\nDoors at 8:30$7 cover\nCheck the band out here: https://linktr.ee/chirpmusic\nChirp is a four-piece band that does their fair share of genre-hopping. Often playing in the styles of progressive rock/funk and jazz-fusion\, their sound maintains a melodic center. The group features a wide array of originals and covers in their live sets and puts together dynamic\, high-energy shows. Though their music ties in many technical elements\, an equal emphasis is put on grooving and keeping people moving. Chirp takes influence from Snarky Puppy\, Steely Dan\, Led Zeppelin\, James Brown\, Yes\, Daft Punk\, Vulfpeck\, and The Beatles to name a few.\nChirp has been hard at work since their formation in 2015\, touring and recording consistently since the project began. Their fresh sound has taken them touring across the Midwest to play a large variety of venues and festivals. Chirp is Jay Frydenlund\, Brian Long\, Sam Naples\, and Patrick Blommel.
URL:https://www.brassrailfw.com/show/atticus-sorrel-chirp/
LOCATION:The Brass Rail\, 1121 Broadway\, Fort Wayne\, IN\, 46802\, United States
ATTACH;FMTTYPE=image/jpeg:https://www.brassrailfw.com/wp-content/uploads/2025/11/2026_03_14-chirp.jpg
GEO:41.0740622;-85.1478209
X-APPLE-STRUCTURED-LOCATION;VALUE=URI;X-ADDRESS=The Brass Rail 1121 Broadway Fort Wayne IN 46802 United States;X-APPLE-RADIUS=500;X-TITLE=1121 Broadway:geo:-85.1478209,41.0740622
END:VEVENT
BEGIN:VEVENT
DTSTART;TZID=UTC:20260320T213000
DTEND;TZID=UTC:20260320T235900
DTSTAMP:20260424T163921
CREATED:20251204T014516Z
LAST-MODIFIED:20260226T000137Z
UID:10002168-1774042200-1774051140@www.brassrailfw.com
SUMMARY:Dormant\, Long Square\, The Feat\, Exterminate All Rational Thought
DESCRIPTION:Dormant \nLong Square \nThe Feat\nhttps://www.instagram.com/thefeat.chicago/ \nExterminate All Rational Thought
URL:https://www.brassrailfw.com/show/loveseat-eytmon-dormant/
LOCATION:The Brass Rail\, 1121 Broadway\, Fort Wayne\, IN\, 46802\, United States
GEO:41.0740622;-85.1478209
X-APPLE-STRUCTURED-LOCATION;VALUE=URI;X-ADDRESS=The Brass Rail 1121 Broadway Fort Wayne IN 46802 United States;X-APPLE-RADIUS=500;X-TITLE=1121 Broadway:geo:-85.1478209,41.0740622
END:VEVENT
BEGIN:VEVENT
DTSTART;TZID=UTC:20260321T210000
DTEND;TZID=UTC:20260321T235900
DTSTAMP:20260424T163921
CREATED:20251222T224403Z
LAST-MODIFIED:20260315T175740Z
UID:10002179-1774126800-1774137540@www.brassrailfw.com
SUMMARY:Thumbrider\, Nick Allison\, Fresh Tar
DESCRIPTION:Thumbrider\nhttps://www.instagram.com/thumbriderband/ \nNick Allison\nhttps://www.instagram.com/howdynickallison/ \nFresh Tar\nhttps://www.instagram.com/freshtarmusic/ \n  \n$7 cover\, must be 21
URL:https://www.brassrailfw.com/show/h-jess-22/
LOCATION:The Brass Rail\, 1121 Broadway\, Fort Wayne\, IN\, 46802\, United States
ATTACH;FMTTYPE=image/png:https://www.brassrailfw.com/wp-content/uploads/2025/12/2026_03_21-nick-allison.png
GEO:41.0740622;-85.1478209
X-APPLE-STRUCTURED-LOCATION;VALUE=URI;X-ADDRESS=The Brass Rail 1121 Broadway Fort Wayne IN 46802 United States;X-APPLE-RADIUS=500;X-TITLE=1121 Broadway:geo:-85.1478209,41.0740622
END:VEVENT
BEGIN:VEVENT
DTSTART;TZID=UTC:20260325T190000
DTEND;TZID=UTC:20260325T235900
DTSTAMP:20260424T163921
CREATED:20251209T235506Z
LAST-MODIFIED:20260323T000116Z
UID:10002174-1774465200-1774483140@www.brassrailfw.com
SUMMARY:The Burkharts with Danny Ayala (of the lemon twigs)\, Thinning
DESCRIPTION:The Burkharts bring a dose of sun-soaked nostalgia from the shores of Buffalo\, NY. Blending breezy \nmelodies with jangly guitars\, their indie surf-pop sound drifts somewhere between a 1960s Californian \ndaydream and modern lo-fi charm. Frontman Trevor pens the tunes while his brother Gavon keeps time \non the drums\, joined by Austin\, Luke\, and James to complete the band’s retro-tinged rhythm section. \nTheir latest single\, “Tell Me\,” is out now—perfect for late-night drives and golden-hour memories. \nThe Burkharts’ music video for their most recent single\, Tell Me\, out now! \nDanny Ayala\n \nWhat’s bold is new again and what’s original never truly goes out \nof style. That is the thesis behind ‘Only Fools Love Again\,’ setting \nit and its author\, Danny Ayala\, up for long-term success and a \ntenure-track rotation on any discerning pop fan’s turntable. The \ntouring bassist and keyboardist with glam and power pop \nwunderkinds\, THE LEMON TWIGS\, strikes again! ‘Only Fools \nLove Again’ ranks near the top of an extremely short list of pop \nrevival offerings that transcend sonic posturing and mere \ntribute-act dress-up pastiche. \nA forward-facing throwback\, showing off a range of influences \nboth new and old\, digital and analog\, ‘Only Fools Love Again’ is \nTHE NEW Long Island Sound and it comes highly recommended. \nGet ‘Only Fools Love Again’ today and baby you can go all the \nway. \n$12 no-fee tickets on sale now. $15 day of show. \nDoors at 7PM\, must at 8PM
URL:https://www.brassrailfw.com/show/burkharts/
LOCATION:The Brass Rail\, 1121 Broadway\, Fort Wayne\, IN\, 46802\, United States
ATTACH;FMTTYPE=image/png:https://www.brassrailfw.com/wp-content/uploads/2025/12/2026_03_25-burkharts-1.png
GEO:41.0740622;-85.1478209
X-APPLE-STRUCTURED-LOCATION;VALUE=URI;X-ADDRESS=The Brass Rail 1121 Broadway Fort Wayne IN 46802 United States;X-APPLE-RADIUS=500;X-TITLE=1121 Broadway:geo:-85.1478209,41.0740622
END:VEVENT
BEGIN:VEVENT
DTSTART;TZID=UTC:20260326T210000
DTEND;TZID=UTC:20260326T235900
DTSTAMP:20260424T163921
CREATED:20251119T192135Z
LAST-MODIFIED:20260204T043559Z
UID:10002158-1774558800-1774569540@www.brassrailfw.com
SUMMARY:Helicopter Leaves\, S.H.E (Second Hand Embrassment)\, Thinning
DESCRIPTION:
URL:https://www.brassrailfw.com/show/h-hellicopter/
LOCATION:The Brass Rail\, 1121 Broadway\, Fort Wayne\, IN\, 46802\, United States
GEO:41.0740622;-85.1478209
X-APPLE-STRUCTURED-LOCATION;VALUE=URI;X-ADDRESS=The Brass Rail 1121 Broadway Fort Wayne IN 46802 United States;X-APPLE-RADIUS=500;X-TITLE=1121 Broadway:geo:-85.1478209,41.0740622
END:VEVENT
BEGIN:VEVENT
DTSTART;TZID=UTC:20260327T210000
DTEND;TZID=UTC:20260327T235900
DTSTAMP:20260424T163921
CREATED:20260323T000040Z
LAST-MODIFIED:20260323T000040Z
UID:10002207-1774645200-1774655940@www.brassrailfw.com
SUMMARY:Mom Wagon\, Little Good\, Schlumpty Dumpty
DESCRIPTION:$7 cover\, must be 21
URL:https://www.brassrailfw.com/show/mom-wagon-little-good-schlumpty-dumpty/
LOCATION:The Brass Rail\, 1121 Broadway\, Fort Wayne\, IN\, 46802\, United States
ATTACH;FMTTYPE=image/jpeg:https://www.brassrailfw.com/wp-content/uploads/2026/03/2026_03_27-scaled.jpeg
GEO:41.0740622;-85.1478209
X-APPLE-STRUCTURED-LOCATION;VALUE=URI;X-ADDRESS=The Brass Rail 1121 Broadway Fort Wayne IN 46802 United States;X-APPLE-RADIUS=500;X-TITLE=1121 Broadway:geo:-85.1478209,41.0740622
END:VEVENT
BEGIN:VEVENT
DTSTART;TZID=UTC:20260328T210000
DTEND;TZID=UTC:20260328T235900
DTSTAMP:20260424T163921
CREATED:20260111T200037Z
LAST-MODIFIED:20260221T035035Z
UID:10002186-1774731600-1774742340@www.brassrailfw.com
SUMMARY:Post Punk Dance Night with Abel\, Los Electro
DESCRIPTION:Abel\nhttps://www.instagram.com/abelabelmusic/ \nLos Electro\nhttps://www.instagram.com/loselectroband/ \n$7 cover\, must be 21
URL:https://www.brassrailfw.com/show/los-electro-5/
LOCATION:The Brass Rail\, 1121 Broadway\, Fort Wayne\, IN\, 46802\, United States
ATTACH;FMTTYPE=image/jpeg:https://www.brassrailfw.com/wp-content/uploads/2025/12/2026_03_28-Post-Punk-Dance-Night-samller.jpg
GEO:41.0740622;-85.1478209
X-APPLE-STRUCTURED-LOCATION;VALUE=URI;X-ADDRESS=The Brass Rail 1121 Broadway Fort Wayne IN 46802 United States;X-APPLE-RADIUS=500;X-TITLE=1121 Broadway:geo:-85.1478209,41.0740622
END:VEVENT
END:VCALENDAR