BEGIN:VCALENDAR
VERSION:2.0
PRODID:-//The Brass Rail - ECPv6.15.20//NONSGML v1.0//EN
CALSCALE:GREGORIAN
METHOD:PUBLISH
X-WR-CALNAME:The Brass Rail
X-ORIGINAL-URL:https://www.brassrailfw.com
X-WR-CALDESC:Events for The Brass Rail
REFRESH-INTERVAL;VALUE=DURATION:PT1H
X-Robots-Tag:noindex
X-PUBLISHED-TTL:PT1H
BEGIN:VTIMEZONE
TZID:UTC
BEGIN:STANDARD
TZOFFSETFROM:+0000
TZOFFSETTO:+0000
TZNAME:UTC
DTSTART:20220101T000000
END:STANDARD
END:VTIMEZONE
BEGIN:VEVENT
DTSTART;TZID=UTC:20240229T203000
DTEND;TZID=UTC:20240229T203000
DTSTAMP:20260426T041844
CREATED:20231201T193332Z
LAST-MODIFIED:20231213T222827Z
UID:10001824-1709238600-1709238600@www.brassrailfw.com
SUMMARY:The Namby Pamby\, Cai Caudill and Cal in Red
DESCRIPTION:
URL:https://www.brassrailfw.com/show/pretoria-the-namby-pamby/
LOCATION:The Brass Rail\, 1121 Broadway\, Fort Wayne\, IN\, 46802\, United States
GEO:41.0740622;-85.1478209
X-APPLE-STRUCTURED-LOCATION;VALUE=URI;X-ADDRESS=The Brass Rail 1121 Broadway Fort Wayne IN 46802 United States;X-APPLE-RADIUS=500;X-TITLE=1121 Broadway:geo:-85.1478209,41.0740622
END:VEVENT
BEGIN:VEVENT
DTSTART;TZID=UTC:20240227T200000
DTEND;TZID=UTC:20240227T234500
DTSTAMP:20260426T041844
CREATED:20240110T014912Z
LAST-MODIFIED:20240110T020033Z
UID:10001842-1709064000-1709077500@www.brassrailfw.com
SUMMARY:Loveseat\, Dead People Park\, Means of Entry
DESCRIPTION:clr mary
URL:https://www.brassrailfw.com/show/h-loveseat/
LOCATION:The Brass Rail\, 1121 Broadway\, Fort Wayne\, IN\, 46802\, United States
GEO:41.0740622;-85.1478209
X-APPLE-STRUCTURED-LOCATION;VALUE=URI;X-ADDRESS=The Brass Rail 1121 Broadway Fort Wayne IN 46802 United States;X-APPLE-RADIUS=500;X-TITLE=1121 Broadway:geo:-85.1478209,41.0740622
END:VEVENT
BEGIN:VEVENT
DTSTART;TZID=UTC:20240224T210000
DTEND;TZID=UTC:20240224T210000
DTSTAMP:20260426T041844
CREATED:20240125T000343Z
LAST-MODIFIED:20240130T224226Z
UID:10001858-1708808400-1708808400@www.brassrailfw.com
SUMMARY:For Darlene (ep release)\, Quiet/Creator\, Placeholder
DESCRIPTION:$7 cover\, must be 21
URL:https://www.brassrailfw.com/show/h-jess-8/
LOCATION:The Brass Rail\, 1121 Broadway\, Fort Wayne\, IN\, 46802\, United States
ATTACH;FMTTYPE=image/jpeg:https://www.brassrailfw.com/wp-content/uploads/2024/01/2024_02_24-vert-darlene.jpg
GEO:41.0740622;-85.1478209
X-APPLE-STRUCTURED-LOCATION;VALUE=URI;X-ADDRESS=The Brass Rail 1121 Broadway Fort Wayne IN 46802 United States;X-APPLE-RADIUS=500;X-TITLE=1121 Broadway:geo:-85.1478209,41.0740622
END:VEVENT
BEGIN:VEVENT
DTSTART;TZID=UTC:20240223T214500
DTEND;TZID=UTC:20240223T214500
DTSTAMP:20260426T041844
CREATED:20231127T172835Z
LAST-MODIFIED:20240223T103431Z
UID:10001820-1708724700-1708724700@www.brassrailfw.com
SUMMARY:Middle Names\, Low Phase\, Frog Tongue
DESCRIPTION:$8 cover\, must be 21
URL:https://www.brassrailfw.com/show/middle-names-low-phase/
LOCATION:The Brass Rail\, 1121 Broadway\, Fort Wayne\, IN\, 46802\, United States
ATTACH;FMTTYPE=image/jpeg:https://www.brassrailfw.com/wp-content/uploads/2023/11/2024_02_23-vert-Middle-Names-scaled.jpg
GEO:41.0740622;-85.1478209
X-APPLE-STRUCTURED-LOCATION;VALUE=URI;X-ADDRESS=The Brass Rail 1121 Broadway Fort Wayne IN 46802 United States;X-APPLE-RADIUS=500;X-TITLE=1121 Broadway:geo:-85.1478209,41.0740622
END:VEVENT
BEGIN:VEVENT
DTSTART;TZID=UTC:20240222T193000
DTEND;TZID=UTC:20240222T235900
DTSTAMP:20260426T041844
CREATED:20230808T024337Z
LAST-MODIFIED:20240106T033053Z
UID:10001773-1708630200-1708646340@www.brassrailfw.com
SUMMARY:Ike Reilly & The Assasination
DESCRIPTION:$13.00 advance no-fee tickets on sale now. $15 day of show\nBreaking new ground within the exploration of pure-styled rock & roll\, Ike Reilly unveils an unusual ability as a songwriter\, venturing to assault the ruggedness of hard rock tones and forwarding crude and fierce lyrics within his songs. Born in the little town of Libertyville\, IL\, Reilly has followed a trail separate from most of today’s singer/songwriters — unlike other such artists\, Reilly prefers the harshness of intrepid rocking riffs\, sustained by ingenious melodies and exalting words. A wave of enthusiasm within the indie music scene was motivated by his debut album\, Salesmen & Racists\, which hit record stores in 2001. Nevertheless\, his path within the music world began years before in the late ’80s\, while he was still in Libertyville.\nDuring that time\, Reilly played with the Drovers\, a Celtic rock band active in Chicago’s club scene. After the Drovers\, he moved on and formed the Eisenhowers\, by then enjoying reasonable success on the local club circuit. Following the Eisenhowers\, Reilly assembled Community 9\, dedicating most of the band’s activity to classic themes of punk rock.\nAt the beginning of the ’90s\, Reilly decided to retire. During the years that followed\, the musician worked on all kinds of jobs\, from hotel doorman to cemetery worker\, only to return to music almost nine years later. Reilly’s chance showed up when Mike Simpson of the Dust Brothers listened to a demo tape containing some of his work. A few months later\, Reilly signed a contract with Republic Records\, and Salesmen & Racists\, his successful debut album\, hit record stores in July 2001\, with recording credits including Reilly himself\, Ed Tinley\, and Mickey Petralia\, previously responsible for the work of artists like Beck\, Eels\, and Luscious Jackson. Released in 2004\, Sparkle in the Finish traded in the surrealist hip-hop of Salesmen & Racists for pure rock & roll swagger\, while 2005’s Junkie Faithful adopted a dry-humored\, Nick Lowe/Chuck Prophet-inspired style of pop/rock. The soulful\, blues-tinged We Belong to the Staggering Evening arrived in 2007\, followed in 2008 by the two-disc set of odd and ends Poison the Hit Parade and the Dylan-esque Hard Luck Stories in 2009. ~ Mario Mesquita Borges
URL:https://www.brassrailfw.com/show/h-tyler-cousin-c/
LOCATION:The Brass Rail\, 1121 Broadway\, Fort Wayne\, IN\, 46802\, United States
ATTACH;FMTTYPE=image/jpeg:https://www.brassrailfw.com/wp-content/uploads/2023/08/Ike-Reilly-Assassination-by-David-Medieros-01-scaled.jpg
GEO:41.0740622;-85.1478209
X-APPLE-STRUCTURED-LOCATION;VALUE=URI;X-ADDRESS=The Brass Rail 1121 Broadway Fort Wayne IN 46802 United States;X-APPLE-RADIUS=500;X-TITLE=1121 Broadway:geo:-85.1478209,41.0740622
END:VEVENT
BEGIN:VEVENT
DTSTART;TZID=UTC:20240217T210000
DTEND;TZID=UTC:20240217T214500
DTSTAMP:20260426T041844
CREATED:20231219T191356Z
LAST-MODIFIED:20240116T023233Z
UID:10001835-1708203600-1708206300@www.brassrailfw.com
SUMMARY:Los Electro with Lalo Cura
DESCRIPTION:Live Original Music doors at 9pm music at 10pm \n  \n$8 cover\, must be 21 \n 
URL:https://www.brassrailfw.com/show/los-electros/
LOCATION:The Brass Rail\, 1121 Broadway\, Fort Wayne\, IN\, 46802\, United States
ATTACH;FMTTYPE=image/jpeg:https://www.brassrailfw.com/wp-content/uploads/2023/12/2024_02_17-vert-los-electro.jpg
GEO:41.0740622;-85.1478209
X-APPLE-STRUCTURED-LOCATION;VALUE=URI;X-ADDRESS=The Brass Rail 1121 Broadway Fort Wayne IN 46802 United States;X-APPLE-RADIUS=500;X-TITLE=1121 Broadway:geo:-85.1478209,41.0740622
END:VEVENT
BEGIN:VEVENT
DTSTART;TZID=UTC:20240216T214500
DTEND;TZID=UTC:20240216T214500
DTSTAMP:20260426T041844
CREATED:20231214T191546Z
LAST-MODIFIED:20240130T223652Z
UID:10001830-1708119900-1708119900@www.brassrailfw.com
SUMMARY:The Piques\, Best Sleep\, Joyhouse
DESCRIPTION:Live Original Music\n$7 cover\, must be 21
URL:https://www.brassrailfw.com/show/best-sleep-6/
LOCATION:The Brass Rail\, 1121 Broadway\, Fort Wayne\, IN\, 46802\, United States
ATTACH;FMTTYPE=image/jpeg:https://www.brassrailfw.com/wp-content/uploads/2023/12/2024_02_16-vert-best-sleep.jpg
GEO:41.0740622;-85.1478209
X-APPLE-STRUCTURED-LOCATION;VALUE=URI;X-ADDRESS=The Brass Rail 1121 Broadway Fort Wayne IN 46802 United States;X-APPLE-RADIUS=500;X-TITLE=1121 Broadway:geo:-85.1478209,41.0740622
END:VEVENT
BEGIN:VEVENT
DTSTART;TZID=UTC:20240210T220000
DTEND;TZID=UTC:20240210T220000
DTSTAMP:20260426T041844
CREATED:20231102T235708Z
LAST-MODIFIED:20240116T021836Z
UID:10001807-1707602400-1707602400@www.brassrailfw.com
SUMMARY:Gromulous\, Burial Party\, Observer
DESCRIPTION:GROMULOUS\nDayton\, OH\nHeavy Prog Metal Goodness\nhttps://gromulous.bandcamp.com\n\nBURIAL PARTY\nNoisy\, Post Hardcore\, Rock bois\nhttps://burialparty.bandcamp.com/\n\nOBSERVER\nDeath Metal and beyond\nhttps://observerfw.bandcamp.com/track/primordial-clairvoyance\n\nSaturday\, February 10th\nDoor 9 pm Show 10 pm\n21+  $8
URL:https://www.brassrailfw.com/show/gromulous/
LOCATION:The Brass Rail\, 1121 Broadway\, Fort Wayne\, IN\, 46802\, United States
ATTACH;FMTTYPE=image/png:https://www.brassrailfw.com/wp-content/uploads/2023/11/feb-20.png
GEO:41.0740622;-85.1478209
X-APPLE-STRUCTURED-LOCATION;VALUE=URI;X-ADDRESS=The Brass Rail 1121 Broadway Fort Wayne IN 46802 United States;X-APPLE-RADIUS=500;X-TITLE=1121 Broadway:geo:-85.1478209,41.0740622
END:VEVENT
BEGIN:VEVENT
DTSTART;TZID=UTC:20240209T214500
DTEND;TZID=UTC:20240209T214500
DTSTAMP:20260426T041844
CREATED:20231127T212836Z
LAST-MODIFIED:20240116T031655Z
UID:10001821-1707515100-1707515100@www.brassrailfw.com
SUMMARY:The Magnavox's Necromoon\, Florets
DESCRIPTION:Live Original Music \n$7 cover\, must be 21 \nThe Magnavox’s\nHaze-Twang brewed in Mansfield/Cleveland\, Ohio \nNecromoon \nFlorets
URL:https://www.brassrailfw.com/show/necromoon-8/
LOCATION:The Brass Rail\, 1121 Broadway\, Fort Wayne\, IN\, 46802\, United States
ATTACH;FMTTYPE=image/jpeg:https://www.brassrailfw.com/wp-content/uploads/2023/11/Business-Suite_creation_42315360.jpg
GEO:41.0740622;-85.1478209
X-APPLE-STRUCTURED-LOCATION;VALUE=URI;X-ADDRESS=The Brass Rail 1121 Broadway Fort Wayne IN 46802 United States;X-APPLE-RADIUS=500;X-TITLE=1121 Broadway:geo:-85.1478209,41.0740622
END:VEVENT
BEGIN:VEVENT
DTSTART;TZID=UTC:20240203T210000
DTEND;TZID=UTC:20240203T210000
DTSTAMP:20260426T041844
CREATED:20231119T030322Z
LAST-MODIFIED:20240116T230637Z
UID:10001813-1706994000-1706994000@www.brassrailfw.com
SUMMARY:Loveseat\, Cloudmaker\, Heaven's Gateway Drugs
DESCRIPTION:Live Original Music \n$7 cover\, must be 21
URL:https://www.brassrailfw.com/show/cloudmaker-13/
LOCATION:The Brass Rail\, 1121 Broadway\, Fort Wayne\, IN\, 46802\, United States
ATTACH;FMTTYPE=image/png:https://www.brassrailfw.com/wp-content/uploads/2023/11/020324sqaure.png
GEO:41.0740622;-85.1478209
X-APPLE-STRUCTURED-LOCATION;VALUE=URI;X-ADDRESS=The Brass Rail 1121 Broadway Fort Wayne IN 46802 United States;X-APPLE-RADIUS=500;X-TITLE=1121 Broadway:geo:-85.1478209,41.0740622
END:VEVENT
BEGIN:VEVENT
DTSTART;TZID=UTC:20240202T210000
DTEND;TZID=UTC:20240202T214500
DTSTAMP:20260426T041844
CREATED:20231218T172514Z
LAST-MODIFIED:20240116T020710Z
UID:10001832-1706907600-1706910300@www.brassrailfw.com
SUMMARY:Mudland\, Cowboy Abhyasi\, Half Cap
DESCRIPTION:Live original music with \n  \nMUDLAND \nCowboy Abhyasi \nHalf Cap \n$7 cover\, must be 21
URL:https://www.brassrailfw.com/show/mudland/
LOCATION:The Brass Rail\, 1121 Broadway\, Fort Wayne\, IN\, 46802\, United States
GEO:41.0740622;-85.1478209
X-APPLE-STRUCTURED-LOCATION;VALUE=URI;X-ADDRESS=The Brass Rail 1121 Broadway Fort Wayne IN 46802 United States;X-APPLE-RADIUS=500;X-TITLE=1121 Broadway:geo:-85.1478209,41.0740622
END:VEVENT
BEGIN:VEVENT
DTSTART;TZID=UTC:20240127T213000
DTEND;TZID=UTC:20240127T213000
DTSTAMP:20260426T041844
CREATED:20231019T001410Z
LAST-MODIFIED:20240116T015014Z
UID:10001801-1706391000-1706391000@www.brassrailfw.com
SUMMARY:Antlerhead\, Weekend Run Club\, Private Education
DESCRIPTION:$7 cover\, must be 21
URL:https://www.brassrailfw.com/show/antlerhead-weekend-run-club/
LOCATION:The Brass Rail\, 1121 Broadway\, Fort Wayne\, IN\, 46802\, United States
ATTACH;FMTTYPE=image/jpeg:https://www.brassrailfw.com/wp-content/uploads/2023/10/2024_01_27-wide-antlerhead.jpg
GEO:41.0740622;-85.1478209
X-APPLE-STRUCTURED-LOCATION;VALUE=URI;X-ADDRESS=The Brass Rail 1121 Broadway Fort Wayne IN 46802 United States;X-APPLE-RADIUS=500;X-TITLE=1121 Broadway:geo:-85.1478209,41.0740622
END:VEVENT
BEGIN:VEVENT
DTSTART;TZID=UTC:20240126T210000
DTEND;TZID=UTC:20240126T235900
DTSTAMP:20260426T041844
CREATED:20230926T145704Z
LAST-MODIFIED:20240116T012316Z
UID:10001786-1706302800-1706313540@www.brassrailfw.com
SUMMARY:Overlook\, Loveseat\, The Reveal
DESCRIPTION:Live Original Music \n$7 cover\, must be 21
URL:https://www.brassrailfw.com/show/overlook-2/
LOCATION:The Brass Rail\, 1121 Broadway\, Fort Wayne\, IN\, 46802\, United States
ATTACH;FMTTYPE=image/jpeg:https://www.brassrailfw.com/wp-content/uploads/2023/09/2024_01_26-vert-overlook.jpg
GEO:41.0740622;-85.1478209
X-APPLE-STRUCTURED-LOCATION;VALUE=URI;X-ADDRESS=The Brass Rail 1121 Broadway Fort Wayne IN 46802 United States;X-APPLE-RADIUS=500;X-TITLE=1121 Broadway:geo:-85.1478209,41.0740622
END:VEVENT
BEGIN:VEVENT
DTSTART;TZID=UTC:20240120T210000
DTEND;TZID=UTC:20240120T235900
DTSTAMP:20260426T041844
CREATED:20231114T022229Z
LAST-MODIFIED:20240116T015312Z
UID:10001810-1705784400-1705795140@www.brassrailfw.com
SUMMARY:Mac Day with J. Tubbs hosted by OG Killa Kels\, Clyde Cyrus
DESCRIPTION:$7 cover\, must be 21
URL:https://www.brassrailfw.com/show/mac-day-with-j-tubbs/
LOCATION:The Brass Rail\, 1121 Broadway\, Fort Wayne\, IN\, 46802\, United States
ATTACH;FMTTYPE=image/jpeg:https://www.brassrailfw.com/wp-content/uploads/2023/11/2024_01_20-vert-mac.jpg
GEO:41.0740622;-85.1478209
X-APPLE-STRUCTURED-LOCATION;VALUE=URI;X-ADDRESS=The Brass Rail 1121 Broadway Fort Wayne IN 46802 United States;X-APPLE-RADIUS=500;X-TITLE=1121 Broadway:geo:-85.1478209,41.0740622
END:VEVENT
BEGIN:VEVENT
DTSTART;TZID=UTC:20240119T213000
DTEND;TZID=UTC:20240119T213000
DTSTAMP:20260426T041844
CREATED:20231031T200448Z
LAST-MODIFIED:20231222T143244Z
UID:10001806-1705699800-1705699800@www.brassrailfw.com
SUMMARY:Red Temple Pray\, Static Arm\, Second To Last
DESCRIPTION:21+ with ID\n$7 Cover at the Door\nBands Start at 10:00pm\nPerforming Live at:\nThe Brass Rail\n1121 Broadway St.\nFort Wayne\, IN 46802\nPresented by: Grande Gigs – https://www.facebook.com/grandegigs\nBands Include:\nStatic Arm (Fort Wayne) [Pop Punk]- https://www.instagram.com/staticarm_band\nRed Temple Pray (Columbus\, Ohio) [ALT ROCK]- https://www.facebook.com/redtemplepray\nIntroducing:\nSecond to Last (Fort Wayne) [Pop Punk] – https://www.facebook.com/SecondToLastFW
URL:https://www.brassrailfw.com/show/red-temple-pray/
LOCATION:The Brass Rail\, 1121 Broadway\, Fort Wayne\, IN\, 46802\, United States
ATTACH;FMTTYPE=image/jpeg:https://www.brassrailfw.com/wp-content/uploads/2023/10/2024_01_19-vert-Red-Temple-Pray.jpg
GEO:41.0740622;-85.1478209
X-APPLE-STRUCTURED-LOCATION;VALUE=URI;X-ADDRESS=The Brass Rail 1121 Broadway Fort Wayne IN 46802 United States;X-APPLE-RADIUS=500;X-TITLE=1121 Broadway:geo:-85.1478209,41.0740622
END:VEVENT
BEGIN:VEVENT
DTSTART;TZID=UTC:20240116T204500
DTEND;TZID=UTC:20240116T204500
DTSTAMP:20260426T041844
CREATED:20231106T181333Z
LAST-MODIFIED:20240110T025243Z
UID:10001808-1705437900-1705437900@www.brassrailfw.com
SUMMARY:Sundogsarah\, Roxy 2\, Abadeer
DESCRIPTION:$7 cover
URL:https://www.brassrailfw.com/show/sundogsarah/
LOCATION:The Brass Rail\, 1121 Broadway\, Fort Wayne\, IN\, 46802\, United States
ATTACH;FMTTYPE=image/jpeg:https://www.brassrailfw.com/wp-content/uploads/2023/11/640377DC-.jpg.jpeg
GEO:41.0740622;-85.1478209
X-APPLE-STRUCTURED-LOCATION;VALUE=URI;X-ADDRESS=The Brass Rail 1121 Broadway Fort Wayne IN 46802 United States;X-APPLE-RADIUS=500;X-TITLE=1121 Broadway:geo:-85.1478209,41.0740622
END:VEVENT
BEGIN:VEVENT
DTSTART;TZID=UTC:20240113T214500
DTEND;TZID=UTC:20240113T214500
DTSTAMP:20260426T041844
CREATED:20231019T142351Z
LAST-MODIFIED:20231227T211148Z
UID:10001802-1705182300-1705182300@www.brassrailfw.com
SUMMARY:Thumbrider\, Olivia Kramer\, Salt River
DESCRIPTION:$8 cover\, must be 21
URL:https://www.brassrailfw.com/show/h-michael-morgan/
LOCATION:The Brass Rail\, 1121 Broadway\, Fort Wayne\, IN\, 46802\, United States
ATTACH;FMTTYPE=image/jpeg:https://www.brassrailfw.com/wp-content/uploads/2023/10/2024_01_13-vert-Thumbrider-scaled.jpg
GEO:41.0740622;-85.1478209
X-APPLE-STRUCTURED-LOCATION;VALUE=URI;X-ADDRESS=The Brass Rail 1121 Broadway Fort Wayne IN 46802 United States;X-APPLE-RADIUS=500;X-TITLE=1121 Broadway:geo:-85.1478209,41.0740622
END:VEVENT
BEGIN:VEVENT
DTSTART;TZID=UTC:20240112T210000
DTEND;TZID=UTC:20240112T210000
DTSTAMP:20260426T041844
CREATED:20230927T022458Z
LAST-MODIFIED:20240112T193116Z
UID:10001787-1705093200-1705093200@www.brassrailfw.com
SUMMARY:Swell Time\, Mickyle James
DESCRIPTION:SWELL TIME and Mickyle James \n$7 cover\, must be 21
URL:https://www.brassrailfw.com/show/chapped-lips/
LOCATION:The Brass Rail\, 1121 Broadway\, Fort Wayne\, IN\, 46802\, United States
ATTACH;FMTTYPE=image/jpeg:https://www.brassrailfw.com/wp-content/uploads/2023/09/2024_01_12-wide-Chapped-Lips.jpg
GEO:41.0740622;-85.1478209
X-APPLE-STRUCTURED-LOCATION;VALUE=URI;X-ADDRESS=The Brass Rail 1121 Broadway Fort Wayne IN 46802 United States;X-APPLE-RADIUS=500;X-TITLE=1121 Broadway:geo:-85.1478209,41.0740622
END:VEVENT
BEGIN:VEVENT
DTSTART;TZID=UTC:20240106T203000
DTEND;TZID=UTC:20240106T203000
DTSTAMP:20260426T041844
CREATED:20230817T134757Z
LAST-MODIFIED:20240102T024816Z
UID:10001776-1704573000-1704573000@www.brassrailfw.com
SUMMARY:Namby Pamby\, Thinning\, Ulna\,
DESCRIPTION:
URL:https://www.brassrailfw.com/show/namby-pamby-thinning-ulna/
LOCATION:The Brass Rail\, 1121 Broadway\, Fort Wayne\, IN\, 46802\, United States
ATTACH;FMTTYPE=image/jpeg:https://www.brassrailfw.com/wp-content/uploads/2023/08/Screenshot_2024-01-01-21-41-50-33_1c337646f29875672b5a61192b9010f9.jpg
GEO:41.0740622;-85.1478209
X-APPLE-STRUCTURED-LOCATION;VALUE=URI;X-ADDRESS=The Brass Rail 1121 Broadway Fort Wayne IN 46802 United States;X-APPLE-RADIUS=500;X-TITLE=1121 Broadway:geo:-85.1478209,41.0740622
END:VEVENT
BEGIN:VEVENT
DTSTART;TZID=UTC:20240105T214500
DTEND;TZID=UTC:20240105T214500
DTSTAMP:20260426T041844
CREATED:20231127T220303Z
LAST-MODIFIED:20240105T125125Z
UID:10001822-1704491100-1704491100@www.brassrailfw.com
SUMMARY:**cancelled** Necromoon\, Cloudmaker\, Joyhouse
DESCRIPTION:Because of illness with some of the bands we’ll have to reschedule this show.  Tis the season.
URL:https://www.brassrailfw.com/show/necromoon-9/
LOCATION:The Brass Rail\, 1121 Broadway\, Fort Wayne\, IN\, 46802\, United States
ATTACH;FMTTYPE=image/jpeg:https://www.brassrailfw.com/wp-content/uploads/2023/11/2024_01_05-vert-necromoon.jpg
GEO:41.0740622;-85.1478209
X-APPLE-STRUCTURED-LOCATION;VALUE=URI;X-ADDRESS=The Brass Rail 1121 Broadway Fort Wayne IN 46802 United States;X-APPLE-RADIUS=500;X-TITLE=1121 Broadway:geo:-85.1478209,41.0740622
END:VEVENT
BEGIN:VEVENT
DTSTART;TZID=UTC:20231231T213000
DTEND;TZID=UTC:20231231T213000
DTSTAMP:20260426T041844
CREATED:20231026T015713Z
LAST-MODIFIED:20231225T233515Z
UID:10001804-1704058200-1704058200@www.brassrailfw.com
SUMMARY:Man of The Flood\, Abadeer\, Sun Dyle
DESCRIPTION:Live Original Music  $8 cover\, must be 21
URL:https://www.brassrailfw.com/show/man-of-the-flood-2/
LOCATION:The Brass Rail\, 1121 Broadway\, Fort Wayne\, IN\, 46802\, United States
ATTACH;FMTTYPE=image/png:https://www.brassrailfw.com/wp-content/uploads/2023/10/2023_12_31-vert-man-of-the-flood.png
GEO:41.0740622;-85.1478209
X-APPLE-STRUCTURED-LOCATION;VALUE=URI;X-ADDRESS=The Brass Rail 1121 Broadway Fort Wayne IN 46802 United States;X-APPLE-RADIUS=500;X-TITLE=1121 Broadway:geo:-85.1478209,41.0740622
END:VEVENT
BEGIN:VEVENT
DTSTART;TZID=UTC:20231230T214500
DTEND;TZID=UTC:20231230T214500
DTSTAMP:20260426T041844
CREATED:20231217T185555Z
LAST-MODIFIED:20231218T134911Z
UID:10001831-1703972700-1703972700@www.brassrailfw.com
SUMMARY:John & Ben's Carraoke
DESCRIPTION:FREE
URL:https://www.brassrailfw.com/show/john-bens-carraoke/
LOCATION:The Brass Rail\, 1121 Broadway\, Fort Wayne\, IN\, 46802\, United States
ATTACH;FMTTYPE=image/jpeg:https://www.brassrailfw.com/wp-content/uploads/2023/06/bencarr.jpg
GEO:41.0740622;-85.1478209
X-APPLE-STRUCTURED-LOCATION;VALUE=URI;X-ADDRESS=The Brass Rail 1121 Broadway Fort Wayne IN 46802 United States;X-APPLE-RADIUS=500;X-TITLE=1121 Broadway:geo:-85.1478209,41.0740622
END:VEVENT
BEGIN:VEVENT
DTSTART;TZID=UTC:20231229T214500
DTEND;TZID=UTC:20231229T214500
DTSTAMP:20260426T041844
CREATED:20231006T180707Z
LAST-MODIFIED:20231207T171037Z
UID:10001791-1703886300-1703886300@www.brassrailfw.com
SUMMARY:Vacation\, Uncle Muscle
DESCRIPTION:$7 cover\, must be 21
URL:https://www.brassrailfw.com/show/h-vacation/
LOCATION:The Brass Rail\, 1121 Broadway\, Fort Wayne\, IN\, 46802\, United States
ATTACH;FMTTYPE=image/jpeg:https://www.brassrailfw.com/wp-content/uploads/2023/10/IMG_4406.jpg
GEO:41.0740622;-85.1478209
X-APPLE-STRUCTURED-LOCATION;VALUE=URI;X-ADDRESS=The Brass Rail 1121 Broadway Fort Wayne IN 46802 United States;X-APPLE-RADIUS=500;X-TITLE=1121 Broadway:geo:-85.1478209,41.0740622
END:VEVENT
BEGIN:VEVENT
DTSTART;TZID=UTC:20231228T210000
DTEND;TZID=UTC:20231228T210000
DTSTAMP:20260426T041844
CREATED:20231115T212544Z
LAST-MODIFIED:20231217T194039Z
UID:10001811-1703797200-1703797200@www.brassrailfw.com
SUMMARY:Myron Elkins with Pete Dio & The Old and Dirty
DESCRIPTION:Myron Elkins didnt set out to become a full-time musician. After graduating from high school\, the then 17-year-old instead became a welder in his hometown of Otsego\, Michigan and had every intention of making that his career. However\, fate had other plans. Three years ago\, a relative signed him up for a battle of the bands at a local venue\, despite the fact Elkins only prior experience with live music was playing at church and a few bars in the small Michigan town where he grew up. With just three weeks notice\, Elkins put a band together featuring three of his cousins and a friend. Although the group didnt win (they came in second)\, the experience opened Elkins eyes to a very different career path. Now\, at 21 years old\, hes poised to become one of musics most intriguing new artists with the release of his Dave Cobb-produced debut album\, Factories\, Farms & Amphetamines\, via Elektra/Low Country Sound. \n  \n$9 cover\, must be 21
URL:https://www.brassrailfw.com/show/myron-elkins/
LOCATION:The Brass Rail\, 1121 Broadway\, Fort Wayne\, IN\, 46802\, United States
ATTACH;FMTTYPE=image/jpeg:https://www.brassrailfw.com/wp-content/uploads/2023/11/2023_12_28-vert-myron.jpg
GEO:41.0740622;-85.1478209
X-APPLE-STRUCTURED-LOCATION;VALUE=URI;X-ADDRESS=The Brass Rail 1121 Broadway Fort Wayne IN 46802 United States;X-APPLE-RADIUS=500;X-TITLE=1121 Broadway:geo:-85.1478209,41.0740622
END:VEVENT
BEGIN:VEVENT
DTSTART;TZID=UTC:20231223T214500
DTEND;TZID=UTC:20231223T235900
DTSTAMP:20260426T041844
CREATED:20231124T225525Z
LAST-MODIFIED:20231207T175844Z
UID:10001818-1703367900-1703375940@www.brassrailfw.com
SUMMARY:Funayūrei\, The Igloos\, Cloudmaker
DESCRIPTION:$7 cover\, must be 21
URL:https://www.brassrailfw.com/show/funayurei/
LOCATION:The Brass Rail\, 1121 Broadway\, Fort Wayne\, IN\, 46802\, United States
ATTACH;FMTTYPE=image/jpeg:https://www.brassrailfw.com/wp-content/uploads/2023/11/2023_12_23-vert-funayurei.jpg
GEO:41.0740622;-85.1478209
X-APPLE-STRUCTURED-LOCATION;VALUE=URI;X-ADDRESS=The Brass Rail 1121 Broadway Fort Wayne IN 46802 United States;X-APPLE-RADIUS=500;X-TITLE=1121 Broadway:geo:-85.1478209,41.0740622
END:VEVENT
BEGIN:VEVENT
DTSTART;TZID=UTC:20231222T210000
DTEND;TZID=UTC:20231222T233500
DTSTAMP:20260426T041844
CREATED:20231124T204058Z
LAST-MODIFIED:20231207T175956Z
UID:10001817-1703278800-1703288100@www.brassrailfw.com
SUMMARY:Brass Rail Santa Photoshoot
DESCRIPTION:FREE photoshoot with multiple Santa’s and helpers with Bambi Guthrie Photography
URL:https://www.brassrailfw.com/show/brass-rail-santa-photoshoot/
LOCATION:The Brass Rail\, 1121 Broadway\, Fort Wayne\, IN\, 46802\, United States
ATTACH;FMTTYPE=image/jpeg:https://www.brassrailfw.com/wp-content/uploads/2023/11/2023_12_22-vert-santa.jpg
GEO:41.0740622;-85.1478209
X-APPLE-STRUCTURED-LOCATION;VALUE=URI;X-ADDRESS=The Brass Rail 1121 Broadway Fort Wayne IN 46802 United States;X-APPLE-RADIUS=500;X-TITLE=1121 Broadway:geo:-85.1478209,41.0740622
END:VEVENT
BEGIN:VEVENT
DTSTART;TZID=UTC:20231216T214500
DTEND;TZID=UTC:20231216T214500
DTSTAMP:20260426T041844
CREATED:20231010T001845Z
LAST-MODIFIED:20231207T163346Z
UID:10001795-1702763100-1702763100@www.brassrailfw.com
SUMMARY:Los Electro\, Wampus Milk Daddies\, Honey Due
DESCRIPTION:$8 cover\, must be w1
URL:https://www.brassrailfw.com/show/los-galaxy-3/
LOCATION:The Brass Rail\, 1121 Broadway\, Fort Wayne\, IN\, 46802\, United States
ATTACH;FMTTYPE=image/jpeg:https://www.brassrailfw.com/wp-content/uploads/2023/10/2023_12_16-vert-Los-Electro.jpg
GEO:41.0740622;-85.1478209
X-APPLE-STRUCTURED-LOCATION;VALUE=URI;X-ADDRESS=The Brass Rail 1121 Broadway Fort Wayne IN 46802 United States;X-APPLE-RADIUS=500;X-TITLE=1121 Broadway:geo:-85.1478209,41.0740622
END:VEVENT
BEGIN:VEVENT
DTSTART;TZID=UTC:20231215T214500
DTEND;TZID=UTC:20231215T214500
DTSTAMP:20260426T041844
CREATED:20231002T171059Z
LAST-MODIFIED:20231207T163149Z
UID:10001789-1702676700-1702676700@www.brassrailfw.com
SUMMARY:The Namby Pamby\, Stephie James\, Liv Lafluv
DESCRIPTION:$7 cover\, must be 21
URL:https://www.brassrailfw.com/show/h-sam-clay-2/
LOCATION:The Brass Rail\, 1121 Broadway\, Fort Wayne\, IN\, 46802\, United States
ATTACH;FMTTYPE=image/jpeg:https://www.brassrailfw.com/wp-content/uploads/2023/10/2023_12_15-vert-namby-Copy-Copy-2-Copy-Copy.jpg
GEO:41.0740622;-85.1478209
X-APPLE-STRUCTURED-LOCATION;VALUE=URI;X-ADDRESS=The Brass Rail 1121 Broadway Fort Wayne IN 46802 United States;X-APPLE-RADIUS=500;X-TITLE=1121 Broadway:geo:-85.1478209,41.0740622
END:VEVENT
BEGIN:VEVENT
DTSTART;TZID=UTC:20231209T214500
DTEND;TZID=UTC:20231209T235900
DTSTAMP:20260426T041844
CREATED:20230912T153608Z
LAST-MODIFIED:20231209T143333Z
UID:10001784-1702158300-1702166340@www.brassrailfw.com
SUMMARY:Cloakroom\, Sleep Keeper\, Necromoon
DESCRIPTION:$12 at the door. \nIndie Shoe-Gaze legends CLOAKROOM!
URL:https://www.brassrailfw.com/show/cloakroom-necromoon/
LOCATION:The Brass Rail\, 1121 Broadway\, Fort Wayne\, IN\, 46802\, United States
ATTACH;FMTTYPE=image/jpeg:https://www.brassrailfw.com/wp-content/uploads/2023/09/cloackroom.jpg
GEO:41.0740622;-85.1478209
X-APPLE-STRUCTURED-LOCATION;VALUE=URI;X-ADDRESS=The Brass Rail 1121 Broadway Fort Wayne IN 46802 United States;X-APPLE-RADIUS=500;X-TITLE=1121 Broadway:geo:-85.1478209,41.0740622
END:VEVENT
BEGIN:VEVENT
DTSTART;TZID=UTC:20231208T210000
DTEND;TZID=UTC:20231208T210000
DTSTAMP:20260426T041844
CREATED:20230705T165145Z
LAST-MODIFIED:20231116T021138Z
UID:10001764-1702069200-1702069200@www.brassrailfw.com
SUMMARY:Sankofa\, Damo The Great\, DJ Heavy\, Chemdogg Cordo\, Doubtful Sound
DESCRIPTION:
URL:https://www.brassrailfw.com/show/sankofa-5/
LOCATION:The Brass Rail\, 1121 Broadway\, Fort Wayne\, IN\, 46802\, United States
ATTACH;FMTTYPE=image/jpeg:https://www.brassrailfw.com/wp-content/uploads/2023/07/2023_12_08-vert-Sankofa-scaled.jpg
GEO:41.0740622;-85.1478209
X-APPLE-STRUCTURED-LOCATION;VALUE=URI;X-ADDRESS=The Brass Rail 1121 Broadway Fort Wayne IN 46802 United States;X-APPLE-RADIUS=500;X-TITLE=1121 Broadway:geo:-85.1478209,41.0740622
END:VEVENT
END:VCALENDAR