BEGIN:VCALENDAR
VERSION:2.0
PRODID:-//The Brass Rail - ECPv6.15.20//NONSGML v1.0//EN
CALSCALE:GREGORIAN
METHOD:PUBLISH
X-ORIGINAL-URL:https://www.brassrailfw.com
X-WR-CALDESC:Events for The Brass Rail
REFRESH-INTERVAL;VALUE=DURATION:PT1H
X-Robots-Tag:noindex
X-PUBLISHED-TTL:PT1H
BEGIN:VTIMEZONE
TZID:UTC
BEGIN:STANDARD
TZOFFSETFROM:+0000
TZOFFSETTO:+0000
TZNAME:UTC
DTSTART:20230101T000000
END:STANDARD
END:VTIMEZONE
BEGIN:VEVENT
DTSTART;TZID=UTC:20250131T213000
DTEND;TZID=UTC:20250131T213000
DTSTAMP:20260425T133513
CREATED:20241129T211633Z
LAST-MODIFIED:20250119T015921Z
UID:10001995-1738359000-1738359000@www.brassrailfw.com
SUMMARY:A Tribute to Cliff: White Trash Compactor\,  Old and Dirty\, Squirrel Cage\,  and Left Lane Cruiser
DESCRIPTION:Musical ArtistsWhite Trash CompactorSquirrel CagePete Dio & The Old & DirtyLeft Lane Cruiser$8 cover\, goes to help Cliff’s mother.\nPoster by Pretty Good Poster
URL:https://www.brassrailfw.com/show/clifftribute/
LOCATION:The Brass Rail\, 1121 Broadway\, Fort Wayne\, IN\, 46802\, United States
ATTACH;FMTTYPE=image/jpeg:https://www.brassrailfw.com/wp-content/uploads/2024/11/20250131-Cliff.jpg
GEO:41.0740622;-85.1478209
X-APPLE-STRUCTURED-LOCATION;VALUE=URI;X-ADDRESS=The Brass Rail 1121 Broadway Fort Wayne IN 46802 United States;X-APPLE-RADIUS=500;X-TITLE=1121 Broadway:geo:-85.1478209,41.0740622
END:VEVENT
BEGIN:VEVENT
DTSTART;TZID=UTC:20250126T200000
DTEND;TZID=UTC:20250126T220000
DTSTAMP:20260425T133513
CREATED:20250117T163154Z
LAST-MODIFIED:20250117T163154Z
UID:10002029-1737921600-1737928800@www.brassrailfw.com
SUMMARY:Bingo Night!
DESCRIPTION:CALLING ALL BINGO FREAKS AND NUMBER-LOVERS!! JANUARY 26 @ 8 PM\, THE BRASS RAIL BECOMES… BINGO TOWN™. That’s right\, folks—Bingo Night is here and IT’S OUT OF CONTROL!!! Numbers? YES. Cards? PROBABLY. Your Aunt Sheila muttering “B-12” under her breath? ALMOST DEFINITELY. Experience the THRILL of sitting. The CHILLS of waiting. And the RUSH of screaming “BINGO” while everyone else stares at their FAILURE. Prizes include: – Glory. – Mystery meat surprise. – Swag. Don’t miss it. Bingo Night is real and it’s coming for you. \nFREE
URL:https://www.brassrailfw.com/show/bingo-night/
LOCATION:The Brass Rail\, 1121 Broadway\, Fort Wayne\, IN\, 46802\, United States
ATTACH;FMTTYPE=image/png:https://www.brassrailfw.com/wp-content/uploads/2025/01/2025_01_26-bingo.png
GEO:41.0740622;-85.1478209
X-APPLE-STRUCTURED-LOCATION;VALUE=URI;X-ADDRESS=The Brass Rail 1121 Broadway Fort Wayne IN 46802 United States;X-APPLE-RADIUS=500;X-TITLE=1121 Broadway:geo:-85.1478209,41.0740622
END:VEVENT
BEGIN:VEVENT
DTSTART;TZID=UTC:20250125T213000
DTEND;TZID=UTC:20250125T213000
DTSTAMP:20260425T133513
CREATED:20241216T223118Z
LAST-MODIFIED:20250119T015458Z
UID:10002005-1737840600-1737840600@www.brassrailfw.com
SUMMARY:Maren\, DarcyHill\, Red Light Clinic
DESCRIPTION:Maren\nhttps://www.instagram.com/maren.260/ \nDarcyHill \nRed Light Clinic\nhttps://www.instagram.com/redlightclinic/ \n$7 cover\, must be 21
URL:https://www.brassrailfw.com/show/skill-issue-red-light-clinic/
LOCATION:The Brass Rail\, 1121 Broadway\, Fort Wayne\, IN\, 46802\, United States
ATTACH;FMTTYPE=image/jpeg:https://www.brassrailfw.com/wp-content/uploads/2024/12/2025_01_25-maren.jpeg
GEO:41.0740622;-85.1478209
X-APPLE-STRUCTURED-LOCATION;VALUE=URI;X-ADDRESS=The Brass Rail 1121 Broadway Fort Wayne IN 46802 United States;X-APPLE-RADIUS=500;X-TITLE=1121 Broadway:geo:-85.1478209,41.0740622
END:VEVENT
BEGIN:VEVENT
DTSTART;TZID=UTC:20250124T213000
DTEND;TZID=UTC:20250124T213000
DTSTAMP:20260425T133513
CREATED:20241129T211607Z
LAST-MODIFIED:20241231T003952Z
UID:10001994-1737754200-1737754200@www.brassrailfw.com
SUMMARY:Etymon\, Necromoon\, Joyhouse
DESCRIPTION:$7 cover\, must be 21
URL:https://www.brassrailfw.com/show/necromoon-11/
LOCATION:The Brass Rail\, 1121 Broadway\, Fort Wayne\, IN\, 46802\, United States
ATTACH;FMTTYPE=image/jpeg:https://www.brassrailfw.com/wp-content/uploads/2024/11/2024_01_24-vert-necromoon.jpeg
GEO:41.0740622;-85.1478209
X-APPLE-STRUCTURED-LOCATION;VALUE=URI;X-ADDRESS=The Brass Rail 1121 Broadway Fort Wayne IN 46802 United States;X-APPLE-RADIUS=500;X-TITLE=1121 Broadway:geo:-85.1478209,41.0740622
END:VEVENT
BEGIN:VEVENT
DTSTART;TZID=UTC:20250123T214500
DTEND;TZID=UTC:20250123T214500
DTSTAMP:20260425T133513
CREATED:20241120T203911Z
LAST-MODIFIED:20250119T013225Z
UID:10001983-1737668700-1737668700@www.brassrailfw.com
SUMMARY:Namby Pamby\, Part Timers\, and Meat Flowers
DESCRIPTION:The Part Timers\nhttps://www.instagram.com/theparttimers_/ \nThe Namby Pamby\nhttps://www.instagram.com/the.nambypamby/ \nThe Meat Flowers\nhttps://www.instagram.com/themeatflowers/ \n$7 cover\, must be 21
URL:https://www.brassrailfw.com/show/h-jess-14/
LOCATION:The Brass Rail\, 1121 Broadway\, Fort Wayne\, IN\, 46802\, United States
GEO:41.0740622;-85.1478209
X-APPLE-STRUCTURED-LOCATION;VALUE=URI;X-ADDRESS=The Brass Rail 1121 Broadway Fort Wayne IN 46802 United States;X-APPLE-RADIUS=500;X-TITLE=1121 Broadway:geo:-85.1478209,41.0740622
END:VEVENT
BEGIN:VEVENT
DTSTART;TZID=UTC:20250118T210000
DTEND;TZID=UTC:20250118T210000
DTSTAMP:20260425T133513
CREATED:20241020T155250Z
LAST-MODIFIED:20250106T003521Z
UID:10001970-1737234000-1737234000@www.brassrailfw.com
SUMMARY:MAC DAY: A Tribute to Mac Miller
DESCRIPTION:YM3 Music Group presents the 3rd Annual MAC DAY with J. Tubbs\, hosted by OG Killa Kels\nAll Mac Miller hits and b-sides\, collabs and inspirations. Giveaways\, Trivia and more.\n$7 cover\, most be 21
URL:https://www.brassrailfw.com/show/mac-day/
LOCATION:The Brass Rail\, 1121 Broadway\, Fort Wayne\, IN\, 46802\, United States
ATTACH;FMTTYPE=image/jpeg:https://www.brassrailfw.com/wp-content/uploads/2024/10/2025_01_18-mac-day.jpg
GEO:41.0740622;-85.1478209
X-APPLE-STRUCTURED-LOCATION;VALUE=URI;X-ADDRESS=The Brass Rail 1121 Broadway Fort Wayne IN 46802 United States;X-APPLE-RADIUS=500;X-TITLE=1121 Broadway:geo:-85.1478209,41.0740622
END:VEVENT
BEGIN:VEVENT
DTSTART;TZID=UTC:20250117T213000
DTEND;TZID=UTC:20250117T213000
DTSTAMP:20260425T133513
CREATED:20241221T214134Z
LAST-MODIFIED:20250109T014626Z
UID:10002012-1737149400-1737149400@www.brassrailfw.com
SUMMARY:Middle Names
DESCRIPTION:Middle Names (Midwest Indie-esque Angst Rock)\nhttps://www.instagram.com/middlenamesband/ \n  \n$7 cover\, must be 21
URL:https://www.brassrailfw.com/show/middle/
LOCATION:The Brass Rail\, 1121 Broadway\, Fort Wayne\, IN\, 46802\, United States
ATTACH;FMTTYPE=image/png:https://www.brassrailfw.com/wp-content/uploads/2024/12/Screenshot-2025-01-08-204342.png
GEO:41.0740622;-85.1478209
X-APPLE-STRUCTURED-LOCATION;VALUE=URI;X-ADDRESS=The Brass Rail 1121 Broadway Fort Wayne IN 46802 United States;X-APPLE-RADIUS=500;X-TITLE=1121 Broadway:geo:-85.1478209,41.0740622
END:VEVENT
BEGIN:VEVENT
DTSTART;TZID=UTC:20250111T214500
DTEND;TZID=UTC:20250111T214500
DTSTAMP:20260425T133513
CREATED:20241222T230921Z
LAST-MODIFIED:20241231T005219Z
UID:10002013-1736631900-1736631900@www.brassrailfw.com
SUMMARY:Sonic View\, Lalo Cura\, Chris Rebellion
DESCRIPTION:SONIC VIEW (Culture clash turned to psychedelic infused grunge)\nhttps://www.instagram.com/sonicviewband/ \nLALO CURA (Spanish rock-fusion)\nhttps://www.instagram.com/lalocurarock/ \nChris Rebellion (Honest punk from CLE)\nhttps://www.instagram.com/_chrisrebellion_/ \n$7 cover\, must be 21
URL:https://www.brassrailfw.com/show/sonic-view/
LOCATION:The Brass Rail\, 1121 Broadway\, Fort Wayne\, IN\, 46802\, United States
ATTACH;FMTTYPE=image/jpeg:https://www.brassrailfw.com/wp-content/uploads/2024/12/sonic-view-band.jpg
GEO:41.0740622;-85.1478209
X-APPLE-STRUCTURED-LOCATION;VALUE=URI;X-ADDRESS=The Brass Rail 1121 Broadway Fort Wayne IN 46802 United States;X-APPLE-RADIUS=500;X-TITLE=1121 Broadway:geo:-85.1478209,41.0740622
END:VEVENT
BEGIN:VEVENT
DTSTART;TZID=UTC:20250110T213000
DTEND;TZID=UTC:20250110T235900
DTSTAMP:20260425T133513
CREATED:20241209T185808Z
LAST-MODIFIED:20250111T004221Z
UID:10002001-1736544600-1736553540@www.brassrailfw.com
SUMMARY:Debutants
DESCRIPTION:Debutants – (indiana newgrass band)\ninstagram.com/wearedebutants/ \n**UPDATE** The Tillers had to cancel because of the weather\, we hope to reschedule them ASAP.  THE SHOW WILL GO ON with The Debutants. \n$10 no-fee advance tickets on sale now\n$12 day of show \nposter by Jared Andrews
URL:https://www.brassrailfw.com/show/debutantstillers/
LOCATION:The Brass Rail\, 1121 Broadway\, Fort Wayne\, IN\, 46802\, United States
ATTACH;FMTTYPE=image/jpeg:https://www.brassrailfw.com/wp-content/uploads/2024/12/2024_01_10-vert-Tillers.jpg
GEO:41.0740622;-85.1478209
X-APPLE-STRUCTURED-LOCATION;VALUE=URI;X-ADDRESS=The Brass Rail 1121 Broadway Fort Wayne IN 46802 United States;X-APPLE-RADIUS=500;X-TITLE=1121 Broadway:geo:-85.1478209,41.0740622
END:VEVENT
BEGIN:VEVENT
DTSTART;TZID=UTC:20250104T213000
DTEND;TZID=UTC:20250104T213000
DTSTAMP:20260425T133513
CREATED:20241001T170543Z
LAST-MODIFIED:20241227T014501Z
UID:10001965-1736026200-1736026200@www.brassrailfw.com
SUMMARY:O'Sister\, Brother with Adam Clark Trio
DESCRIPTION:Come enjoy a night with O Sister\, Brother at the Brass Rail. Adam Clark Trio will kick off the night at 9:30ish. $8 cover
URL:https://www.brassrailfw.com/show/osister-brother-3/
LOCATION:The Brass Rail\, 1121 Broadway\, Fort Wayne\, IN\, 46802\, United States
ATTACH;FMTTYPE=image/jpeg:https://www.brassrailfw.com/wp-content/uploads/2024/10/471406742_1123006709825199_6344857000835581388_n.jpg
GEO:41.0740622;-85.1478209
X-APPLE-STRUCTURED-LOCATION;VALUE=URI;X-ADDRESS=The Brass Rail 1121 Broadway Fort Wayne IN 46802 United States;X-APPLE-RADIUS=500;X-TITLE=1121 Broadway:geo:-85.1478209,41.0740622
END:VEVENT
BEGIN:VEVENT
DTSTART;TZID=UTC:20250103T214500
DTEND;TZID=UTC:20250103T235900
DTSTAMP:20260425T133513
CREATED:20241121T210444Z
LAST-MODIFIED:20241227T014627Z
UID:10001989-1735940700-1735948740@www.brassrailfw.com
SUMMARY:Left Lane Cruiser\, Squirrel Cage
DESCRIPTION:LEFT LANE CRUISER – Fredrick “Joe” Evans IV on guitar and vocals with Brenn Beck on drums and back up vocals.https://leftlanecruiserband.com/\n\nSQUIRREL CAGE – Crazy Love Grunge Rockhttps://www.instagram.com/squirrelcageband/\n\n$8 cover\, must be 21
URL:https://www.brassrailfw.com/show/left-lane-cruiser-10/
LOCATION:The Brass Rail\, 1121 Broadway\, Fort Wayne\, IN\, 46802\, United States
ATTACH;FMTTYPE=image/jpeg:https://www.brassrailfw.com/wp-content/uploads/2024/11/2025_01_03-vert-left-lane-cruiser.jpg
GEO:41.0740622;-85.1478209
X-APPLE-STRUCTURED-LOCATION;VALUE=URI;X-ADDRESS=The Brass Rail 1121 Broadway Fort Wayne IN 46802 United States;X-APPLE-RADIUS=500;X-TITLE=1121 Broadway:geo:-85.1478209,41.0740622
END:VEVENT
BEGIN:VEVENT
DTSTART;TZID=UTC:20241231T210000
DTEND;TZID=UTC:20241231T233000
DTSTAMP:20260425T133513
CREATED:20240807T221237Z
LAST-MODIFIED:20240807T221237Z
UID:10001943-1735678800-1735687800@www.brassrailfw.com
SUMMARY:Y2K 25th Anniversay Party
DESCRIPTION:c-ray
URL:https://www.brassrailfw.com/show/y2k-25th-anniversay-party/
LOCATION:The Brass Rail\, 1121 Broadway\, Fort Wayne\, IN\, 46802\, United States
GEO:41.0740622;-85.1478209
X-APPLE-STRUCTURED-LOCATION;VALUE=URI;X-ADDRESS=The Brass Rail 1121 Broadway Fort Wayne IN 46802 United States;X-APPLE-RADIUS=500;X-TITLE=1121 Broadway:geo:-85.1478209,41.0740622
END:VEVENT
BEGIN:VEVENT
DTSTART;TZID=UTC:20241228T213000
DTEND;TZID=UTC:20241228T213000
DTSTAMP:20260425T133513
CREATED:20241102T220526Z
LAST-MODIFIED:20241227T011819Z
UID:10001972-1735421400-1735421400@www.brassrailfw.com
SUMMARY:Thunderhawk\, Church Shoes
DESCRIPTION:Two of our favorite bands from years past are back together again! \n\nThunderhawkhttps://thunderhawk.bandcamp.com/music\n\nChurch Shoeshttps://churchshoes.bandcamp.com/album/loves\n\n$9 cover\, must be 21\nposter by Jared Andrews
URL:https://www.brassrailfw.com/show/thundershoes/
LOCATION:The Brass Rail\, 1121 Broadway\, Fort Wayne\, IN\, 46802\, United States
ATTACH;FMTTYPE=image/png:https://www.brassrailfw.com/wp-content/uploads/2024/11/2024_12_28-vert-thunderhawk.png
GEO:41.0740622;-85.1478209
X-APPLE-STRUCTURED-LOCATION;VALUE=URI;X-ADDRESS=The Brass Rail 1121 Broadway Fort Wayne IN 46802 United States;X-APPLE-RADIUS=500;X-TITLE=1121 Broadway:geo:-85.1478209,41.0740622
END:VEVENT
BEGIN:VEVENT
DTSTART;TZID=UTC:20241227T214500
DTEND;TZID=UTC:20241227T214500
DTSTAMP:20260425T133513
CREATED:20241107T163202Z
LAST-MODIFIED:20241120T203213Z
UID:10001975-1735335900-1735335900@www.brassrailfw.com
SUMMARY:SUN.DYLE\, Chirp\, Augmentasia
DESCRIPTION:emma corey email
URL:https://www.brassrailfw.com/show/sun-dyle-chirp/
LOCATION:The Brass Rail\, 1121 Broadway\, Fort Wayne\, IN\, 46802\, United States
GEO:41.0740622;-85.1478209
X-APPLE-STRUCTURED-LOCATION;VALUE=URI;X-ADDRESS=The Brass Rail 1121 Broadway Fort Wayne IN 46802 United States;X-APPLE-RADIUS=500;X-TITLE=1121 Broadway:geo:-85.1478209,41.0740622
END:VEVENT
BEGIN:VEVENT
DTSTART;TZID=UTC:20241221T213000
DTEND;TZID=UTC:20241221T213000
DTSTAMP:20260425T133513
CREATED:20241120T204800Z
LAST-MODIFIED:20241208T012514Z
UID:10001988-1734816600-1734816600@www.brassrailfw.com
SUMMARY:Placeholder\, quiet/creator\, Sundog Sarah\, Ben Carr
DESCRIPTION:$7 cover\, must be 21
URL:https://www.brassrailfw.com/show/placeholder-quiet-creator-sundog-sarah/
LOCATION:The Brass Rail\, 1121 Broadway\, Fort Wayne\, IN\, 46802\, United States
ATTACH;FMTTYPE=image/jpeg:https://www.brassrailfw.com/wp-content/uploads/2024/11/2024_12_21-vert-Orange-Green-Creative-Christmas-Carol-Celebration-Flyer.jpg
GEO:41.0740622;-85.1478209
X-APPLE-STRUCTURED-LOCATION;VALUE=URI;X-ADDRESS=The Brass Rail 1121 Broadway Fort Wayne IN 46802 United States;X-APPLE-RADIUS=500;X-TITLE=1121 Broadway:geo:-85.1478209,41.0740622
END:VEVENT
BEGIN:VEVENT
DTSTART;TZID=UTC:20241220T213000
DTEND;TZID=UTC:20241220T213000
DTSTAMP:20260425T133513
CREATED:20241015T004921Z
LAST-MODIFIED:20241015T004921Z
UID:10001966-1734730200-1734730200@www.brassrailfw.com
SUMMARY:The Meat Flowers\, Ron Record
DESCRIPTION:
URL:https://www.brassrailfw.com/show/the-meat-flowers-ron-record/
LOCATION:The Brass Rail\, 1121 Broadway\, Fort Wayne\, IN\, 46802\, United States
GEO:41.0740622;-85.1478209
X-APPLE-STRUCTURED-LOCATION;VALUE=URI;X-ADDRESS=The Brass Rail 1121 Broadway Fort Wayne IN 46802 United States;X-APPLE-RADIUS=500;X-TITLE=1121 Broadway:geo:-85.1478209,41.0740622
END:VEVENT
BEGIN:VEVENT
DTSTART;TZID=UTC:20241219T200000
DTEND;TZID=UTC:20241219T200000
DTSTAMP:20260425T133513
CREATED:20241203T180651Z
LAST-MODIFIED:20241203T181002Z
UID:10001997-1734638400-1734638400@www.brassrailfw.com
SUMMARY:A Very Merry Brass Rail Christmas Event
DESCRIPTION:Smash Bros Video Game Tourney\nFestive Cocktails\nHot Chocolate Bar\nCanned Food Drive \n  \nFREE
URL:https://www.brassrailfw.com/show/a-very-merry-brass-rail-christmas-event/
LOCATION:The Brass Rail\, 1121 Broadway\, Fort Wayne\, IN\, 46802\, United States
ATTACH;FMTTYPE=image/jpeg:https://www.brassrailfw.com/wp-content/uploads/2024/12/2024_12_19-vert-xmas-party.jpg
GEO:41.0740622;-85.1478209
X-APPLE-STRUCTURED-LOCATION;VALUE=URI;X-ADDRESS=The Brass Rail 1121 Broadway Fort Wayne IN 46802 United States;X-APPLE-RADIUS=500;X-TITLE=1121 Broadway:geo:-85.1478209,41.0740622
END:VEVENT
BEGIN:VEVENT
DTSTART;TZID=UTC:20241214T213000
DTEND;TZID=UTC:20241214T213000
DTSTAMP:20260425T133513
CREATED:20240922T160006Z
LAST-MODIFIED:20241129T220749Z
UID:10001963-1734211800-1734211800@www.brassrailfw.com
SUMMARY:The Blue Boys\, Bloodstained Sky\, Maddie Folly
DESCRIPTION:
URL:https://www.brassrailfw.com/show/h-michael-morgan-3/
LOCATION:The Brass Rail\, 1121 Broadway\, Fort Wayne\, IN\, 46802\, United States
ATTACH;FMTTYPE=image/png:https://www.brassrailfw.com/wp-content/uploads/2024/09/2024_12_14-vert-hardcore-christmas.png
GEO:41.0740622;-85.1478209
X-APPLE-STRUCTURED-LOCATION;VALUE=URI;X-ADDRESS=The Brass Rail 1121 Broadway Fort Wayne IN 46802 United States;X-APPLE-RADIUS=500;X-TITLE=1121 Broadway:geo:-85.1478209,41.0740622
END:VEVENT
BEGIN:VEVENT
DTSTART;TZID=UTC:20241213T214500
DTEND;TZID=UTC:20241213T214500
DTSTAMP:20260425T133513
CREATED:20241114T232040Z
LAST-MODIFIED:20241114T232040Z
UID:10001979-1734126300-1734126300@www.brassrailfw.com
SUMMARY:Tired All The Time\, Florets\, Etymon
DESCRIPTION:
URL:https://www.brassrailfw.com/show/tired-all-the-time-florets-etymon/
LOCATION:The Brass Rail\, 1121 Broadway\, Fort Wayne\, IN\, 46802\, United States
GEO:41.0740622;-85.1478209
X-APPLE-STRUCTURED-LOCATION;VALUE=URI;X-ADDRESS=The Brass Rail 1121 Broadway Fort Wayne IN 46802 United States;X-APPLE-RADIUS=500;X-TITLE=1121 Broadway:geo:-85.1478209,41.0740622
END:VEVENT
BEGIN:VEVENT
DTSTART;TZID=UTC:20241212T203000
DTEND;TZID=UTC:20241212T203000
DTSTAMP:20260425T133513
CREATED:20240709T003447Z
LAST-MODIFIED:20241203T023406Z
UID:10001927-1734035400-1734035400@www.brassrailfw.com
SUMMARY:Debutants with Hillbilly Casino
DESCRIPTION:Debutants are bringing Hillbilly Casino to the Brass Rail for a little Holiday Hoedown!\n“We have a fantastic set list full of classic Hillbilly Casino songs and some real exciting X-Mas music…highly energetic and festive (but not too festive)”\n“Surprises coming your way\, as well as fun\, crowd-engaging material…. See ya on the Holiday Road.” – Nic Roulette\n$10 no-fee tickets on sale now. $12 day of show\nposter by Jared Andrews
URL:https://www.brassrailfw.com/show/the-hillbilly-casino/
LOCATION:The Brass Rail\, 1121 Broadway\, Fort Wayne\, IN\, 46802\, United States
ATTACH;FMTTYPE=image/png:https://www.brassrailfw.com/wp-content/uploads/2024/07/2024_12_12-vert-debutants.png
GEO:41.0740622;-85.1478209
X-APPLE-STRUCTURED-LOCATION;VALUE=URI;X-ADDRESS=The Brass Rail 1121 Broadway Fort Wayne IN 46802 United States;X-APPLE-RADIUS=500;X-TITLE=1121 Broadway:geo:-85.1478209,41.0740622
END:VEVENT
BEGIN:VEVENT
DTSTART;TZID=UTC:20241208T213000
DTEND;TZID=UTC:20241208T213000
DTSTAMP:20260425T133513
CREATED:20241208T220434Z
LAST-MODIFIED:20241208T220434Z
UID:10002000-1733693400-1733693400@www.brassrailfw.com
SUMMARY:Faith In Nothing
DESCRIPTION:charlie via sms and email
URL:https://www.brassrailfw.com/show/faith-in-nothing/
LOCATION:The Brass Rail\, 1121 Broadway\, Fort Wayne\, IN\, 46802\, United States
GEO:41.0740622;-85.1478209
X-APPLE-STRUCTURED-LOCATION;VALUE=URI;X-ADDRESS=The Brass Rail 1121 Broadway Fort Wayne IN 46802 United States;X-APPLE-RADIUS=500;X-TITLE=1121 Broadway:geo:-85.1478209,41.0740622
END:VEVENT
BEGIN:VEVENT
DTSTART;TZID=UTC:20241207T214500
DTEND;TZID=UTC:20241207T214500
DTSTAMP:20260425T133513
CREATED:20241114T230107Z
LAST-MODIFIED:20241123T183404Z
UID:10001978-1733607900-1733607900@www.brassrailfw.com
SUMMARY:Indigo Society\, Sahara\, Noah Sties
DESCRIPTION:
URL:https://www.brassrailfw.com/show/indigo-society-sahara-noah-sties/
LOCATION:The Brass Rail\, 1121 Broadway\, Fort Wayne\, IN\, 46802\, United States
ATTACH;FMTTYPE=image/jpeg:https://www.brassrailfw.com/wp-content/uploads/2024/10/2024_12_07-vert-indigo.jpg
GEO:41.0740622;-85.1478209
X-APPLE-STRUCTURED-LOCATION;VALUE=URI;X-ADDRESS=The Brass Rail 1121 Broadway Fort Wayne IN 46802 United States;X-APPLE-RADIUS=500;X-TITLE=1121 Broadway:geo:-85.1478209,41.0740622
END:VEVENT
BEGIN:VEVENT
DTSTART;TZID=UTC:20241206T214500
DTEND;TZID=UTC:20241206T214500
DTSTAMP:20260425T133513
CREATED:20241123T182758Z
LAST-MODIFIED:20241129T212952Z
UID:10001990-1733521500-1733521500@www.brassrailfw.com
SUMMARY:Neighborhood Strays\, Half Cap\, Four Piece
DESCRIPTION:$7 cover\, must be 21
URL:https://www.brassrailfw.com/show/neighborhood-strays-half-cap-four-piece/
LOCATION:The Brass Rail\, 1121 Broadway\, Fort Wayne\, IN\, 46802\, United States
ATTACH;FMTTYPE=image/jpeg:https://www.brassrailfw.com/wp-content/uploads/2024/11/2024_12_06-vert-Half-Cap.jpg
GEO:41.0740622;-85.1478209
X-APPLE-STRUCTURED-LOCATION;VALUE=URI;X-ADDRESS=The Brass Rail 1121 Broadway Fort Wayne IN 46802 United States;X-APPLE-RADIUS=500;X-TITLE=1121 Broadway:geo:-85.1478209,41.0740622
END:VEVENT
BEGIN:VEVENT
DTSTART;TZID=UTC:20241130T210000
DTEND;TZID=UTC:20241130T210000
DTSTAMP:20260425T133513
CREATED:20241020T155213Z
LAST-MODIFIED:20241129T211108Z
UID:10001969-1733000400-1733000400@www.brassrailfw.com
SUMMARY:J. Tubbs\, Nyzzy Nyce\, TRICITO\, and Swope.
DESCRIPTION:YM3 Music Group Presents\nPLAYERS AND KINGS\nWith TRICITO & J. Tubbs\nGuest performances by JAY VAL LEO\, Zion Omari\, Zig Zag\, and PRSSR.\nTRICITO and J. Tubbs bringing the Playaa and King vibes to the Rail\, for a dope night of Hip Hop! Lyricism\, crazy production\, and flavor. You ready? Going to be a great time\, ending the holiday weekend with something real polite!\nHosted by OG.\nNOVEMBER 30\, 2024Doors at 9PM | Show at 10PM21+ | $8\nThe Brass Rail1121 BroadwayFort Wayne\, IN 46802
URL:https://www.brassrailfw.com/show/j-tubbs-nyzzy-nyce-tricito-and-swope/
LOCATION:The Brass Rail\, 1121 Broadway\, Fort Wayne\, IN\, 46802\, United States
ATTACH;FMTTYPE=image/jpeg:https://www.brassrailfw.com/wp-content/uploads/2024/10/2024_11_30-vert-Tricity-J-Tubbs.jpg
GEO:41.0740622;-85.1478209
X-APPLE-STRUCTURED-LOCATION;VALUE=URI;X-ADDRESS=The Brass Rail 1121 Broadway Fort Wayne IN 46802 United States;X-APPLE-RADIUS=500;X-TITLE=1121 Broadway:geo:-85.1478209,41.0740622
END:VEVENT
BEGIN:VEVENT
DTSTART;TZID=UTC:20241129T210000
DTEND;TZID=UTC:20241129T210000
DTSTAMP:20260425T133513
CREATED:20241023T222414Z
LAST-MODIFIED:20241123T183328Z
UID:10001971-1732914000-1732914000@www.brassrailfw.com
SUMMARY:Swell Time\, The Blue Boys\, Quiet/Creator
DESCRIPTION:
URL:https://www.brassrailfw.com/show/h-jess-12/
LOCATION:The Brass Rail\, 1121 Broadway\, Fort Wayne\, IN\, 46802\, United States
ATTACH;FMTTYPE=image/jpeg:https://www.brassrailfw.com/wp-content/uploads/2024/10/2024_10_29-vert-swell.jpg
GEO:41.0740622;-85.1478209
X-APPLE-STRUCTURED-LOCATION;VALUE=URI;X-ADDRESS=The Brass Rail 1121 Broadway Fort Wayne IN 46802 United States;X-APPLE-RADIUS=500;X-TITLE=1121 Broadway:geo:-85.1478209,41.0740622
END:VEVENT
BEGIN:VEVENT
DTSTART;TZID=UTC:20241127T213000
DTEND;TZID=UTC:20241127T213000
DTSTAMP:20260425T133513
CREATED:20241020T155125Z
LAST-MODIFIED:20241020T155135Z
UID:10001968-1732743000-1732743000@www.brassrailfw.com
SUMMARY:Davey Heritier Band\, dWith DJ J. Tubbs
DESCRIPTION:
URL:https://www.brassrailfw.com/show/davey-heritier-band-dwith-dj-j-tubbs/
LOCATION:The Brass Rail\, 1121 Broadway\, Fort Wayne\, IN\, 46802\, United States
GEO:41.0740622;-85.1478209
X-APPLE-STRUCTURED-LOCATION;VALUE=URI;X-ADDRESS=The Brass Rail 1121 Broadway Fort Wayne IN 46802 United States;X-APPLE-RADIUS=500;X-TITLE=1121 Broadway:geo:-85.1478209,41.0740622
END:VEVENT
BEGIN:VEVENT
DTSTART;TZID=UTC:20241123T214500
DTEND;TZID=UTC:20241123T214500
DTSTAMP:20260425T133513
CREATED:20241114T215704Z
LAST-MODIFIED:20241118T173713Z
UID:10001977-1732398300-1732398300@www.brassrailfw.com
SUMMARY:Western Night withThumbrider and Jonah Leatherman
DESCRIPTION:Get ready to kick up your boots and two-step the night away at The Brass Rail! Thumbrider and Jonah Leatherman\, will be bringing the honky-tonk vibes you love. The music starts at 9 PM\, so grab your friends and get ready to dance! But that’s not all—dust off your best cowboy boots\, hats\, and fringe jackets because we’re hosting a Best Dressed Cowpoke Contest! Show off your country flair for a chance to ride off with a special prize. This event is 21+\, and entry is just $7 at the door. Don’t miss your chance to enjoy a night of great music\, good drinks\, and honky tonkin  fun. See y’all there! \n  \n 
URL:https://www.brassrailfw.com/show/thumbrider-jonah-leatherman/
LOCATION:The Brass Rail\, 1121 Broadway\, Fort Wayne\, IN\, 46802\, United States
ATTACH;FMTTYPE=image/jpeg:https://www.brassrailfw.com/wp-content/uploads/2024/11/2024_11_23-vert-western.jpg
GEO:41.0740622;-85.1478209
X-APPLE-STRUCTURED-LOCATION;VALUE=URI;X-ADDRESS=The Brass Rail 1121 Broadway Fort Wayne IN 46802 United States;X-APPLE-RADIUS=500;X-TITLE=1121 Broadway:geo:-85.1478209,41.0740622
END:VEVENT
BEGIN:VEVENT
DTSTART;TZID=UTC:20241122T213000
DTEND;TZID=UTC:20241122T213000
DTSTAMP:20260425T133513
CREATED:20240828T130851Z
LAST-MODIFIED:20240828T130851Z
UID:10001956-1732311000-1732311000@www.brassrailfw.com
SUMMARY:Flamingo Nosebleed\, Filthy & Majesty
DESCRIPTION:
URL:https://www.brassrailfw.com/show/flamingo-nosebleed-filthy-majesty/
LOCATION:The Brass Rail\, 1121 Broadway\, Fort Wayne\, IN\, 46802\, United States
GEO:41.0740622;-85.1478209
X-APPLE-STRUCTURED-LOCATION;VALUE=URI;X-ADDRESS=The Brass Rail 1121 Broadway Fort Wayne IN 46802 United States;X-APPLE-RADIUS=500;X-TITLE=1121 Broadway:geo:-85.1478209,41.0740622
END:VEVENT
BEGIN:VEVENT
DTSTART;TZID=UTC:20241116T214500
DTEND;TZID=UTC:20241116T214500
DTSTAMP:20260425T133513
CREATED:20240822T215442Z
LAST-MODIFIED:20241106T201816Z
UID:10001954-1731793500-1731793500@www.brassrailfw.com
SUMMARY:Little Good\, Maven\, Middle Names
DESCRIPTION:Little Good\nhttps://www.instagram.com/littlegood_music/ \nMaven\nhttps://www.instagram.com/maren.260/ \nMiddle Names\nhttps://www.instagram.com/middlenamesband/ \n$7 cover\, must be 21
URL:https://www.brassrailfw.com/show/middle-names-5/
LOCATION:The Brass Rail\, 1121 Broadway\, Fort Wayne\, IN\, 46802\, United States
ATTACH;FMTTYPE=image/jpeg:https://www.brassrailfw.com/wp-content/uploads/2024/08/2024_11_17-vert-little-good.jpg
GEO:41.0740622;-85.1478209
X-APPLE-STRUCTURED-LOCATION;VALUE=URI;X-ADDRESS=The Brass Rail 1121 Broadway Fort Wayne IN 46802 United States;X-APPLE-RADIUS=500;X-TITLE=1121 Broadway:geo:-85.1478209,41.0740622
END:VEVENT
BEGIN:VEVENT
DTSTART;TZID=UTC:20241115T213000
DTEND;TZID=UTC:20241115T213000
DTSTAMP:20260425T133513
CREATED:20241001T170508Z
LAST-MODIFIED:20241104T011617Z
UID:10001964-1731706200-1731706200@www.brassrailfw.com
SUMMARY:James & The Drifters
DESCRIPTION:James & The Drifters\nhttps://www.instagram.com/jamesandthedrifters/ \n  \n$10
URL:https://www.brassrailfw.com/show/james-the-drifters-3/
LOCATION:The Brass Rail\, 1121 Broadway\, Fort Wayne\, IN\, 46802\, United States
ATTACH;FMTTYPE=image/png:https://www.brassrailfw.com/wp-content/uploads/2024/10/2024_11_15-vert-james-and-the-drifters.png
GEO:41.0740622;-85.1478209
X-APPLE-STRUCTURED-LOCATION;VALUE=URI;X-ADDRESS=The Brass Rail 1121 Broadway Fort Wayne IN 46802 United States;X-APPLE-RADIUS=500;X-TITLE=1121 Broadway:geo:-85.1478209,41.0740622
END:VEVENT
END:VCALENDAR