BEGIN:VCALENDAR
VERSION:2.0
PRODID:-//The Brass Rail - ECPv6.15.20//NONSGML v1.0//EN
CALSCALE:GREGORIAN
METHOD:PUBLISH
X-WR-CALNAME:The Brass Rail
X-ORIGINAL-URL:https://www.brassrailfw.com
X-WR-CALDESC:Events for The Brass Rail
REFRESH-INTERVAL;VALUE=DURATION:PT1H
X-Robots-Tag:noindex
X-PUBLISHED-TTL:PT1H
BEGIN:VTIMEZONE
TZID:UTC
BEGIN:STANDARD
TZOFFSETFROM:+0000
TZOFFSETTO:+0000
TZNAME:UTC
DTSTART:20240101T000000
END:STANDARD
END:VTIMEZONE
BEGIN:VEVENT
DTSTART;TZID=UTC:20250606T210000
DTEND;TZID=UTC:20250606T235900
DTSTAMP:20260425T164103
CREATED:20250223T230236Z
LAST-MODIFIED:20250524T224801Z
UID:10002043-1749243600-1749254340@www.brassrailfw.com
SUMMARY:Bronson Arm\, Loomspore\, Split Parasite
DESCRIPTION:Bronson Arm\nhttps://www.instagram.com/bronson_arm_noise/ \nLoomspore\nhttps://www.instagram.com/loomspore/ \nSplit Parasite\nhttps://www.instagram.com/split.parasite/ \n$7 cover\, must be 21
URL:https://www.brassrailfw.com/show/loomspore/
LOCATION:The Brass Rail\, 1121 Broadway\, Fort Wayne\, IN\, 46802\, United States
ATTACH;FMTTYPE=image/jpeg:https://www.brassrailfw.com/wp-content/uploads/2025/02/2025_06_06-loomspore.jpg
GEO:41.0740622;-85.1478209
X-APPLE-STRUCTURED-LOCATION;VALUE=URI;X-ADDRESS=The Brass Rail 1121 Broadway Fort Wayne IN 46802 United States;X-APPLE-RADIUS=500;X-TITLE=1121 Broadway:geo:-85.1478209,41.0740622
END:VEVENT
BEGIN:VEVENT
DTSTART;TZID=UTC:20250607T213000
DTEND;TZID=UTC:20250607T235900
DTSTAMP:20260425T164103
CREATED:20250223T230558Z
LAST-MODIFIED:20250526T022935Z
UID:10002045-1749331800-1749340740@www.brassrailfw.com
SUMMARY:Walker Rider\, Fresh Tar\, Thumbrider
DESCRIPTION:Walker Rider\nhttps://www.instagram.com/walkerrider444/ \nFresh Tar\nhttps://www.instagram.com/freshtarmusic/ \nThumbrider\nhttp://instagram.com/thumbriderband/ \n$7 cover\, must be 21
URL:https://www.brassrailfw.com/show/walker-rider-2/
LOCATION:The Brass Rail\, 1121 Broadway\, Fort Wayne\, IN\, 46802\, United States
ATTACH;FMTTYPE=image/jpeg:https://www.brassrailfw.com/wp-content/uploads/2025/02/2025_06_07-walker-rider.jpg
GEO:41.0740622;-85.1478209
X-APPLE-STRUCTURED-LOCATION;VALUE=URI;X-ADDRESS=The Brass Rail 1121 Broadway Fort Wayne IN 46802 United States;X-APPLE-RADIUS=500;X-TITLE=1121 Broadway:geo:-85.1478209,41.0740622
END:VEVENT
BEGIN:VEVENT
DTSTART;TZID=UTC:20250610T210000
DTEND;TZID=UTC:20250610T235900
DTSTAMP:20260425T164103
CREATED:20250526T010546Z
LAST-MODIFIED:20250526T013253Z
UID:10002098-1749589200-1749599940@www.brassrailfw.com
SUMMARY:Bingo Night
DESCRIPTION:Bingo at The Brass Rail\n\nTuesday\, June 10 • 9PM • Free • 21+ \n\n\n  \n\n\nIt’s bingo. It’s free. It’s at a bar. What more do you need? There will be numbers. There will be prizes. Possibly glory. Possibly existential revelations. Who knows? It’s bingo at The Brass Rail\, baby. Bring your best friends and your good luck! See you there!
URL:https://www.brassrailfw.com/show/bingo-night-2/
LOCATION:The Brass Rail\, 1121 Broadway\, Fort Wayne\, IN\, 46802\, United States
ATTACH;FMTTYPE=image/png:https://www.brassrailfw.com/wp-content/uploads/2025/05/2025_06_10-photo-bingo.png
GEO:41.0740622;-85.1478209
X-APPLE-STRUCTURED-LOCATION;VALUE=URI;X-ADDRESS=The Brass Rail 1121 Broadway Fort Wayne IN 46802 United States;X-APPLE-RADIUS=500;X-TITLE=1121 Broadway:geo:-85.1478209,41.0740622
END:VEVENT
BEGIN:VEVENT
DTSTART;TZID=UTC:20250613T214500
DTEND;TZID=UTC:20250613T235900
DTSTAMP:20260425T164103
CREATED:20250316T235708Z
LAST-MODIFIED:20250524T150508Z
UID:10002065-1749851100-1749859140@www.brassrailfw.com
SUMMARY:Funayūrei\, Melter\, Runner and Bobby
DESCRIPTION:Funayūrei\nhttps://www.instagram.com/funayureimusic/ \nMelter\nhttps://www.instagram.com/meltermusic/ \nRunner And Bobby\nhttps://www.instagram.com/runner.and.bobby/ \n$7 cover\, must be 21
URL:https://www.brassrailfw.com/show/funayurei-2/
LOCATION:The Brass Rail\, 1121 Broadway\, Fort Wayne\, IN\, 46802\, United States
ATTACH;FMTTYPE=image/jpeg:https://www.brassrailfw.com/wp-content/uploads/2025/03/2025_06_13-vert-Funayurei.jpg
GEO:41.0740622;-85.1478209
X-APPLE-STRUCTURED-LOCATION;VALUE=URI;X-ADDRESS=The Brass Rail 1121 Broadway Fort Wayne IN 46802 United States;X-APPLE-RADIUS=500;X-TITLE=1121 Broadway:geo:-85.1478209,41.0740622
END:VEVENT
BEGIN:VEVENT
DTSTART;TZID=UTC:20250614T213000
DTEND;TZID=UTC:20250614T235900
DTSTAMP:20260425T164103
CREATED:20250404T000314Z
LAST-MODIFIED:20250404T004415Z
UID:10002075-1749936600-1749945540@www.brassrailfw.com
SUMMARY:Prom Night
DESCRIPTION:
URL:https://www.brassrailfw.com/show/prom-night/
LOCATION:The Brass Rail\, 1121 Broadway\, Fort Wayne\, IN\, 46802\, United States
GEO:41.0740622;-85.1478209
X-APPLE-STRUCTURED-LOCATION;VALUE=URI;X-ADDRESS=The Brass Rail 1121 Broadway Fort Wayne IN 46802 United States;X-APPLE-RADIUS=500;X-TITLE=1121 Broadway:geo:-85.1478209,41.0740622
END:VEVENT
BEGIN:VEVENT
DTSTART;TZID=UTC:20250619T210000
DTEND;TZID=UTC:20250619T235900
DTSTAMP:20260425T164103
CREATED:20241120T204300Z
LAST-MODIFIED:20250617T180303Z
UID:10001987-1750366800-1750377540@www.brassrailfw.com
SUMMARY:Home Phone\, Placeholder\, Fresh Tar
DESCRIPTION:Home Phone Tour Celebration with Placeholder and Fresh Tar \n$7 cover must be 21
URL:https://www.brassrailfw.com/show/h-jess-18/
LOCATION:The Brass Rail\, 1121 Broadway\, Fort Wayne\, IN\, 46802\, United States
GEO:41.0740622;-85.1478209
X-APPLE-STRUCTURED-LOCATION;VALUE=URI;X-ADDRESS=The Brass Rail 1121 Broadway Fort Wayne IN 46802 United States;X-APPLE-RADIUS=500;X-TITLE=1121 Broadway:geo:-85.1478209,41.0740622
END:VEVENT
BEGIN:VEVENT
DTSTART;TZID=UTC:20250620T214500
DTEND;TZID=UTC:20250620T235900
DTSTAMP:20260425T164103
CREATED:20250324T001656Z
LAST-MODIFIED:20250617T131031Z
UID:10002070-1750455900-1750463940@www.brassrailfw.com
SUMMARY:King Falcon\, Florets\, Sundog Sarah
DESCRIPTION:$7 cover\, must be 21
URL:https://www.brassrailfw.com/show/king-falcon-possibly-molly-martin-man-of-the-flood/
LOCATION:The Brass Rail\, 1121 Broadway\, Fort Wayne\, IN\, 46802\, United States
ATTACH;FMTTYPE=image/jpeg:https://www.brassrailfw.com/wp-content/uploads/2025/03/2025_06_20-king-falcon.jpg
GEO:41.0740622;-85.1478209
X-APPLE-STRUCTURED-LOCATION;VALUE=URI;X-ADDRESS=The Brass Rail 1121 Broadway Fort Wayne IN 46802 United States;X-APPLE-RADIUS=500;X-TITLE=1121 Broadway:geo:-85.1478209,41.0740622
END:VEVENT
BEGIN:VEVENT
DTSTART;TZID=UTC:20250621T214500
DTEND;TZID=UTC:20250621T214500
DTSTAMP:20260425T164103
CREATED:20250223T202815Z
LAST-MODIFIED:20250616T232706Z
UID:10002038-1750542300-1750542300@www.brassrailfw.com
SUMMARY:Thunderhawk\, Heaven's Gateway Drugs\, THINNING for Jess's Birthday
DESCRIPTION:It’s Jess’s Birthday so she put together a heck of a show for all of you\nTHUNDERHAWKHEAVEN’S GATEWAY DRUGSTHINNING\n$7 cover\, must be 21
URL:https://www.brassrailfw.com/show/thinning/
LOCATION:IN
ATTACH;FMTTYPE=image/jpeg:https://www.brassrailfw.com/wp-content/uploads/2025/02/2025_06_21-thunderhawk.jpeg
END:VEVENT
BEGIN:VEVENT
DTSTART;TZID=UTC:20250626T210000
DTEND;TZID=UTC:20250626T210000
DTSTAMP:20260425T164103
CREATED:20250121T163149Z
LAST-MODIFIED:20250625T140216Z
UID:10002031-1750971600-1750971600@www.brassrailfw.com
SUMMARY:CANCELLED:   All Under Heaven\, Precocious Neophyte\, Necromoon\, Seventh Cloud
DESCRIPTION:$15 no-fee tickets on sale now.  $17 day of show \nOriginally formed in 2017\, New Jersey’s All Under Heaven regrouped in 2020 and will release their new LP\, What Lies Ahead\, in May. The new album marks a shift from songs backed by walls of guitars to a broader spectrum of tracks embracing keyboards\, synthesizers\, and beats. With nods to bands like Starflyer 59\, The Cure\, and Pinback\, All Under Heaven weaves themes of loss\, love\, and friendship into their dynamic sound\, carving out their space in the shoegaze sphere.
URL:https://www.brassrailfw.com/show/all-under-heaven-7th-cloud/
LOCATION:IN
ATTACH;FMTTYPE=image/jpeg:https://www.brassrailfw.com/wp-content/uploads/2025/01/2025_06_26-Either-Or.jpg
END:VEVENT
BEGIN:VEVENT
DTSTART;TZID=UTC:20250627T213000
DTEND;TZID=UTC:20250627T235900
DTSTAMP:20260425T164103
CREATED:20250223T230814Z
LAST-MODIFIED:20250414T194014Z
UID:10002047-1751059800-1751068740@www.brassrailfw.com
SUMMARY:When The Sun Sets\, Mighty Vices\, Maren
DESCRIPTION:When The Sun Sets\nhttps://www.instagram.com/whenthesunsetsil/ \nMight Vices\nhttps://www.instagram.com/mighty_vices/ \nMaren\nhttps://www.instagram.com/maren.260/ \n$9 cover\, must be 21
URL:https://www.brassrailfw.com/show/when-the-sun-sets-mighty-vices-maren-2/
LOCATION:The Brass Rail\, 1121 Broadway\, Fort Wayne\, IN\, 46802\, United States
ATTACH;FMTTYPE=image/jpeg:https://www.brassrailfw.com/wp-content/uploads/2025/02/2025_06_27-vert-When-The-Sun-Sets.jpeg
GEO:41.0740622;-85.1478209
X-APPLE-STRUCTURED-LOCATION;VALUE=URI;X-ADDRESS=The Brass Rail 1121 Broadway Fort Wayne IN 46802 United States;X-APPLE-RADIUS=500;X-TITLE=1121 Broadway:geo:-85.1478209,41.0740622
END:VEVENT
BEGIN:VEVENT
DTSTART;TZID=UTC:20250628T214500
DTEND;TZID=UTC:20250628T235900
DTSTAMP:20260425T164103
CREATED:20250303T234728Z
LAST-MODIFIED:20250303T234749Z
UID:10002054-1751147100-1751155140@www.brassrailfw.com
SUMMARY:A Tribute to Death Cab For Cutie
DESCRIPTION:
URL:https://www.brassrailfw.com/show/a-tribute-to-death-cab-for-cutie/
LOCATION:The Brass Rail\, 1121 Broadway\, Fort Wayne\, IN\, 46802\, United States
GEO:41.0740622;-85.1478209
X-APPLE-STRUCTURED-LOCATION;VALUE=URI;X-ADDRESS=The Brass Rail 1121 Broadway Fort Wayne IN 46802 United States;X-APPLE-RADIUS=500;X-TITLE=1121 Broadway:geo:-85.1478209,41.0740622
END:VEVENT
BEGIN:VEVENT
DTSTART;TZID=UTC:20250703T210000
DTEND;TZID=UTC:20250703T234500
DTSTAMP:20260425T164103
CREATED:20250502T165306Z
LAST-MODIFIED:20250629T000141Z
UID:10002092-1751576400-1751586300@www.brassrailfw.com
SUMMARY:Stay Up Dance Night
DESCRIPTION:Back at it 7/3 @brassrailfw 21+ – 2 DJs – indoors and on the back patio 🔥 @shecutit_ lighting up the interior\, and our new friend @prodblackcode bringing you some flavor out back.\n.\n.\nDon’t know about you but\, I’m ready to dance again. 9:30p-12:30a. Bring the folks\, keep it classy\, & just a little nasty 😛\n.\n.\n$10 all night. Share with the real ones. Leave the duds and the bums. This is a dance party\, dancing is strongly encouraged 😘
URL:https://www.brassrailfw.com/show/stay-up/
LOCATION:The Brass Rail\, 1121 Broadway\, Fort Wayne\, IN\, 46802\, United States
ATTACH;FMTTYPE=image/jpeg:https://www.brassrailfw.com/wp-content/uploads/2025/05/2025_07_03-stay-up.jpg
GEO:41.0740622;-85.1478209
X-APPLE-STRUCTURED-LOCATION;VALUE=URI;X-ADDRESS=The Brass Rail 1121 Broadway Fort Wayne IN 46802 United States;X-APPLE-RADIUS=500;X-TITLE=1121 Broadway:geo:-85.1478209,41.0740622
END:VEVENT
BEGIN:VEVENT
DTSTART;TZID=UTC:20250704T150000
DTEND;TZID=UTC:20250704T235900
DTSTAMP:20260425T164103
CREATED:20250629T000151Z
LAST-MODIFIED:20250629T000151Z
UID:10002109-1751641200-1751673540@www.brassrailfw.com
SUMMARY:Closed for 4th of July
DESCRIPTION:
URL:https://www.brassrailfw.com/show/closed-for-4th-of-july/
LOCATION:The Brass Rail\, 1121 Broadway\, Fort Wayne\, IN\, 46802\, United States
ATTACH;FMTTYPE=image/png:https://www.brassrailfw.com/wp-content/uploads/2025/06/Closed-on-4th-Of-July-Sign.png
GEO:41.0740622;-85.1478209
X-APPLE-STRUCTURED-LOCATION;VALUE=URI;X-ADDRESS=The Brass Rail 1121 Broadway Fort Wayne IN 46802 United States;X-APPLE-RADIUS=500;X-TITLE=1121 Broadway:geo:-85.1478209,41.0740622
END:VEVENT
BEGIN:VEVENT
DTSTART;TZID=UTC:20250705T213000
DTEND;TZID=UTC:20250705T235900
DTSTAMP:20260425T164103
CREATED:20250414T194848Z
LAST-MODIFIED:20250625T202547Z
UID:10002085-1751751000-1751759940@www.brassrailfw.com
SUMMARY:Black Lion Society\, 2RQ\, Crim\, J. Tubbs\, Tesla Chapman\, Forever Foy
DESCRIPTION:Sat July 5th: YM3 Music Group Presents: The Midwest Mic Drop hosted by OG with \nBlack Lion Society\nhttps://www.instagram.com/blklion_society/ \n2RQ\nhttps://www.instagram.com/2rq/ \nCrim \nJ. Tubbs\nhttps://www.instagram.com/iamjtubbs/ \nTesla Chapman\nhttps://www.instagram.com/teslachapman/ \nForever Foy\nhttps://www.instagram.com/forever.foy/ \n$8 cover\, must be 21
URL:https://www.brassrailfw.com/show/ym3jtubbs/
LOCATION:The Brass Rail\, 1121 Broadway\, Fort Wayne\, IN\, 46802\, United States
ATTACH;FMTTYPE=image/jpeg:https://www.brassrailfw.com/wp-content/uploads/2025/03/2025_07_06-J-Tubbs.jpeg
GEO:41.0740622;-85.1478209
X-APPLE-STRUCTURED-LOCATION;VALUE=URI;X-ADDRESS=The Brass Rail 1121 Broadway Fort Wayne IN 46802 United States;X-APPLE-RADIUS=500;X-TITLE=1121 Broadway:geo:-85.1478209,41.0740622
END:VEVENT
BEGIN:VEVENT
DTSTART;TZID=UTC:20250710T213000
DTEND;TZID=UTC:20250710T235900
DTSTAMP:20260425T164103
CREATED:20250130T004515Z
LAST-MODIFIED:20250629T000105Z
UID:10002048-1752183000-1752191940@www.brassrailfw.com
SUMMARY:Heaven's Gateway Drugs\, The Meat Flowers\, Muzzle Tung
DESCRIPTION:Heaven’s Gateway Drugs\nhttps://www.instagram.com/hvnsgtwydrgs/ \nThe Meat Flowers\nhttps://www.instagram.com/themeatflowers/ \nMuzzle Tung\nhttps://www.instagram.com/muzzletung/ \n$7 cover\, must be 21 \nPoster by Jared Andrews \n  \n 
URL:https://www.brassrailfw.com/show/muzzle-tung/
LOCATION:IN
ATTACH;FMTTYPE=image/png:https://www.brassrailfw.com/wp-content/uploads/2025/01/2025_07_10-vert-hgd-2.png
END:VEVENT
BEGIN:VEVENT
DTSTART;TZID=UTC:20250711T213000
DTEND;TZID=UTC:20250711T235900
DTSTAMP:20260425T164103
CREATED:20250706T143222Z
LAST-MODIFIED:20250706T143812Z
UID:10002110-1752269400-1752278340@www.brassrailfw.com
SUMMARY:Criminal Rock\, Matthew Sturm Band\, Mike Neglia & The Nobles
DESCRIPTION:Jamie Simon’s Celebrating his 50th Birthday playing drums with his friends.\nFeat:\nCriminal RockMatthew Sturm BandMike Neglia & The Nobles\n$7 cover\, must be 21
URL:https://www.brassrailfw.com/show/criminal-rock-matthew-sturm-band-mike-neglia-the-nobles/
LOCATION:The Brass Rail\, 1121 Broadway\, Fort Wayne\, IN\, 46802\, United States
ATTACH;FMTTYPE=image/jpeg:https://www.brassrailfw.com/wp-content/uploads/2025/07/2025_07_11-vert-mike-1.jpeg
GEO:41.0740622;-85.1478209
X-APPLE-STRUCTURED-LOCATION;VALUE=URI;X-ADDRESS=The Brass Rail 1121 Broadway Fort Wayne IN 46802 United States;X-APPLE-RADIUS=500;X-TITLE=1121 Broadway:geo:-85.1478209,41.0740622
END:VEVENT
BEGIN:VEVENT
DTSTART;TZID=UTC:20250712T213000
DTEND;TZID=UTC:20250712T235900
DTSTAMP:20260425T164103
CREATED:20250106T001834Z
LAST-MODIFIED:20250702T164549Z
UID:10002021-1752355800-1752364740@www.brassrailfw.com
SUMMARY:Sun.Dyle\, Man of the Flood\, Candid Antics
DESCRIPTION:Sun.Dyle\nhttps://www.instagram.com/sun.dyle/ \nMan of the Flood\nhttps://www.instagram.com/manoftheflood/ \nCandid Antics\nhttps://www.instagram.com/candidantics/ \n$8 cover\, must be 21
URL:https://www.brassrailfw.com/show/sun-dyle-man-of-the-flood-candid-antics/
LOCATION:The Brass Rail\, 1121 Broadway\, Fort Wayne\, IN\, 46802\, United States
ATTACH;FMTTYPE=image/jpeg:https://www.brassrailfw.com/wp-content/uploads/2025/01/2025_07_12-sun.dyle_.jpeg
GEO:41.0740622;-85.1478209
X-APPLE-STRUCTURED-LOCATION;VALUE=URI;X-ADDRESS=The Brass Rail 1121 Broadway Fort Wayne IN 46802 United States;X-APPLE-RADIUS=500;X-TITLE=1121 Broadway:geo:-85.1478209,41.0740622
END:VEVENT
BEGIN:VEVENT
DTSTART;TZID=UTC:20250715T210000
DTEND;TZID=UTC:20250715T235900
DTSTAMP:20260425T164103
CREATED:20250625T005212Z
LAST-MODIFIED:20250709T123527Z
UID:10002103-1752613200-1752623940@www.brassrailfw.com
SUMMARY:Los Electro\, The Declassified
DESCRIPTION:Los Electro\nhttps://www.instagram.com/loselectroband/ \nThe Declassified\nhttps://www.instagram.com/the_declassified_band/ \n$7 cover\, must be 21 \nDoors at 8pm\, music 9pm
URL:https://www.brassrailfw.com/show/los-electro-2/
LOCATION:The Brass Rail\, 1121 Broadway\, Fort Wayne\, IN\, 46802\, United States
ATTACH;FMTTYPE=image/jpeg:https://www.brassrailfw.com/wp-content/uploads/2025/06/2025_07_15-los-electro.jpg
GEO:41.0740622;-85.1478209
X-APPLE-STRUCTURED-LOCATION;VALUE=URI;X-ADDRESS=The Brass Rail 1121 Broadway Fort Wayne IN 46802 United States;X-APPLE-RADIUS=500;X-TITLE=1121 Broadway:geo:-85.1478209,41.0740622
END:VEVENT
BEGIN:VEVENT
DTSTART;TZID=UTC:20250717T213000
DTEND;TZID=UTC:20250717T235900
DTSTAMP:20260425T164103
CREATED:20250210T215505Z
LAST-MODIFIED:20250709T124400Z
UID:10002101-1752787800-1752796740@www.brassrailfw.com
SUMMARY:Uncle Muscle\, Sahara
DESCRIPTION:Uncle Muscle\nhttps://www.instagram.com/unclemuscleofficial/ \nSahara\nhttps://www.instagram.com/sahara.fw/ \n$7 cover\, must be 21\, poster by Jared Andrews
URL:https://www.brassrailfw.com/show/uncle-muscle-7/
LOCATION:IN
ATTACH;FMTTYPE=image/png:https://www.brassrailfw.com/wp-content/uploads/2025/06/2025_07_17-vert-Uncle-Muscle-scaled.png
END:VEVENT
BEGIN:VEVENT
DTSTART;TZID=UTC:20250718T210000
DTEND;TZID=UTC:20250718T235900
DTSTAMP:20260425T164103
CREATED:20250223T202527Z
LAST-MODIFIED:20250708T011746Z
UID:10002042-1752872400-1752883140@www.brassrailfw.com
SUMMARY:Courtney From Work\, Split Parasite\, Sparkle Teeth
DESCRIPTION:Courtney From Work\nhttps://www.instagram.com/courtneyfromwork/ \nSplit Parasite\nhttps://www.instagram.com/split.parasite/ \nSparkle Teeth\nhttps://www.instagram.com/sparkle_teeth_music/ \n$7 cover\, must be 21
URL:https://www.brassrailfw.com/show/courtney-from-work/
LOCATION:IN
ATTACH;FMTTYPE=image/png:https://www.brassrailfw.com/wp-content/uploads/2025/02/2025_07_18-courtney.png
END:VEVENT
BEGIN:VEVENT
DTSTART;TZID=UTC:20250719T213000
DTEND;TZID=UTC:20250719T235900
DTSTAMP:20260425T164103
CREATED:20250228T012503Z
LAST-MODIFIED:20250711T133126Z
UID:10002051-1752960600-1752969540@www.brassrailfw.com
SUMMARY:The Fighting Side\, Thumbrider\, Jonah Leatherman
DESCRIPTION:The Fighting Side\nhttps://www.instagram.com/thefightingside/\nThumbrider\nhttps://www.instagram.com/thumbriderband/\nJonah Leatherman\nhttps://www.instagram.com/jonah.leatherman/\n9pm • $7 • +21
URL:https://www.brassrailfw.com/show/the-fighting-side/
LOCATION:The Brass Rail\, 1121 Broadway\, Fort Wayne\, IN\, 46802\, United States
ATTACH;FMTTYPE=image/png:https://www.brassrailfw.com/wp-content/uploads/2025/02/2025_07_19-vert-fighter-side.png
GEO:41.0740622;-85.1478209
X-APPLE-STRUCTURED-LOCATION;VALUE=URI;X-ADDRESS=The Brass Rail 1121 Broadway Fort Wayne IN 46802 United States;X-APPLE-RADIUS=500;X-TITLE=1121 Broadway:geo:-85.1478209,41.0740622
END:VEVENT
BEGIN:VEVENT
DTSTART;TZID=UTC:20250722T210000
DTEND;TZID=UTC:20250722T235900
DTSTAMP:20260425T164103
CREATED:20250429T141157Z
LAST-MODIFIED:20250708T013525Z
UID:10002091-1753218000-1753228740@www.brassrailfw.com
SUMMARY:Zeta\, Necromoon\, Etymon
DESCRIPTION:Zeta is a Venezuelan-born\, Florida-based post-hardcore band that fuses punk\, post-rock\, and Afro-Caribbean rhythms with psychedelic elements. Founded in 2003 in Venezuela\, the band’s members (Juan Chi\, Dani Debuto\, Chino Sandoval\, and Tony Pereira) have been touring and creating music for over two decades. They are known for their DIY ethic\, community building\, and use of music as a positive force for change \nZeta\nhttps://www.instagram.com/joinzeta/ \nNecromoon\nhttps://www.instagram.com/necromoonband/ \nEtymon\nhttps://www.instagram.com/etymonsg/ \n$12 no-fee tickets on sale now.  $15 day of show
URL:https://www.brassrailfw.com/show/zeta-2/
LOCATION:The Brass Rail\, 1121 Broadway\, Fort Wayne\, IN\, 46802\, United States
ATTACH;FMTTYPE=image/png:https://www.brassrailfw.com/wp-content/uploads/2025/04/ZETA-BY-WAZZAN-BLUE-CIRCLE-2-copia-SMALL.png
GEO:41.0740622;-85.1478209
X-APPLE-STRUCTURED-LOCATION;VALUE=URI;X-ADDRESS=The Brass Rail 1121 Broadway Fort Wayne IN 46802 United States;X-APPLE-RADIUS=500;X-TITLE=1121 Broadway:geo:-85.1478209,41.0740622
END:VEVENT
BEGIN:VEVENT
DTSTART;TZID=UTC:20250725T213000
DTEND;TZID=UTC:20250725T235900
DTSTAMP:20260425T164103
CREATED:20250228T012350Z
LAST-MODIFIED:20250711T134301Z
UID:10002050-1753479000-1753487940@www.brassrailfw.com
SUMMARY:Guardrail\, The Part You Left Out\, For Darlene
DESCRIPTION:Guardrail\nhttps://www.instagram.com/guardrailsucks/ \nThe Part You Left Out\nhttps://www.instagram.com/thepartyouleftout/ \nDarlene\nhttps://www.instagram.com/for_darlene/ \n$10 cover\, must be 21 \n 
URL:https://www.brassrailfw.com/show/guardrail/
LOCATION:The Brass Rail\, 1121 Broadway\, Fort Wayne\, IN\, 46802\, United States
ATTACH;FMTTYPE=image/jpeg:https://www.brassrailfw.com/wp-content/uploads/2025/02/2025_07-_25-guardrail.jpg
GEO:41.0740622;-85.1478209
X-APPLE-STRUCTURED-LOCATION;VALUE=URI;X-ADDRESS=The Brass Rail 1121 Broadway Fort Wayne IN 46802 United States;X-APPLE-RADIUS=500;X-TITLE=1121 Broadway:geo:-85.1478209,41.0740622
END:VEVENT
BEGIN:VEVENT
DTSTART;TZID=UTC:20250726T213000
DTEND;TZID=UTC:20250726T235900
DTSTAMP:20260425T164103
CREATED:20250404T000640Z
LAST-MODIFIED:20250708T014708Z
UID:10002078-1753565400-1753574340@www.brassrailfw.com
SUMMARY:The Po' Boys\, Streetlamps for Spotlights\, Denny Denicolo
DESCRIPTION:The Po’ Boys\nhttps://www.instagram.com/the_poboys/ \nStreetlamps for Spotlights\nhttps://www.instagram.com/streetlampsforspotlights/ \nDenny Denicolo\nhttps://www.instagram.com/denny.denicolo/ \n$7 cover\, must be 21
URL:https://www.brassrailfw.com/show/the-po-boys/
LOCATION:The Brass Rail\, 1121 Broadway\, Fort Wayne\, IN\, 46802\, United States
ATTACH;FMTTYPE=image/png:https://www.brassrailfw.com/wp-content/uploads/2025/04/2025_07_26-poor-boys.png
GEO:41.0740622;-85.1478209
X-APPLE-STRUCTURED-LOCATION;VALUE=URI;X-ADDRESS=The Brass Rail 1121 Broadway Fort Wayne IN 46802 United States;X-APPLE-RADIUS=500;X-TITLE=1121 Broadway:geo:-85.1478209,41.0740622
END:VEVENT
BEGIN:VEVENT
DTSTART;TZID=UTC:20250801T213000
DTEND;TZID=UTC:20250801T235900
DTSTAMP:20260425T164103
CREATED:20250316T234616Z
LAST-MODIFIED:20250730T123030Z
UID:10002063-1754083800-1754092740@www.brassrailfw.com
SUMMARY:Atticus Sorrell with special guest Sweet Basil
DESCRIPTION:Atticus Sorrell\nSweet Basil\n$7 cover\, must be 21
URL:https://www.brassrailfw.com/show/atticus-sorrell/
LOCATION:The Brass Rail\, 1121 Broadway\, Fort Wayne\, IN\, 46802\, United States
ATTACH;FMTTYPE=image/png:https://www.brassrailfw.com/wp-content/uploads/2025/03/2025_08_01-atticus.png
GEO:41.0740622;-85.1478209
X-APPLE-STRUCTURED-LOCATION;VALUE=URI;X-ADDRESS=The Brass Rail 1121 Broadway Fort Wayne IN 46802 United States;X-APPLE-RADIUS=500;X-TITLE=1121 Broadway:geo:-85.1478209,41.0740622
END:VEVENT
BEGIN:VEVENT
DTSTART;TZID=UTC:20250802T214500
DTEND;TZID=UTC:20250802T235900
DTSTAMP:20260425T164103
CREATED:20250324T001824Z
LAST-MODIFIED:20250730T020151Z
UID:10002071-1754171100-1754179140@www.brassrailfw.com
SUMMARY:Kirsten Peckham and the Weird Little Guys\, Florets\, 955 Stars
DESCRIPTION:Kirsten Peckham And the Weird Little Guys\nhttps://www.instagram.com/kirsten_peckham_music/ \nFlorets\nhttps://www.instagram.com/florets_fw/ \n955 Stars\nhttps://www.instagram.com/955stars/ \n$7 cover\, must be 21
URL:https://www.brassrailfw.com/show/kirsten-peckham/
LOCATION:The Brass Rail\, 1121 Broadway\, Fort Wayne\, IN\, 46802\, United States
ATTACH;FMTTYPE=image/png:https://www.brassrailfw.com/wp-content/uploads/2025/03/2025_08_02-kirsten.png
GEO:41.0740622;-85.1478209
X-APPLE-STRUCTURED-LOCATION;VALUE=URI;X-ADDRESS=The Brass Rail 1121 Broadway Fort Wayne IN 46802 United States;X-APPLE-RADIUS=500;X-TITLE=1121 Broadway:geo:-85.1478209,41.0740622
END:VEVENT
BEGIN:VEVENT
DTSTART;TZID=UTC:20250808T213000
DTEND;TZID=UTC:20250808T235900
DTSTAMP:20260425T164103
CREATED:20250314T202156Z
LAST-MODIFIED:20250711T193458Z
UID:10002060-1754688600-1754697540@www.brassrailfw.com
SUMMARY:Chewy Lucas\, Mold!\, Necromoon
DESCRIPTION:Chewy Lucas\nalbum release of ‘Get Chromed’\nhttps://www.instagram.com/chewy_lucas/ \nMold!\nhttps://www.instagram.com/___mold___/ \nNecromoon\nhttps://www.instagram.com/necromoonband/ \n$8 cover\, must be 21
URL:https://www.brassrailfw.com/show/h-james-wads/
LOCATION:The Brass Rail\, 1121 Broadway\, Fort Wayne\, IN\, 46802\, United States
ATTACH;FMTTYPE=image/jpeg:https://www.brassrailfw.com/wp-content/uploads/2025/02/2025_08_08-chewy.jpg
GEO:41.0740622;-85.1478209
X-APPLE-STRUCTURED-LOCATION;VALUE=URI;X-ADDRESS=The Brass Rail 1121 Broadway Fort Wayne IN 46802 United States;X-APPLE-RADIUS=500;X-TITLE=1121 Broadway:geo:-85.1478209,41.0740622
END:VEVENT
BEGIN:VEVENT
DTSTART;TZID=UTC:20250809T213000
DTEND;TZID=UTC:20250809T235900
DTSTAMP:20260425T164103
CREATED:20250316T010802Z
LAST-MODIFIED:20250716T145428Z
UID:10002062-1754775000-1754783940@www.brassrailfw.com
SUMMARY:Sooflay\, Worm\, Meat Flowers
DESCRIPTION:Sooflay\nhttps://www.instagram.com/s00f14y/ \nWorm\nhttps://www.instagram.com/wormtheband \nThe Meat Flowers\nhttps://www.instagram.com/themeatflowers/?hl=en \n$7 cover\, must be 21
URL:https://www.brassrailfw.com/show/sooflay/
LOCATION:The Brass Rail\, 1121 Broadway\, Fort Wayne\, IN\, 46802\, United States
ATTACH;FMTTYPE=image/jpeg:https://www.brassrailfw.com/wp-content/uploads/2025/03/2025_08_09-sooflay.jpg
GEO:41.0740622;-85.1478209
X-APPLE-STRUCTURED-LOCATION;VALUE=URI;X-ADDRESS=The Brass Rail 1121 Broadway Fort Wayne IN 46802 United States;X-APPLE-RADIUS=500;X-TITLE=1121 Broadway:geo:-85.1478209,41.0740622
END:VEVENT
BEGIN:VEVENT
DTSTART;TZID=UTC:20250812T210000
DTEND;TZID=UTC:20250812T235900
DTSTAMP:20260425T164103
CREATED:20250520T160334Z
LAST-MODIFIED:20250806T180705Z
UID:10002096-1755032400-1755043140@www.brassrailfw.com
SUMMARY:Denny & The Down N'Outers\, Tiberius\, Bobcat Opossum
DESCRIPTION:$7 cover\, must be 21 \n  \nposter by Jared Andrews
URL:https://www.brassrailfw.com/show/tiberius/
LOCATION:The Brass Rail\, 1121 Broadway\, Fort Wayne\, IN\, 46802\, United States
ATTACH;FMTTYPE=image/png:https://www.brassrailfw.com/wp-content/uploads/2025/05/2025_08_12-denny.png
GEO:41.0740622;-85.1478209
X-APPLE-STRUCTURED-LOCATION;VALUE=URI;X-ADDRESS=The Brass Rail 1121 Broadway Fort Wayne IN 46802 United States;X-APPLE-RADIUS=500;X-TITLE=1121 Broadway:geo:-85.1478209,41.0740622
END:VEVENT
BEGIN:VEVENT
DTSTART;TZID=UTC:20250815T210000
DTEND;TZID=UTC:20250815T235900
DTSTAMP:20260425T164103
CREATED:20250329T193634Z
LAST-MODIFIED:20250702T163124Z
UID:10002073-1755291600-1755302340@www.brassrailfw.com
SUMMARY:Hillbilly Casino and The Whiskey Daredevils
DESCRIPTION:Hillbilly Casino returns with their friends The Whiskey Daredevils.\nMusic at 9:30 with The Whiskey Daredevils opening followed by Hillbilly Casino\n$12 no-fee tickets available now\, $15 day of show.
URL:https://www.brassrailfw.com/show/hbcwd/
LOCATION:The Brass Rail\, 1121 Broadway\, Fort Wayne\, IN\, 46802\, United States
ATTACH;FMTTYPE=image/jpeg:https://www.brassrailfw.com/wp-content/uploads/2025/03/2025_08_15-HBC-Medium.jpeg
GEO:41.0740622;-85.1478209
X-APPLE-STRUCTURED-LOCATION;VALUE=URI;X-ADDRESS=The Brass Rail 1121 Broadway Fort Wayne IN 46802 United States;X-APPLE-RADIUS=500;X-TITLE=1121 Broadway:geo:-85.1478209,41.0740622
END:VEVENT
END:VCALENDAR