BEGIN:VCALENDAR
VERSION:2.0
PRODID:-//The Brass Rail - ECPv6.15.20//NONSGML v1.0//EN
CALSCALE:GREGORIAN
METHOD:PUBLISH
X-WR-CALNAME:The Brass Rail
X-ORIGINAL-URL:https://www.brassrailfw.com
X-WR-CALDESC:Events for The Brass Rail
REFRESH-INTERVAL;VALUE=DURATION:PT1H
X-Robots-Tag:noindex
X-PUBLISHED-TTL:PT1H
BEGIN:VTIMEZONE
TZID:UTC
BEGIN:STANDARD
TZOFFSETFROM:+0000
TZOFFSETTO:+0000
TZNAME:UTC
DTSTART:20240101T000000
END:STANDARD
END:VTIMEZONE
BEGIN:VEVENT
DTSTART;TZID=UTC:20250715T210000
DTEND;TZID=UTC:20250715T235900
DTSTAMP:20260425T102304
CREATED:20250625T005212Z
LAST-MODIFIED:20250709T123527Z
UID:10002103-1752613200-1752623940@www.brassrailfw.com
SUMMARY:Los Electro\, The Declassified
DESCRIPTION:Los Electro\nhttps://www.instagram.com/loselectroband/ \nThe Declassified\nhttps://www.instagram.com/the_declassified_band/ \n$7 cover\, must be 21 \nDoors at 8pm\, music 9pm
URL:https://www.brassrailfw.com/show/los-electro-2/
LOCATION:The Brass Rail\, 1121 Broadway\, Fort Wayne\, IN\, 46802\, United States
ATTACH;FMTTYPE=image/jpeg:https://www.brassrailfw.com/wp-content/uploads/2025/06/2025_07_15-los-electro.jpg
GEO:41.0740622;-85.1478209
X-APPLE-STRUCTURED-LOCATION;VALUE=URI;X-ADDRESS=The Brass Rail 1121 Broadway Fort Wayne IN 46802 United States;X-APPLE-RADIUS=500;X-TITLE=1121 Broadway:geo:-85.1478209,41.0740622
END:VEVENT
BEGIN:VEVENT
DTSTART;TZID=UTC:20250717T213000
DTEND;TZID=UTC:20250717T235900
DTSTAMP:20260425T102304
CREATED:20250210T215505Z
LAST-MODIFIED:20250709T124400Z
UID:10002101-1752787800-1752796740@www.brassrailfw.com
SUMMARY:Uncle Muscle\, Sahara
DESCRIPTION:Uncle Muscle\nhttps://www.instagram.com/unclemuscleofficial/ \nSahara\nhttps://www.instagram.com/sahara.fw/ \n$7 cover\, must be 21\, poster by Jared Andrews
URL:https://www.brassrailfw.com/show/uncle-muscle-7/
LOCATION:IN
ATTACH;FMTTYPE=image/png:https://www.brassrailfw.com/wp-content/uploads/2025/06/2025_07_17-vert-Uncle-Muscle-scaled.png
END:VEVENT
BEGIN:VEVENT
DTSTART;TZID=UTC:20250718T210000
DTEND;TZID=UTC:20250718T235900
DTSTAMP:20260425T102304
CREATED:20250223T202527Z
LAST-MODIFIED:20250708T011746Z
UID:10002042-1752872400-1752883140@www.brassrailfw.com
SUMMARY:Courtney From Work\, Split Parasite\, Sparkle Teeth
DESCRIPTION:Courtney From Work\nhttps://www.instagram.com/courtneyfromwork/ \nSplit Parasite\nhttps://www.instagram.com/split.parasite/ \nSparkle Teeth\nhttps://www.instagram.com/sparkle_teeth_music/ \n$7 cover\, must be 21
URL:https://www.brassrailfw.com/show/courtney-from-work/
LOCATION:IN
ATTACH;FMTTYPE=image/png:https://www.brassrailfw.com/wp-content/uploads/2025/02/2025_07_18-courtney.png
END:VEVENT
BEGIN:VEVENT
DTSTART;TZID=UTC:20250719T213000
DTEND;TZID=UTC:20250719T235900
DTSTAMP:20260425T102304
CREATED:20250228T012503Z
LAST-MODIFIED:20250711T133126Z
UID:10002051-1752960600-1752969540@www.brassrailfw.com
SUMMARY:The Fighting Side\, Thumbrider\, Jonah Leatherman
DESCRIPTION:The Fighting Side\nhttps://www.instagram.com/thefightingside/\nThumbrider\nhttps://www.instagram.com/thumbriderband/\nJonah Leatherman\nhttps://www.instagram.com/jonah.leatherman/\n9pm • $7 • +21
URL:https://www.brassrailfw.com/show/the-fighting-side/
LOCATION:The Brass Rail\, 1121 Broadway\, Fort Wayne\, IN\, 46802\, United States
ATTACH;FMTTYPE=image/png:https://www.brassrailfw.com/wp-content/uploads/2025/02/2025_07_19-vert-fighter-side.png
GEO:41.0740622;-85.1478209
X-APPLE-STRUCTURED-LOCATION;VALUE=URI;X-ADDRESS=The Brass Rail 1121 Broadway Fort Wayne IN 46802 United States;X-APPLE-RADIUS=500;X-TITLE=1121 Broadway:geo:-85.1478209,41.0740622
END:VEVENT
BEGIN:VEVENT
DTSTART;TZID=UTC:20250722T210000
DTEND;TZID=UTC:20250722T235900
DTSTAMP:20260425T102304
CREATED:20250429T141157Z
LAST-MODIFIED:20250708T013525Z
UID:10002091-1753218000-1753228740@www.brassrailfw.com
SUMMARY:Zeta\, Necromoon\, Etymon
DESCRIPTION:Zeta is a Venezuelan-born\, Florida-based post-hardcore band that fuses punk\, post-rock\, and Afro-Caribbean rhythms with psychedelic elements. Founded in 2003 in Venezuela\, the band’s members (Juan Chi\, Dani Debuto\, Chino Sandoval\, and Tony Pereira) have been touring and creating music for over two decades. They are known for their DIY ethic\, community building\, and use of music as a positive force for change \nZeta\nhttps://www.instagram.com/joinzeta/ \nNecromoon\nhttps://www.instagram.com/necromoonband/ \nEtymon\nhttps://www.instagram.com/etymonsg/ \n$12 no-fee tickets on sale now.  $15 day of show
URL:https://www.brassrailfw.com/show/zeta-2/
LOCATION:The Brass Rail\, 1121 Broadway\, Fort Wayne\, IN\, 46802\, United States
ATTACH;FMTTYPE=image/png:https://www.brassrailfw.com/wp-content/uploads/2025/04/ZETA-BY-WAZZAN-BLUE-CIRCLE-2-copia-SMALL.png
GEO:41.0740622;-85.1478209
X-APPLE-STRUCTURED-LOCATION;VALUE=URI;X-ADDRESS=The Brass Rail 1121 Broadway Fort Wayne IN 46802 United States;X-APPLE-RADIUS=500;X-TITLE=1121 Broadway:geo:-85.1478209,41.0740622
END:VEVENT
BEGIN:VEVENT
DTSTART;TZID=UTC:20250725T213000
DTEND;TZID=UTC:20250725T235900
DTSTAMP:20260425T102304
CREATED:20250228T012350Z
LAST-MODIFIED:20250711T134301Z
UID:10002050-1753479000-1753487940@www.brassrailfw.com
SUMMARY:Guardrail\, The Part You Left Out\, For Darlene
DESCRIPTION:Guardrail\nhttps://www.instagram.com/guardrailsucks/ \nThe Part You Left Out\nhttps://www.instagram.com/thepartyouleftout/ \nDarlene\nhttps://www.instagram.com/for_darlene/ \n$10 cover\, must be 21 \n 
URL:https://www.brassrailfw.com/show/guardrail/
LOCATION:The Brass Rail\, 1121 Broadway\, Fort Wayne\, IN\, 46802\, United States
ATTACH;FMTTYPE=image/jpeg:https://www.brassrailfw.com/wp-content/uploads/2025/02/2025_07-_25-guardrail.jpg
GEO:41.0740622;-85.1478209
X-APPLE-STRUCTURED-LOCATION;VALUE=URI;X-ADDRESS=The Brass Rail 1121 Broadway Fort Wayne IN 46802 United States;X-APPLE-RADIUS=500;X-TITLE=1121 Broadway:geo:-85.1478209,41.0740622
END:VEVENT
BEGIN:VEVENT
DTSTART;TZID=UTC:20250726T213000
DTEND;TZID=UTC:20250726T235900
DTSTAMP:20260425T102304
CREATED:20250404T000640Z
LAST-MODIFIED:20250708T014708Z
UID:10002078-1753565400-1753574340@www.brassrailfw.com
SUMMARY:The Po' Boys\, Streetlamps for Spotlights\, Denny Denicolo
DESCRIPTION:The Po’ Boys\nhttps://www.instagram.com/the_poboys/ \nStreetlamps for Spotlights\nhttps://www.instagram.com/streetlampsforspotlights/ \nDenny Denicolo\nhttps://www.instagram.com/denny.denicolo/ \n$7 cover\, must be 21
URL:https://www.brassrailfw.com/show/the-po-boys/
LOCATION:The Brass Rail\, 1121 Broadway\, Fort Wayne\, IN\, 46802\, United States
ATTACH;FMTTYPE=image/png:https://www.brassrailfw.com/wp-content/uploads/2025/04/2025_07_26-poor-boys.png
GEO:41.0740622;-85.1478209
X-APPLE-STRUCTURED-LOCATION;VALUE=URI;X-ADDRESS=The Brass Rail 1121 Broadway Fort Wayne IN 46802 United States;X-APPLE-RADIUS=500;X-TITLE=1121 Broadway:geo:-85.1478209,41.0740622
END:VEVENT
BEGIN:VEVENT
DTSTART;TZID=UTC:20250801T213000
DTEND;TZID=UTC:20250801T235900
DTSTAMP:20260425T102304
CREATED:20250316T234616Z
LAST-MODIFIED:20250730T123030Z
UID:10002063-1754083800-1754092740@www.brassrailfw.com
SUMMARY:Atticus Sorrell with special guest Sweet Basil
DESCRIPTION:Atticus Sorrell\nSweet Basil\n$7 cover\, must be 21
URL:https://www.brassrailfw.com/show/atticus-sorrell/
LOCATION:The Brass Rail\, 1121 Broadway\, Fort Wayne\, IN\, 46802\, United States
ATTACH;FMTTYPE=image/png:https://www.brassrailfw.com/wp-content/uploads/2025/03/2025_08_01-atticus.png
GEO:41.0740622;-85.1478209
X-APPLE-STRUCTURED-LOCATION;VALUE=URI;X-ADDRESS=The Brass Rail 1121 Broadway Fort Wayne IN 46802 United States;X-APPLE-RADIUS=500;X-TITLE=1121 Broadway:geo:-85.1478209,41.0740622
END:VEVENT
BEGIN:VEVENT
DTSTART;TZID=UTC:20250802T214500
DTEND;TZID=UTC:20250802T235900
DTSTAMP:20260425T102304
CREATED:20250324T001824Z
LAST-MODIFIED:20250730T020151Z
UID:10002071-1754171100-1754179140@www.brassrailfw.com
SUMMARY:Kirsten Peckham and the Weird Little Guys\, Florets\, 955 Stars
DESCRIPTION:Kirsten Peckham And the Weird Little Guys\nhttps://www.instagram.com/kirsten_peckham_music/ \nFlorets\nhttps://www.instagram.com/florets_fw/ \n955 Stars\nhttps://www.instagram.com/955stars/ \n$7 cover\, must be 21
URL:https://www.brassrailfw.com/show/kirsten-peckham/
LOCATION:The Brass Rail\, 1121 Broadway\, Fort Wayne\, IN\, 46802\, United States
ATTACH;FMTTYPE=image/png:https://www.brassrailfw.com/wp-content/uploads/2025/03/2025_08_02-kirsten.png
GEO:41.0740622;-85.1478209
X-APPLE-STRUCTURED-LOCATION;VALUE=URI;X-ADDRESS=The Brass Rail 1121 Broadway Fort Wayne IN 46802 United States;X-APPLE-RADIUS=500;X-TITLE=1121 Broadway:geo:-85.1478209,41.0740622
END:VEVENT
BEGIN:VEVENT
DTSTART;TZID=UTC:20250808T213000
DTEND;TZID=UTC:20250808T235900
DTSTAMP:20260425T102304
CREATED:20250314T202156Z
LAST-MODIFIED:20250711T193458Z
UID:10002060-1754688600-1754697540@www.brassrailfw.com
SUMMARY:Chewy Lucas\, Mold!\, Necromoon
DESCRIPTION:Chewy Lucas\nalbum release of ‘Get Chromed’\nhttps://www.instagram.com/chewy_lucas/ \nMold!\nhttps://www.instagram.com/___mold___/ \nNecromoon\nhttps://www.instagram.com/necromoonband/ \n$8 cover\, must be 21
URL:https://www.brassrailfw.com/show/h-james-wads/
LOCATION:The Brass Rail\, 1121 Broadway\, Fort Wayne\, IN\, 46802\, United States
ATTACH;FMTTYPE=image/jpeg:https://www.brassrailfw.com/wp-content/uploads/2025/02/2025_08_08-chewy.jpg
GEO:41.0740622;-85.1478209
X-APPLE-STRUCTURED-LOCATION;VALUE=URI;X-ADDRESS=The Brass Rail 1121 Broadway Fort Wayne IN 46802 United States;X-APPLE-RADIUS=500;X-TITLE=1121 Broadway:geo:-85.1478209,41.0740622
END:VEVENT
BEGIN:VEVENT
DTSTART;TZID=UTC:20250809T213000
DTEND;TZID=UTC:20250809T235900
DTSTAMP:20260425T102304
CREATED:20250316T010802Z
LAST-MODIFIED:20250716T145428Z
UID:10002062-1754775000-1754783940@www.brassrailfw.com
SUMMARY:Sooflay\, Worm\, Meat Flowers
DESCRIPTION:Sooflay\nhttps://www.instagram.com/s00f14y/ \nWorm\nhttps://www.instagram.com/wormtheband \nThe Meat Flowers\nhttps://www.instagram.com/themeatflowers/?hl=en \n$7 cover\, must be 21
URL:https://www.brassrailfw.com/show/sooflay/
LOCATION:The Brass Rail\, 1121 Broadway\, Fort Wayne\, IN\, 46802\, United States
ATTACH;FMTTYPE=image/jpeg:https://www.brassrailfw.com/wp-content/uploads/2025/03/2025_08_09-sooflay.jpg
GEO:41.0740622;-85.1478209
X-APPLE-STRUCTURED-LOCATION;VALUE=URI;X-ADDRESS=The Brass Rail 1121 Broadway Fort Wayne IN 46802 United States;X-APPLE-RADIUS=500;X-TITLE=1121 Broadway:geo:-85.1478209,41.0740622
END:VEVENT
BEGIN:VEVENT
DTSTART;TZID=UTC:20250812T210000
DTEND;TZID=UTC:20250812T235900
DTSTAMP:20260425T102304
CREATED:20250520T160334Z
LAST-MODIFIED:20250806T180705Z
UID:10002096-1755032400-1755043140@www.brassrailfw.com
SUMMARY:Denny & The Down N'Outers\, Tiberius\, Bobcat Opossum
DESCRIPTION:$7 cover\, must be 21 \n  \nposter by Jared Andrews
URL:https://www.brassrailfw.com/show/tiberius/
LOCATION:The Brass Rail\, 1121 Broadway\, Fort Wayne\, IN\, 46802\, United States
ATTACH;FMTTYPE=image/png:https://www.brassrailfw.com/wp-content/uploads/2025/05/2025_08_12-denny.png
GEO:41.0740622;-85.1478209
X-APPLE-STRUCTURED-LOCATION;VALUE=URI;X-ADDRESS=The Brass Rail 1121 Broadway Fort Wayne IN 46802 United States;X-APPLE-RADIUS=500;X-TITLE=1121 Broadway:geo:-85.1478209,41.0740622
END:VEVENT
BEGIN:VEVENT
DTSTART;TZID=UTC:20250815T210000
DTEND;TZID=UTC:20250815T235900
DTSTAMP:20260425T102304
CREATED:20250329T193634Z
LAST-MODIFIED:20250702T163124Z
UID:10002073-1755291600-1755302340@www.brassrailfw.com
SUMMARY:Hillbilly Casino and The Whiskey Daredevils
DESCRIPTION:Hillbilly Casino returns with their friends The Whiskey Daredevils.\nMusic at 9:30 with The Whiskey Daredevils opening followed by Hillbilly Casino\n$12 no-fee tickets available now\, $15 day of show.
URL:https://www.brassrailfw.com/show/hbcwd/
LOCATION:The Brass Rail\, 1121 Broadway\, Fort Wayne\, IN\, 46802\, United States
ATTACH;FMTTYPE=image/jpeg:https://www.brassrailfw.com/wp-content/uploads/2025/03/2025_08_15-HBC-Medium.jpeg
GEO:41.0740622;-85.1478209
X-APPLE-STRUCTURED-LOCATION;VALUE=URI;X-ADDRESS=The Brass Rail 1121 Broadway Fort Wayne IN 46802 United States;X-APPLE-RADIUS=500;X-TITLE=1121 Broadway:geo:-85.1478209,41.0740622
END:VEVENT
BEGIN:VEVENT
DTSTART;TZID=UTC:20250816T214500
DTEND;TZID=UTC:20250816T235900
DTSTAMP:20260425T102304
CREATED:20250708T015106Z
LAST-MODIFIED:20250813T213654Z
UID:10002112-1755380700-1755388740@www.brassrailfw.com
SUMMARY:Sunshine Production Factory\, Mudland and Sahara
DESCRIPTION:$7 cover\, must be 21
URL:https://www.brassrailfw.com/show/sahara-mudland-and-sunshine-production-factory/
LOCATION:The Brass Rail\, 1121 Broadway\, Fort Wayne\, IN\, 46802\, United States
ATTACH;FMTTYPE=image/jpeg:https://www.brassrailfw.com/wp-content/uploads/2025/07/sahara.jpg
GEO:41.0740622;-85.1478209
X-APPLE-STRUCTURED-LOCATION;VALUE=URI;X-ADDRESS=The Brass Rail 1121 Broadway Fort Wayne IN 46802 United States;X-APPLE-RADIUS=500;X-TITLE=1121 Broadway:geo:-85.1478209,41.0740622
END:VEVENT
BEGIN:VEVENT
DTSTART;TZID=UTC:20250822T213000
DTEND;TZID=UTC:20250822T235900
DTSTAMP:20260425T102304
CREATED:20250414T194929Z
LAST-MODIFIED:20250819T003745Z
UID:10002086-1755898200-1755907140@www.brassrailfw.com
SUMMARY:Concrete Children: Hosted by OG with Shottie\, Mangled Faces\, Chemdogg\, Cordo\, J Tubbs\, Sankofa
DESCRIPTION:
URL:https://www.brassrailfw.com/show/j-tubbs-7/
LOCATION:The Brass Rail\, 1121 Broadway\, Fort Wayne\, IN\, 46802\, United States
ATTACH;FMTTYPE=image/jpeg:https://www.brassrailfw.com/wp-content/uploads/2025/04/2025-08-22-tubbs.jpg
GEO:41.0740622;-85.1478209
X-APPLE-STRUCTURED-LOCATION;VALUE=URI;X-ADDRESS=The Brass Rail 1121 Broadway Fort Wayne IN 46802 United States;X-APPLE-RADIUS=500;X-TITLE=1121 Broadway:geo:-85.1478209,41.0740622
END:VEVENT
BEGIN:VEVENT
DTSTART;TZID=UTC:20250823T214500
DTEND;TZID=UTC:20250823T235900
DTSTAMP:20260425T102304
CREATED:20250324T001440Z
LAST-MODIFIED:20250813T214846Z
UID:10002069-1755985500-1755993540@www.brassrailfw.com
SUMMARY:GOTH NIGHT:  Carrellee\, Cloud Maker\, See Ray Hardly
DESCRIPTION:We’re so excited to announce the next Goth Night\, August 23rd feat. @carrelleefree We’ll be opening and DJ @seerayhardly will be closing out the night. 10 PM at the @brassrailfw $10 cover. Dance away the pain. Find nothing. Be no one.
URL:https://www.brassrailfw.com/show/cloud-maker-carrellee/
LOCATION:The Brass Rail\, 1121 Broadway\, Fort Wayne\, IN\, 46802\, United States
ATTACH;FMTTYPE=image/jpeg:https://www.brassrailfw.com/wp-content/uploads/2025/03/2025_08_23-goth-night.jpg
GEO:41.0740622;-85.1478209
X-APPLE-STRUCTURED-LOCATION;VALUE=URI;X-ADDRESS=The Brass Rail 1121 Broadway Fort Wayne IN 46802 United States;X-APPLE-RADIUS=500;X-TITLE=1121 Broadway:geo:-85.1478209,41.0740622
END:VEVENT
BEGIN:VEVENT
DTSTART;TZID=UTC:20250824T200000
DTEND;TZID=UTC:20250824T235900
DTSTAMP:20260425T102304
CREATED:20250316T010632Z
LAST-MODIFIED:20250706T141824Z
UID:10002061-1756065600-1756079940@www.brassrailfw.com
SUMMARY:The Tillers (Cincinnati string band)\, Bobcat Opossum
DESCRIPTION:The Tiillers (cincinnatti string-band since 2007)\nhttps://www.instagram.com/the_tillers/ \nBobcat Opossum\nhttps://www.instagram.com/bobcat.opossum/ \n$10 no-fee tickets on sale now \ndoors at 8pm/music starts at 9PM
URL:https://www.brassrailfw.com/show/thetillers/
LOCATION:The Brass Rail\, 1121 Broadway\, Fort Wayne\, IN\, 46802\, United States
ATTACH;FMTTYPE=image/png:https://www.brassrailfw.com/wp-content/uploads/2025/03/2025_08_24-tillers.png
GEO:41.0740622;-85.1478209
X-APPLE-STRUCTURED-LOCATION;VALUE=URI;X-ADDRESS=The Brass Rail 1121 Broadway Fort Wayne IN 46802 United States;X-APPLE-RADIUS=500;X-TITLE=1121 Broadway:geo:-85.1478209,41.0740622
END:VEVENT
BEGIN:VEVENT
DTSTART;TZID=UTC:20250829T213000
DTEND;TZID=UTC:20250829T235900
DTSTAMP:20260425T102304
CREATED:20250804T171033Z
LAST-MODIFIED:20250813T212215Z
UID:10002118-1756503000-1756511940@www.brassrailfw.com
SUMMARY:Chilli Hendrix\, Adam Raque\, Second Hand Embarrassment
DESCRIPTION:$9 cover\, must be 21\, poster by Jared Andrews
URL:https://www.brassrailfw.com/show/chilli-hendrix-3/
LOCATION:The Brass Rail\, 1121 Broadway\, Fort Wayne\, IN\, 46802\, United States
ATTACH;FMTTYPE=image/jpeg:https://www.brassrailfw.com/wp-content/uploads/2025/08/2025_08_29-chili.jpg
GEO:41.0740622;-85.1478209
X-APPLE-STRUCTURED-LOCATION;VALUE=URI;X-ADDRESS=The Brass Rail 1121 Broadway Fort Wayne IN 46802 United States;X-APPLE-RADIUS=500;X-TITLE=1121 Broadway:geo:-85.1478209,41.0740622
END:VEVENT
BEGIN:VEVENT
DTSTART;TZID=UTC:20250830T213000
DTEND;TZID=UTC:20250830T235900
DTSTAMP:20260425T102304
CREATED:20250807T130817Z
LAST-MODIFIED:20250826T170200Z
UID:10002120-1756589400-1756598340@www.brassrailfw.com
SUMMARY:FREE NIGHT - NO COVER
DESCRIPTION:
URL:https://www.brassrailfw.com/show/h-jess-17/
LOCATION:The Brass Rail\, 1121 Broadway\, Fort Wayne\, IN\, 46802\, United States
GEO:41.0740622;-85.1478209
X-APPLE-STRUCTURED-LOCATION;VALUE=URI;X-ADDRESS=The Brass Rail 1121 Broadway Fort Wayne IN 46802 United States;X-APPLE-RADIUS=500;X-TITLE=1121 Broadway:geo:-85.1478209,41.0740622
END:VEVENT
BEGIN:VEVENT
DTSTART;TZID=UTC:20250901T080000
DTEND;TZID=UTC:20250901T235900
DTSTAMP:20260425T102304
CREATED:20250828T131143Z
LAST-MODIFIED:20250828T173735Z
UID:10002126-1756713600-1756771140@www.brassrailfw.com
SUMMARY:Closed For The Holiday
DESCRIPTION:
URL:https://www.brassrailfw.com/show/closed-for-the-holiday/
LOCATION:The Brass Rail\, 1121 Broadway\, Fort Wayne\, IN\, 46802\, United States
GEO:41.0740622;-85.1478209
X-APPLE-STRUCTURED-LOCATION;VALUE=URI;X-ADDRESS=The Brass Rail 1121 Broadway Fort Wayne IN 46802 United States;X-APPLE-RADIUS=500;X-TITLE=1121 Broadway:geo:-85.1478209,41.0740622
END:VEVENT
BEGIN:VEVENT
DTSTART;TZID=UTC:20250905T214500
DTEND;TZID=UTC:20250905T234500
DTSTAMP:20260425T102304
CREATED:20250319T133205Z
LAST-MODIFIED:20250625T201219Z
UID:10002067-1757108700-1757115900@www.brassrailfw.com
SUMMARY:Me Like Bees\, Carver Commodore\, Joyhouse
DESCRIPTION:Me Like Bees\nhttps://www.instagram.com/melikebees/\n \nCarver Commodore\nhttps://www.instagram.com/carvercommodore/ \nJoyhouse\nhttps://www.instagram.com/joyhouseband/ \n$8 no-fee tickets on sale now.
URL:https://www.brassrailfw.com/show/melikebees-2/
LOCATION:The Brass Rail\, 1121 Broadway\, Fort Wayne\, IN\, 46802\, United States
ATTACH;FMTTYPE=image/jpeg:https://www.brassrailfw.com/wp-content/uploads/2025/03/2025_09_05-me-like-bees.jpg
GEO:41.0740622;-85.1478209
X-APPLE-STRUCTURED-LOCATION;VALUE=URI;X-ADDRESS=The Brass Rail 1121 Broadway Fort Wayne IN 46802 United States;X-APPLE-RADIUS=500;X-TITLE=1121 Broadway:geo:-85.1478209,41.0740622
END:VEVENT
BEGIN:VEVENT
DTSTART;TZID=UTC:20250906T213000
DTEND;TZID=UTC:20250906T235900
DTSTAMP:20260425T102304
CREATED:20250511T230510Z
LAST-MODIFIED:20250901T231850Z
UID:10002095-1757194200-1757203140@www.brassrailfw.com
SUMMARY:Sankofa\, Chrisrebellion\, Leemr
DESCRIPTION:$8 cover\, must be 21
URL:https://www.brassrailfw.com/show/sankofa-7/
LOCATION:The Brass Rail\, 1121 Broadway\, Fort Wayne\, IN\, 46802\, United States
ATTACH;FMTTYPE=image/png:https://www.brassrailfw.com/wp-content/uploads/2025/07/2025_09_06-sankofa.png
GEO:41.0740622;-85.1478209
X-APPLE-STRUCTURED-LOCATION;VALUE=URI;X-ADDRESS=The Brass Rail 1121 Broadway Fort Wayne IN 46802 United States;X-APPLE-RADIUS=500;X-TITLE=1121 Broadway:geo:-85.1478209,41.0740622
END:VEVENT
BEGIN:VEVENT
DTSTART;TZID=UTC:20250910T203000
DTEND;TZID=UTC:20250910T235900
DTSTAMP:20260425T102304
CREATED:20250303T235806Z
LAST-MODIFIED:20250716T143853Z
UID:10002057-1757536200-1757548740@www.brassrailfw.com
SUMMARY:Tropa Magica with Los Electro
DESCRIPTION:$12 no-fee tickets on sale now.  $15 day of show \nTropa Magica was formed by brothers David and Rene\nPacheco in 2018. Inspired by the songs and vibes of\ntheir 90’s East LA backyard parties. The band blends\nin the guitar and rhythms of 60’s Peruvian Cumbias and\n90’s grunge with a southern psychedelic twist that\ntransports the listener into a tropical psychedelic\ndance party.\nhttps://www.instagram.com/tropamagica/ \nwith Los Electro\nhttps://www.instagram.com/loselectroband/
URL:https://www.brassrailfw.com/show/h-copa-cabana-atsu/
LOCATION:The Brass Rail\, 1121 Broadway\, Fort Wayne\, IN\, 46802\, United States
ATTACH;FMTTYPE=image/jpeg:https://www.brassrailfw.com/wp-content/uploads/2025/03/MatthewNovak_photo1-scaled.jpg
GEO:41.0740622;-85.1478209
X-APPLE-STRUCTURED-LOCATION;VALUE=URI;X-ADDRESS=The Brass Rail 1121 Broadway Fort Wayne IN 46802 United States;X-APPLE-RADIUS=500;X-TITLE=1121 Broadway:geo:-85.1478209,41.0740622
END:VEVENT
BEGIN:VEVENT
DTSTART;TZID=UTC:20250912T210000
DTEND;TZID=UTC:20250912T235900
DTSTAMP:20260425T102304
CREATED:20250720T215709Z
LAST-MODIFIED:20250901T233508Z
UID:10002116-1757710800-1757721540@www.brassrailfw.com
SUMMARY:John & Ben Carraoke
DESCRIPTION:
URL:https://www.brassrailfw.com/show/h-anna/
LOCATION:The Brass Rail\, 1121 Broadway\, Fort Wayne\, IN\, 46802\, United States
GEO:41.0740622;-85.1478209
X-APPLE-STRUCTURED-LOCATION;VALUE=URI;X-ADDRESS=The Brass Rail 1121 Broadway Fort Wayne IN 46802 United States;X-APPLE-RADIUS=500;X-TITLE=1121 Broadway:geo:-85.1478209,41.0740622
END:VEVENT
BEGIN:VEVENT
DTSTART;TZID=UTC:20250913T213000
DTEND;TZID=UTC:20250913T235900
DTSTAMP:20260425T102304
CREATED:20250826T170244Z
LAST-MODIFIED:20250901T233422Z
UID:10002124-1757799000-1757807940@www.brassrailfw.com
SUMMARY:thinning\, fresh tar\, lunch club
DESCRIPTION:
URL:https://www.brassrailfw.com/show/free-night-no-cover/
LOCATION:The Brass Rail\, 1121 Broadway\, Fort Wayne\, IN\, 46802\, United States
ATTACH;FMTTYPE=image/jpeg:https://www.brassrailfw.com/wp-content/uploads/2025/08/2025_09_13-thinning.jpeg
GEO:41.0740622;-85.1478209
X-APPLE-STRUCTURED-LOCATION;VALUE=URI;X-ADDRESS=The Brass Rail 1121 Broadway Fort Wayne IN 46802 United States;X-APPLE-RADIUS=500;X-TITLE=1121 Broadway:geo:-85.1478209,41.0740622
END:VEVENT
BEGIN:VEVENT
DTSTART;TZID=UTC:20250917T200000
DTEND;TZID=UTC:20250917T235900
DTSTAMP:20260425T102304
CREATED:20250502T170020Z
LAST-MODIFIED:20250901T233623Z
UID:10002093-1758139200-1758153540@www.brassrailfw.com
SUMMARY:Jack McKelvie\, Sundog Sarah\, Quiet/Creator
DESCRIPTION:$7 cover\, poster by Jared Andrews
URL:https://www.brassrailfw.com/show/h-sam/
LOCATION:The Brass Rail\, 1121 Broadway\, Fort Wayne\, IN\, 46802\, United States
GEO:41.0740622;-85.1478209
X-APPLE-STRUCTURED-LOCATION;VALUE=URI;X-ADDRESS=The Brass Rail 1121 Broadway Fort Wayne IN 46802 United States;X-APPLE-RADIUS=500;X-TITLE=1121 Broadway:geo:-85.1478209,41.0740622
END:VEVENT
BEGIN:VEVENT
DTSTART;TZID=UTC:20250919T214500
DTEND;TZID=UTC:20250919T235900
DTSTAMP:20260425T102304
CREATED:20250602T152842Z
LAST-MODIFIED:20250902T010403Z
UID:10002099-1758318300-1758326340@www.brassrailfw.com
SUMMARY:Emily How\, Namby Pamby\, Necromoon
DESCRIPTION:$7 cover\, must be 21
URL:https://www.brassrailfw.com/show/namby-pamby-4/
LOCATION:The Brass Rail\, 1121 Broadway\, Fort Wayne\, IN\, 46802\, United States
ATTACH;FMTTYPE=image/jpeg:https://www.brassrailfw.com/wp-content/uploads/2025/06/2025_09_19-namby.jpg
GEO:41.0740622;-85.1478209
X-APPLE-STRUCTURED-LOCATION;VALUE=URI;X-ADDRESS=The Brass Rail 1121 Broadway Fort Wayne IN 46802 United States;X-APPLE-RADIUS=500;X-TITLE=1121 Broadway:geo:-85.1478209,41.0740622
END:VEVENT
BEGIN:VEVENT
DTSTART;TZID=UTC:20250920T213000
DTEND;TZID=UTC:20250920T213000
DTSTAMP:20260425T102304
CREATED:20250404T000428Z
LAST-MODIFIED:20250902T011823Z
UID:10002076-1758403800-1758403800@www.brassrailfw.com
SUMMARY:Smug Brothers\, Thunderhawk\, Kevin Hambrick
DESCRIPTION:Smug Brothershttps://linktr.ee/Smugbrothers\nThunderhawk\nand\nKevin Hambrick
URL:https://www.brassrailfw.com/show/smug-brothers-the-orange-opera-2/
LOCATION:The Brass Rail\, 1121 Broadway\, Fort Wayne\, IN\, 46802\, United States
ATTACH;FMTTYPE=image/jpeg:https://www.brassrailfw.com/wp-content/uploads/2025/04/2025_09_20-smug-brothers.jpg
GEO:41.0740622;-85.1478209
X-APPLE-STRUCTURED-LOCATION;VALUE=URI;X-ADDRESS=The Brass Rail 1121 Broadway Fort Wayne IN 46802 United States;X-APPLE-RADIUS=500;X-TITLE=1121 Broadway:geo:-85.1478209,41.0740622
END:VEVENT
BEGIN:VEVENT
DTSTART;TZID=UTC:20250925T210000
DTEND;TZID=UTC:20250925T235900
DTSTAMP:20260425T102304
CREATED:20250524T152433Z
LAST-MODIFIED:20250919T161927Z
UID:10002097-1758834000-1758844740@www.brassrailfw.com
SUMMARY:Caley Conway\, Loveseat\, Sundog Sarah
DESCRIPTION:Caley Conway\nhttps://www.instagram.com/caleyconwaymusic/ \nLoveseat\nhttps://www.instagram.com/lovethatseat/ \nSundog Sarah\nhttps://www.instagram.com/sundogsarah/ \n$8 cover\, must be 21
URL:https://www.brassrailfw.com/show/caley-conway/
LOCATION:The Brass Rail\, 1121 Broadway\, Fort Wayne\, IN\, 46802\, United States
ATTACH;FMTTYPE=image/jpeg:https://www.brassrailfw.com/wp-content/uploads/2025/05/2025_09_25-caley.jpg
GEO:41.0740622;-85.1478209
X-APPLE-STRUCTURED-LOCATION;VALUE=URI;X-ADDRESS=The Brass Rail 1121 Broadway Fort Wayne IN 46802 United States;X-APPLE-RADIUS=500;X-TITLE=1121 Broadway:geo:-85.1478209,41.0740622
END:VEVENT
BEGIN:VEVENT
DTSTART;TZID=UTC:20250926T214500
DTEND;TZID=UTC:20250926T235900
DTSTAMP:20260425T102304
CREATED:20250414T201404Z
LAST-MODIFIED:20250919T153556Z
UID:10002087-1758923100-1758931140@www.brassrailfw.com
SUMMARY:Meat Flowers\, Sooflay\, Bad Crime
DESCRIPTION:Meat Flowers\nhttps://www.instagram.com/themeatflowers/ \nSooflay\nhttps://www.instagram.com/s00f14y/ \nBad Crime\nhttps://www.instagram.com/badcrime.rnr/\nSplit w/ Heavy Lag | Bad Crime \n$7 cover\, must be 21
URL:https://www.brassrailfw.com/show/h-sam-clay-4/
LOCATION:The Brass Rail\, 1121 Broadway\, Fort Wayne\, IN\, 46802\, United States
ATTACH;FMTTYPE=image/jpeg:https://www.brassrailfw.com/wp-content/uploads/2025/04/2025_09_26-Meat-Flowers.jpg
GEO:41.0740622;-85.1478209
X-APPLE-STRUCTURED-LOCATION;VALUE=URI;X-ADDRESS=The Brass Rail 1121 Broadway Fort Wayne IN 46802 United States;X-APPLE-RADIUS=500;X-TITLE=1121 Broadway:geo:-85.1478209,41.0740622
END:VEVENT
END:VCALENDAR