BEGIN:VCALENDAR
VERSION:2.0
PRODID:-//The Brass Rail - ECPv6.15.20//NONSGML v1.0//EN
CALSCALE:GREGORIAN
METHOD:PUBLISH
X-WR-CALNAME:The Brass Rail
X-ORIGINAL-URL:https://www.brassrailfw.com
X-WR-CALDESC:Events for The Brass Rail
REFRESH-INTERVAL;VALUE=DURATION:PT1H
X-Robots-Tag:noindex
X-PUBLISHED-TTL:PT1H
BEGIN:VTIMEZONE
TZID:UTC
BEGIN:STANDARD
TZOFFSETFROM:+0000
TZOFFSETTO:+0000
TZNAME:UTC
DTSTART:20240101T000000
END:STANDARD
END:VTIMEZONE
BEGIN:VEVENT
DTSTART;TZID=UTC:20250830T213000
DTEND;TZID=UTC:20250830T235900
DTSTAMP:20260425T151140
CREATED:20250807T130817Z
LAST-MODIFIED:20250826T170200Z
UID:10002120-1756589400-1756598340@www.brassrailfw.com
SUMMARY:FREE NIGHT - NO COVER
DESCRIPTION:
URL:https://www.brassrailfw.com/show/h-jess-17/
LOCATION:The Brass Rail\, 1121 Broadway\, Fort Wayne\, IN\, 46802\, United States
GEO:41.0740622;-85.1478209
X-APPLE-STRUCTURED-LOCATION;VALUE=URI;X-ADDRESS=The Brass Rail 1121 Broadway Fort Wayne IN 46802 United States;X-APPLE-RADIUS=500;X-TITLE=1121 Broadway:geo:-85.1478209,41.0740622
END:VEVENT
BEGIN:VEVENT
DTSTART;TZID=UTC:20250901T080000
DTEND;TZID=UTC:20250901T235900
DTSTAMP:20260425T151140
CREATED:20250828T131143Z
LAST-MODIFIED:20250828T173735Z
UID:10002126-1756713600-1756771140@www.brassrailfw.com
SUMMARY:Closed For The Holiday
DESCRIPTION:
URL:https://www.brassrailfw.com/show/closed-for-the-holiday/
LOCATION:The Brass Rail\, 1121 Broadway\, Fort Wayne\, IN\, 46802\, United States
GEO:41.0740622;-85.1478209
X-APPLE-STRUCTURED-LOCATION;VALUE=URI;X-ADDRESS=The Brass Rail 1121 Broadway Fort Wayne IN 46802 United States;X-APPLE-RADIUS=500;X-TITLE=1121 Broadway:geo:-85.1478209,41.0740622
END:VEVENT
BEGIN:VEVENT
DTSTART;TZID=UTC:20250905T214500
DTEND;TZID=UTC:20250905T234500
DTSTAMP:20260425T151140
CREATED:20250319T133205Z
LAST-MODIFIED:20250625T201219Z
UID:10002067-1757108700-1757115900@www.brassrailfw.com
SUMMARY:Me Like Bees\, Carver Commodore\, Joyhouse
DESCRIPTION:Me Like Bees\nhttps://www.instagram.com/melikebees/\n \nCarver Commodore\nhttps://www.instagram.com/carvercommodore/ \nJoyhouse\nhttps://www.instagram.com/joyhouseband/ \n$8 no-fee tickets on sale now.
URL:https://www.brassrailfw.com/show/melikebees-2/
LOCATION:The Brass Rail\, 1121 Broadway\, Fort Wayne\, IN\, 46802\, United States
ATTACH;FMTTYPE=image/jpeg:https://www.brassrailfw.com/wp-content/uploads/2025/03/2025_09_05-me-like-bees.jpg
GEO:41.0740622;-85.1478209
X-APPLE-STRUCTURED-LOCATION;VALUE=URI;X-ADDRESS=The Brass Rail 1121 Broadway Fort Wayne IN 46802 United States;X-APPLE-RADIUS=500;X-TITLE=1121 Broadway:geo:-85.1478209,41.0740622
END:VEVENT
BEGIN:VEVENT
DTSTART;TZID=UTC:20250906T213000
DTEND;TZID=UTC:20250906T235900
DTSTAMP:20260425T151140
CREATED:20250511T230510Z
LAST-MODIFIED:20250901T231850Z
UID:10002095-1757194200-1757203140@www.brassrailfw.com
SUMMARY:Sankofa\, Chrisrebellion\, Leemr
DESCRIPTION:$8 cover\, must be 21
URL:https://www.brassrailfw.com/show/sankofa-7/
LOCATION:The Brass Rail\, 1121 Broadway\, Fort Wayne\, IN\, 46802\, United States
ATTACH;FMTTYPE=image/png:https://www.brassrailfw.com/wp-content/uploads/2025/07/2025_09_06-sankofa.png
GEO:41.0740622;-85.1478209
X-APPLE-STRUCTURED-LOCATION;VALUE=URI;X-ADDRESS=The Brass Rail 1121 Broadway Fort Wayne IN 46802 United States;X-APPLE-RADIUS=500;X-TITLE=1121 Broadway:geo:-85.1478209,41.0740622
END:VEVENT
BEGIN:VEVENT
DTSTART;TZID=UTC:20250910T203000
DTEND;TZID=UTC:20250910T235900
DTSTAMP:20260425T151140
CREATED:20250303T235806Z
LAST-MODIFIED:20250716T143853Z
UID:10002057-1757536200-1757548740@www.brassrailfw.com
SUMMARY:Tropa Magica with Los Electro
DESCRIPTION:$12 no-fee tickets on sale now.  $15 day of show \nTropa Magica was formed by brothers David and Rene\nPacheco in 2018. Inspired by the songs and vibes of\ntheir 90’s East LA backyard parties. The band blends\nin the guitar and rhythms of 60’s Peruvian Cumbias and\n90’s grunge with a southern psychedelic twist that\ntransports the listener into a tropical psychedelic\ndance party.\nhttps://www.instagram.com/tropamagica/ \nwith Los Electro\nhttps://www.instagram.com/loselectroband/
URL:https://www.brassrailfw.com/show/h-copa-cabana-atsu/
LOCATION:The Brass Rail\, 1121 Broadway\, Fort Wayne\, IN\, 46802\, United States
ATTACH;FMTTYPE=image/jpeg:https://www.brassrailfw.com/wp-content/uploads/2025/03/MatthewNovak_photo1-scaled.jpg
GEO:41.0740622;-85.1478209
X-APPLE-STRUCTURED-LOCATION;VALUE=URI;X-ADDRESS=The Brass Rail 1121 Broadway Fort Wayne IN 46802 United States;X-APPLE-RADIUS=500;X-TITLE=1121 Broadway:geo:-85.1478209,41.0740622
END:VEVENT
BEGIN:VEVENT
DTSTART;TZID=UTC:20250912T210000
DTEND;TZID=UTC:20250912T235900
DTSTAMP:20260425T151140
CREATED:20250720T215709Z
LAST-MODIFIED:20250901T233508Z
UID:10002116-1757710800-1757721540@www.brassrailfw.com
SUMMARY:John & Ben Carraoke
DESCRIPTION:
URL:https://www.brassrailfw.com/show/h-anna/
LOCATION:The Brass Rail\, 1121 Broadway\, Fort Wayne\, IN\, 46802\, United States
GEO:41.0740622;-85.1478209
X-APPLE-STRUCTURED-LOCATION;VALUE=URI;X-ADDRESS=The Brass Rail 1121 Broadway Fort Wayne IN 46802 United States;X-APPLE-RADIUS=500;X-TITLE=1121 Broadway:geo:-85.1478209,41.0740622
END:VEVENT
BEGIN:VEVENT
DTSTART;TZID=UTC:20250913T213000
DTEND;TZID=UTC:20250913T235900
DTSTAMP:20260425T151140
CREATED:20250826T170244Z
LAST-MODIFIED:20250901T233422Z
UID:10002124-1757799000-1757807940@www.brassrailfw.com
SUMMARY:thinning\, fresh tar\, lunch club
DESCRIPTION:
URL:https://www.brassrailfw.com/show/free-night-no-cover/
LOCATION:The Brass Rail\, 1121 Broadway\, Fort Wayne\, IN\, 46802\, United States
ATTACH;FMTTYPE=image/jpeg:https://www.brassrailfw.com/wp-content/uploads/2025/08/2025_09_13-thinning.jpeg
GEO:41.0740622;-85.1478209
X-APPLE-STRUCTURED-LOCATION;VALUE=URI;X-ADDRESS=The Brass Rail 1121 Broadway Fort Wayne IN 46802 United States;X-APPLE-RADIUS=500;X-TITLE=1121 Broadway:geo:-85.1478209,41.0740622
END:VEVENT
BEGIN:VEVENT
DTSTART;TZID=UTC:20250917T200000
DTEND;TZID=UTC:20250917T235900
DTSTAMP:20260425T151140
CREATED:20250502T170020Z
LAST-MODIFIED:20250901T233623Z
UID:10002093-1758139200-1758153540@www.brassrailfw.com
SUMMARY:Jack McKelvie\, Sundog Sarah\, Quiet/Creator
DESCRIPTION:$7 cover\, poster by Jared Andrews
URL:https://www.brassrailfw.com/show/h-sam/
LOCATION:The Brass Rail\, 1121 Broadway\, Fort Wayne\, IN\, 46802\, United States
GEO:41.0740622;-85.1478209
X-APPLE-STRUCTURED-LOCATION;VALUE=URI;X-ADDRESS=The Brass Rail 1121 Broadway Fort Wayne IN 46802 United States;X-APPLE-RADIUS=500;X-TITLE=1121 Broadway:geo:-85.1478209,41.0740622
END:VEVENT
BEGIN:VEVENT
DTSTART;TZID=UTC:20250919T214500
DTEND;TZID=UTC:20250919T235900
DTSTAMP:20260425T151140
CREATED:20250602T152842Z
LAST-MODIFIED:20250902T010403Z
UID:10002099-1758318300-1758326340@www.brassrailfw.com
SUMMARY:Emily How\, Namby Pamby\, Necromoon
DESCRIPTION:$7 cover\, must be 21
URL:https://www.brassrailfw.com/show/namby-pamby-4/
LOCATION:The Brass Rail\, 1121 Broadway\, Fort Wayne\, IN\, 46802\, United States
ATTACH;FMTTYPE=image/jpeg:https://www.brassrailfw.com/wp-content/uploads/2025/06/2025_09_19-namby.jpg
GEO:41.0740622;-85.1478209
X-APPLE-STRUCTURED-LOCATION;VALUE=URI;X-ADDRESS=The Brass Rail 1121 Broadway Fort Wayne IN 46802 United States;X-APPLE-RADIUS=500;X-TITLE=1121 Broadway:geo:-85.1478209,41.0740622
END:VEVENT
BEGIN:VEVENT
DTSTART;TZID=UTC:20250920T213000
DTEND;TZID=UTC:20250920T213000
DTSTAMP:20260425T151140
CREATED:20250404T000428Z
LAST-MODIFIED:20250902T011823Z
UID:10002076-1758403800-1758403800@www.brassrailfw.com
SUMMARY:Smug Brothers\, Thunderhawk\, Kevin Hambrick
DESCRIPTION:Smug Brothershttps://linktr.ee/Smugbrothers\nThunderhawk\nand\nKevin Hambrick
URL:https://www.brassrailfw.com/show/smug-brothers-the-orange-opera-2/
LOCATION:The Brass Rail\, 1121 Broadway\, Fort Wayne\, IN\, 46802\, United States
ATTACH;FMTTYPE=image/jpeg:https://www.brassrailfw.com/wp-content/uploads/2025/04/2025_09_20-smug-brothers.jpg
GEO:41.0740622;-85.1478209
X-APPLE-STRUCTURED-LOCATION;VALUE=URI;X-ADDRESS=The Brass Rail 1121 Broadway Fort Wayne IN 46802 United States;X-APPLE-RADIUS=500;X-TITLE=1121 Broadway:geo:-85.1478209,41.0740622
END:VEVENT
BEGIN:VEVENT
DTSTART;TZID=UTC:20250925T210000
DTEND;TZID=UTC:20250925T235900
DTSTAMP:20260425T151140
CREATED:20250524T152433Z
LAST-MODIFIED:20250919T161927Z
UID:10002097-1758834000-1758844740@www.brassrailfw.com
SUMMARY:Caley Conway\, Loveseat\, Sundog Sarah
DESCRIPTION:Caley Conway\nhttps://www.instagram.com/caleyconwaymusic/ \nLoveseat\nhttps://www.instagram.com/lovethatseat/ \nSundog Sarah\nhttps://www.instagram.com/sundogsarah/ \n$8 cover\, must be 21
URL:https://www.brassrailfw.com/show/caley-conway/
LOCATION:The Brass Rail\, 1121 Broadway\, Fort Wayne\, IN\, 46802\, United States
ATTACH;FMTTYPE=image/jpeg:https://www.brassrailfw.com/wp-content/uploads/2025/05/2025_09_25-caley.jpg
GEO:41.0740622;-85.1478209
X-APPLE-STRUCTURED-LOCATION;VALUE=URI;X-ADDRESS=The Brass Rail 1121 Broadway Fort Wayne IN 46802 United States;X-APPLE-RADIUS=500;X-TITLE=1121 Broadway:geo:-85.1478209,41.0740622
END:VEVENT
BEGIN:VEVENT
DTSTART;TZID=UTC:20250926T214500
DTEND;TZID=UTC:20250926T235900
DTSTAMP:20260425T151140
CREATED:20250414T201404Z
LAST-MODIFIED:20250919T153556Z
UID:10002087-1758923100-1758931140@www.brassrailfw.com
SUMMARY:Meat Flowers\, Sooflay\, Bad Crime
DESCRIPTION:Meat Flowers\nhttps://www.instagram.com/themeatflowers/ \nSooflay\nhttps://www.instagram.com/s00f14y/ \nBad Crime\nhttps://www.instagram.com/badcrime.rnr/\nSplit w/ Heavy Lag | Bad Crime \n$7 cover\, must be 21
URL:https://www.brassrailfw.com/show/h-sam-clay-4/
LOCATION:The Brass Rail\, 1121 Broadway\, Fort Wayne\, IN\, 46802\, United States
ATTACH;FMTTYPE=image/jpeg:https://www.brassrailfw.com/wp-content/uploads/2025/04/2025_09_26-Meat-Flowers.jpg
GEO:41.0740622;-85.1478209
X-APPLE-STRUCTURED-LOCATION;VALUE=URI;X-ADDRESS=The Brass Rail 1121 Broadway Fort Wayne IN 46802 United States;X-APPLE-RADIUS=500;X-TITLE=1121 Broadway:geo:-85.1478209,41.0740622
END:VEVENT
BEGIN:VEVENT
DTSTART;TZID=UTC:20250927T213000
DTEND;TZID=UTC:20250927T235900
DTSTAMP:20260425T151140
CREATED:20250902T013508Z
LAST-MODIFIED:20250919T163249Z
UID:10002128-1759008600-1759017540@www.brassrailfw.com
SUMMARY:Oxenfree\, S.H.E. (Second Hand Entertainment)
DESCRIPTION:Oxenfree\nhttps://www.instagram.com/oxenfreeband/ \nS.H.E. (Second Hand Entertainment)\nhttps://www.instagram.com/_shemakesmusic_/ \n  \nphoto by\nhttps://www.instagram.com/thetti_chapagetti/ \n$7 cover\, must be 21
URL:https://www.brassrailfw.com/show/oxenfree/
LOCATION:The Brass Rail\, 1121 Broadway\, Fort Wayne\, IN\, 46802\, United States
ATTACH;FMTTYPE=image/png:https://www.brassrailfw.com/wp-content/uploads/2025/09/she-rail-photo-thetti-chapagetti.png
GEO:41.0740622;-85.1478209
X-APPLE-STRUCTURED-LOCATION;VALUE=URI;X-ADDRESS=The Brass Rail 1121 Broadway Fort Wayne IN 46802 United States;X-APPLE-RADIUS=500;X-TITLE=1121 Broadway:geo:-85.1478209,41.0740622
END:VEVENT
BEGIN:VEVENT
DTSTART;TZID=UTC:20250929T200000
DTEND;TZID=UTC:20250929T235900
DTSTAMP:20260425T151140
CREATED:20250612T184719Z
LAST-MODIFIED:20250907T165434Z
UID:10002102-1759176000-1759190340@www.brassrailfw.com
SUMMARY:Cast of Thousands (austin\, tx)\, Farmer Five (mitch fraizer and nick allison)\, Juandissimo and Friends
DESCRIPTION:Cast of Thousandshttps://www.instagram.com/cast_of_thousands_/ \n\nFarmer Five (mitch fraizer and nick allison)\n\nJuandissimo and Friendshttps://www.instagram.com/juandissimo_band/\n\n$7 cover\, must be 21
URL:https://www.brassrailfw.com/show/nick-allison-cast-of-thousands/
LOCATION:The Brass Rail\, 1121 Broadway\, Fort Wayne\, IN\, 46802\, United States
ATTACH;FMTTYPE=image/jpeg:https://www.brassrailfw.com/wp-content/uploads/2025/06/Screenshot_20250907_124733_Instagram1.jpg
GEO:41.0740622;-85.1478209
X-APPLE-STRUCTURED-LOCATION;VALUE=URI;X-ADDRESS=The Brass Rail 1121 Broadway Fort Wayne IN 46802 United States;X-APPLE-RADIUS=500;X-TITLE=1121 Broadway:geo:-85.1478209,41.0740622
END:VEVENT
BEGIN:VEVENT
DTSTART;TZID=UTC:20251002T210000
DTEND;TZID=UTC:20251002T235900
DTSTAMP:20260425T151140
CREATED:20250407T223106Z
LAST-MODIFIED:20250928T153945Z
UID:10002080-1759438800-1759449540@www.brassrailfw.com
SUMMARY:955 Stars\, Florets\, Minot
DESCRIPTION:955 Stars\nhttps://www.instagram.com/955stars/?hl=en \nFlorets\nhttps://www.instagram.com/florets_fw/?hl=en \nMinot\nhttps://www.instagram.com/minot_winecop/?hl=en \n$7 cover\, must be 21
URL:https://www.brassrailfw.com/show/minot/
LOCATION:The Brass Rail\, 1121 Broadway\, Fort Wayne\, IN\, 46802\, United States
ATTACH;FMTTYPE=image/png:https://www.brassrailfw.com/wp-content/uploads/2025/04/2025_10_02-955-stars.png
GEO:41.0740622;-85.1478209
X-APPLE-STRUCTURED-LOCATION;VALUE=URI;X-ADDRESS=The Brass Rail 1121 Broadway Fort Wayne IN 46802 United States;X-APPLE-RADIUS=500;X-TITLE=1121 Broadway:geo:-85.1478209,41.0740622
END:VEVENT
BEGIN:VEVENT
DTSTART;TZID=UTC:20251003T213000
DTEND;TZID=UTC:20251003T233000
DTSTAMP:20260425T151140
CREATED:20250824T140634Z
LAST-MODIFIED:20250928T154646Z
UID:10002123-1759527000-1759534200@www.brassrailfw.com
SUMMARY:Chewy Lucas\, Pat & The Pissers\, Moon Goons
DESCRIPTION:Chewy Lucas\nhttps://www.instagram.com/chewy_lucas/?hl=en \nPat & The Pissers\nhttp://instagram.com/patandthepissers/?hl=en \nMoon Goons\nhttps://www.instagram.com/moongoonstunes/?hl=en \n$7 cover\, must be 21
URL:https://www.brassrailfw.com/show/pat-the-pissers-moon-goons/
LOCATION:The Brass Rail\, 1121 Broadway\, Fort Wayne\, IN\, 46802\, United States
ATTACH;FMTTYPE=image/jpeg:https://www.brassrailfw.com/wp-content/uploads/2025/08/2025_10_03-pat-pissers.jpeg
GEO:41.0740622;-85.1478209
X-APPLE-STRUCTURED-LOCATION;VALUE=URI;X-ADDRESS=The Brass Rail 1121 Broadway Fort Wayne IN 46802 United States;X-APPLE-RADIUS=500;X-TITLE=1121 Broadway:geo:-85.1478209,41.0740622
END:VEVENT
BEGIN:VEVENT
DTSTART;TZID=UTC:20251004T213000
DTEND;TZID=UTC:20251004T235900
DTSTAMP:20260425T151140
CREATED:20250818T211527Z
LAST-MODIFIED:20250928T151809Z
UID:10002121-1759613400-1759622340@www.brassrailfw.com
SUMMARY:the 'stache\, Augmentasia
DESCRIPTION:the ‘stache (fort wayne party band) \nAugmentasia\nMidwest Alternative RnB\nhttps://www.instagram.com/augmentasia_/ \n$7 cover\, must be 21
URL:https://www.brassrailfw.com/show/the-stache/
LOCATION:The Brass Rail\, 1121 Broadway\, Fort Wayne\, IN\, 46802\, United States
ATTACH;FMTTYPE=image/jpeg:https://www.brassrailfw.com/wp-content/uploads/2025/08/9cbf33e1-8d30-442e-8cfc-427d0b021a39.jpg
GEO:41.0740622;-85.1478209
X-APPLE-STRUCTURED-LOCATION;VALUE=URI;X-ADDRESS=The Brass Rail 1121 Broadway Fort Wayne IN 46802 United States;X-APPLE-RADIUS=500;X-TITLE=1121 Broadway:geo:-85.1478209,41.0740622
END:VEVENT
BEGIN:VEVENT
DTSTART;TZID=UTC:20251010T213000
DTEND;TZID=UTC:20251010T235900
DTSTAMP:20260425T151140
CREATED:20250915T011915Z
LAST-MODIFIED:20250928T153456Z
UID:10002133-1760131800-1760140740@www.brassrailfw.com
SUMMARY:Funayūrei\, Adam Araque\, Cloudmaker
DESCRIPTION:Funayūrei (Synthwave duo from Fort Wayne\, IN.)\nhttps://www.instagram.com/funayureimusic/ \nAdam Araque\nhttps://www.instagram.com/adam.araque/ \nCloudmaker (midwest industrial)\nhttps://www.instagram.com/cloud._.maker/ \n$7 cover\, must be 21
URL:https://www.brassrailfw.com/show/cloudmaker-15/
LOCATION:The Brass Rail\, 1121 Broadway\, Fort Wayne\, IN\, 46802\, United States
ATTACH;FMTTYPE=image/png:https://www.brassrailfw.com/wp-content/uploads/2025/09/2025_10_10-Funayurei.png
GEO:41.0740622;-85.1478209
X-APPLE-STRUCTURED-LOCATION;VALUE=URI;X-ADDRESS=The Brass Rail 1121 Broadway Fort Wayne IN 46802 United States;X-APPLE-RADIUS=500;X-TITLE=1121 Broadway:geo:-85.1478209,41.0740622
END:VEVENT
BEGIN:VEVENT
DTSTART;TZID=UTC:20251011T203000
DTEND;TZID=UTC:20251011T235900
DTSTAMP:20260425T151140
CREATED:20250210T205929Z
LAST-MODIFIED:20250928T154831Z
UID:10002034-1760214600-1760227140@www.brassrailfw.com
SUMMARY:Bonnie "Prince" Billy with Home Phone
DESCRIPTION:Will Oldham (born 24 December 1970\, Louisville\, Kentucky) is an American singer-songwriter\, actor\, and musician. His music is often (perhaps inappropriately) placed under the genre of “alt-country”. Oldham has recorded under many names\, including Palace\, Palace Music\, Palace Brothers\, and Bonnie Billy. He often plays and records with other musicians\, including David Pajo and his brothers Ned and Paul Oldham\, but is generally the chief creator of the music. He has also been involved in musical projects and bands such as Amalgamated Sons of Rest\, The Anomoanon\, The Boxhead Ensemble\, Tortoise\, and The Sundowners as well as releasing his first solo album in 1993. Oldham has said that the Bonnie ‘Prince’ Billy moniker has many references. These include ‘Bonnie’ Prince Charlie\, an 18th century Jacobite; Billy the Kid\, the 19th century American outlaw also known as William Bonney; and the American singer Nat King Cole. He has also appeared in several films\, such as the 1987 film Matewan and most recently in Old Joy (released in late 2006). He is also the photographer of the cover image of the slint album Spiderland. \nwith Home Phone\nhttps://www.instagram.com/homephonefortwayne/ \n$30 no-fee tickets on sale now\n$33 day of show
URL:https://www.brassrailfw.com/show/bonnie_prince_billy/
LOCATION:IN
ATTACH;FMTTYPE=image/jpeg:https://www.brassrailfw.com/wp-content/uploads/2025/02/davidkasnic_bpb_proofs_082-scaled.jpg
END:VEVENT
BEGIN:VEVENT
DTSTART;TZID=UTC:20251017T213000
DTEND;TZID=UTC:20251017T235900
DTSTAMP:20260425T151140
CREATED:20250915T011943Z
LAST-MODIFIED:20251001T130335Z
UID:10002134-1760736600-1760745540@www.brassrailfw.com
SUMMARY:Still Burning\, INTEL\, Etymon
DESCRIPTION:Still Burning (downtuned hardcore)\nhttps://www.instagram.com/still.burninghc/ \nIntel (hardcore punk)\nhttps://www.instagram.com/intelfw/ \nEtymon (amplifier worship)\nhttps://www.instagram.com/etymonsg/ \n$7 cover\, must be 21
URL:https://www.brassrailfw.com/show/h-cheese/
LOCATION:The Brass Rail\, 1121 Broadway\, Fort Wayne\, IN\, 46802\, United States
ATTACH;FMTTYPE=image/jpeg:https://www.brassrailfw.com/wp-content/uploads/2025/09/intel.jpg
GEO:41.0740622;-85.1478209
X-APPLE-STRUCTURED-LOCATION;VALUE=URI;X-ADDRESS=The Brass Rail 1121 Broadway Fort Wayne IN 46802 United States;X-APPLE-RADIUS=500;X-TITLE=1121 Broadway:geo:-85.1478209,41.0740622
END:VEVENT
BEGIN:VEVENT
DTSTART;TZID=UTC:20251018T214500
DTEND;TZID=UTC:20251018T235900
DTSTAMP:20260425T151140
CREATED:20250325T182834Z
LAST-MODIFIED:20251003T153738Z
UID:10002072-1760823900-1760831940@www.brassrailfw.com
SUMMARY:Throw It Back:  90's & 2000's Dance Party
DESCRIPTION:We’re having a Dance Party/Public Wedding Reception for Joe and Stevie.  Loosen the tie\, put on those leather-soled shoes\, and make some bad decisions. \n$5 cover\, must be 21
URL:https://www.brassrailfw.com/show/h-josef-z/
LOCATION:The Brass Rail\, 1121 Broadway\, Fort Wayne\, IN\, 46802\, United States
ATTACH;FMTTYPE=image/jpeg:https://www.brassrailfw.com/wp-content/uploads/2025/03/2025_10_18-dance-3.jpeg
GEO:41.0740622;-85.1478209
X-APPLE-STRUCTURED-LOCATION;VALUE=URI;X-ADDRESS=The Brass Rail 1121 Broadway Fort Wayne IN 46802 United States;X-APPLE-RADIUS=500;X-TITLE=1121 Broadway:geo:-85.1478209,41.0740622
END:VEVENT
BEGIN:VEVENT
DTSTART;TZID=UTC:20251021T200000
DTEND;TZID=UTC:20251021T220000
DTSTAMP:20260425T151140
CREATED:20251001T125224Z
LAST-MODIFIED:20251001T130041Z
UID:10002139-1761076800-1761084000@www.brassrailfw.com
SUMMARY:Poetry Night
DESCRIPTION:We have a great show in store for you. A night out at @brassrailfw listening to three awesome local poets performing original works. Tuesday Oct. 21st 8pm to 10pm\, Cover is $7.\n–\nFirst to introduce our lineup!\n–\n@autumncharlice is returning after her June 24th show at The Brass Rail. She is a gender nonconforming trans woman\, poet\, and activist.\n–\n@amara_plays is joining\, she is an established partner in @fortwaynepoetryslam\, she writes and performs music\, and has been hosting local zine workshops. A true jack of all trades.\n–\n@rileyhmcpheters an absolute poetry powerhouse. She is a member of a local poetry kollective @poetzportal. She is passion on stage and in word. Her work may have been heard on our local @89.1_wboi this past spring alongside her wonderful fellow members.\n–\nHost for the evening is the incredible\, Jess Thrower\, @personwithmagicalpowers!! ☺️\n–\n⬛️ BE there\, or BE square! ⬛️\n–\nSe ya there!! 💖\n–\n#poet #poetry #poetrycommunity #poetrylover #spokenwordpoetry #fortwayne #indiana #hoosier #midwest \n$7 cover\, must be 21
URL:https://www.brassrailfw.com/show/poetry-night-2/
LOCATION:The Brass Rail\, 1121 Broadway\, Fort Wayne\, IN\, 46802\, United States
ATTACH;FMTTYPE=image/jpeg:https://www.brassrailfw.com/wp-content/uploads/2025/10/2025_10_21-poetry-sq.jpeg
GEO:41.0740622;-85.1478209
X-APPLE-STRUCTURED-LOCATION;VALUE=URI;X-ADDRESS=The Brass Rail 1121 Broadway Fort Wayne IN 46802 United States;X-APPLE-RADIUS=500;X-TITLE=1121 Broadway:geo:-85.1478209,41.0740622
END:VEVENT
BEGIN:VEVENT
DTSTART;TZID=UTC:20251023T210000
DTEND;TZID=UTC:20251023T235900
DTSTAMP:20260425T151140
CREATED:20250801T233728Z
LAST-MODIFIED:20250902T010047Z
UID:10002117-1761253200-1761263940@www.brassrailfw.com
SUMMARY:Jared Petteys & The Headliners\, Denny and His Down n Outers
DESCRIPTION:$7 cover\, must be 21
URL:https://www.brassrailfw.com/show/jared-petteys-the-headliners-denny-and-his-down-n-outers/
LOCATION:The Brass Rail\, 1121 Broadway\, Fort Wayne\, IN\, 46802\, United States
ATTACH;FMTTYPE=image/jpeg:https://www.brassrailfw.com/wp-content/uploads/2025/08/2025_10_23-jerred-peteys.jpg
GEO:41.0740622;-85.1478209
X-APPLE-STRUCTURED-LOCATION;VALUE=URI;X-ADDRESS=The Brass Rail 1121 Broadway Fort Wayne IN 46802 United States;X-APPLE-RADIUS=500;X-TITLE=1121 Broadway:geo:-85.1478209,41.0740622
END:VEVENT
BEGIN:VEVENT
DTSTART;TZID=UTC:20251024T214500
DTEND;TZID=UTC:20251024T235900
DTSTAMP:20260425T151140
CREATED:20250910T174945Z
LAST-MODIFIED:20251003T154748Z
UID:10002130-1761342300-1761350340@www.brassrailfw.com
SUMMARY:Graveyard Shift: Halloween Photos at The Brass Rail
DESCRIPTION:Free Halloween Photo Shoot with photos by Skylar\, drink specials\, freaky tunes
URL:https://www.brassrailfw.com/show/h-photo/
LOCATION:The Brass Rail\, 1121 Broadway\, Fort Wayne\, IN\, 46802\, United States
ATTACH;FMTTYPE=image/png:https://www.brassrailfw.com/wp-content/uploads/2025/09/graveyard.png
GEO:41.0740622;-85.1478209
X-APPLE-STRUCTURED-LOCATION;VALUE=URI;X-ADDRESS=The Brass Rail 1121 Broadway Fort Wayne IN 46802 United States;X-APPLE-RADIUS=500;X-TITLE=1121 Broadway:geo:-85.1478209,41.0740622
END:VEVENT
BEGIN:VEVENT
DTSTART;TZID=UTC:20251025T213000
DTEND;TZID=UTC:20251025T235900
DTSTAMP:20260425T151140
CREATED:20250828T223933Z
LAST-MODIFIED:20250828T223933Z
UID:10002127-1761427800-1761436740@www.brassrailfw.com
SUMMARY:Los Electro
DESCRIPTION:
URL:https://www.brassrailfw.com/show/los-electro-3/
LOCATION:The Brass Rail\, 1121 Broadway\, Fort Wayne\, IN\, 46802\, United States
GEO:41.0740622;-85.1478209
X-APPLE-STRUCTURED-LOCATION;VALUE=URI;X-ADDRESS=The Brass Rail 1121 Broadway Fort Wayne IN 46802 United States;X-APPLE-RADIUS=500;X-TITLE=1121 Broadway:geo:-85.1478209,41.0740622
END:VEVENT
BEGIN:VEVENT
DTSTART;TZID=UTC:20251031T213000
DTEND;TZID=UTC:20251031T235900
DTSTAMP:20260425T151140
CREATED:20250603T142121Z
LAST-MODIFIED:20251024T020413Z
UID:10002100-1761946200-1761955140@www.brassrailfw.com
SUMMARY:Thunderhawk\, Observer\, Thinning
DESCRIPTION:$7 cover\, must be 21
URL:https://www.brassrailfw.com/show/ween-tribute-2/
LOCATION:The Brass Rail\, 1121 Broadway\, Fort Wayne\, IN\, 46802\, United States
ATTACH;FMTTYPE=image/jpeg:https://www.brassrailfw.com/wp-content/uploads/2017/11/thunderhawk-WANE.jpg
GEO:41.0740622;-85.1478209
X-APPLE-STRUCTURED-LOCATION;VALUE=URI;X-ADDRESS=The Brass Rail 1121 Broadway Fort Wayne IN 46802 United States;X-APPLE-RADIUS=500;X-TITLE=1121 Broadway:geo:-85.1478209,41.0740622
END:VEVENT
BEGIN:VEVENT
DTSTART;TZID=UTC:20251101T214500
DTEND;TZID=UTC:20251101T235900
DTSTAMP:20260425T151140
CREATED:20250604T005054Z
LAST-MODIFIED:20251026T213252Z
UID:10002108-1762033500-1762041540@www.brassrailfw.com
SUMMARY:Loveseat!\, Augmentasia
DESCRIPTION:$7 cover\, must be 21
URL:https://www.brassrailfw.com/show/mary-loveseat/
LOCATION:The Brass Rail\, 1121 Broadway\, Fort Wayne\, IN\, 46802\, United States
ATTACH;FMTTYPE=image/jpeg:https://www.brassrailfw.com/wp-content/uploads/2025/06/2025_11_01.jpg
GEO:41.0740622;-85.1478209
X-APPLE-STRUCTURED-LOCATION;VALUE=URI;X-ADDRESS=The Brass Rail 1121 Broadway Fort Wayne IN 46802 United States;X-APPLE-RADIUS=500;X-TITLE=1121 Broadway:geo:-85.1478209,41.0740622
END:VEVENT
BEGIN:VEVENT
DTSTART;TZID=UTC:20251107T213000
DTEND;TZID=UTC:20251107T235900
DTSTAMP:20260425T151140
CREATED:20250818T211848Z
LAST-MODIFIED:20251028T151544Z
UID:10002122-1762551000-1762559940@www.brassrailfw.com
SUMMARY:Tuesday Atlas\, We Love  You\, Man of The Flood
DESCRIPTION:$7 cover\, must be 21
URL:https://www.brassrailfw.com/show/tuesday-atlas-2/
LOCATION:The Brass Rail\, 1121 Broadway\, Fort Wayne\, IN\, 46802\, United States
ATTACH;FMTTYPE=image/jpeg:https://www.brassrailfw.com/wp-content/uploads/2025/08/Tuesday-Atlast.jpg
GEO:41.0740622;-85.1478209
X-APPLE-STRUCTURED-LOCATION;VALUE=URI;X-ADDRESS=The Brass Rail 1121 Broadway Fort Wayne IN 46802 United States;X-APPLE-RADIUS=500;X-TITLE=1121 Broadway:geo:-85.1478209,41.0740622
END:VEVENT
BEGIN:VEVENT
DTSTART;TZID=UTC:20251108T213000
DTEND;TZID=UTC:20251108T235900
DTSTAMP:20260425T151140
CREATED:20250626T174104Z
LAST-MODIFIED:20251016T154031Z
UID:10002107-1762637400-1762646340@www.brassrailfw.com
SUMMARY:Unwed Sailor with Metavari
DESCRIPTION:Unwed Sailor\nhttps://linktr.ee/unwedsailor \n  \nUnwed Sailor – Cruel Entertainment (Current Taste\, 2025)\nFor their tenth LP in a career spanning more than two decades\, Tulsa’s Unwed Sailor deliver their heaviest riffs\, loudest squalls\, and most deeply textured arrangements yet. Cruel Entertainment is a catalogue of contrasts – dissonance and harmony\, hardcore crunch and post-rock grandeur\, complexity and catchiness – that adds a vibrant new dimension to the second phase of their discography\, spanning thus far from 2019’s landmark Heavy Age up to the “vivid\, starry-eyed psychedelia” (AllMusic) of 2024’s Underwater Over There.\nOpener and lead single\, “Rock Candy”\, roars in with a gale of feedback\, pounding drums\, \nMetavari \nMetavari is a multidisciplinary\, electronic music duo from Fort Wayne\, Indiana. Members include graphic artist and composer\, Nathaniel David Utesch and contemporary percussionist\, Colin Boyd. Metavari’s dark\, cinematic records make extensive use of nostalgic electronics and sampling; a collage of synth-laden melodies\, menacing instrumentation and foley sounds.\nThe project has released nine titles worldwide through Light in the Attic Records\, Mondo\, and Deathwish\, Inc.\, seen 7 members\, and played nearly 400 shows in its twin existences (2008-2015\, 2017-present). They’ve toured with and supported This Will Destroy You\, Maserati\, Tortoise\, Digitalism\, Anamanaguchi\, Small Black\, Adam Jones (S U R V I V E)\, Titus Andronicus\, among others; and shared the festival stage with Thurston Moore\, The Flaming Lips\, Andrew W.K.\, FACS\, Mexican Institute of Sound\, and Kishi Bashi. \nTickets On Sale Now $10.00
URL:https://www.brassrailfw.com/show/h-unwed-sailor-3/
LOCATION:The Brass Rail\, 1121 Broadway\, Fort Wayne\, IN\, 46802\, United States
ATTACH;FMTTYPE=image/jpeg:https://www.brassrailfw.com/wp-content/uploads/2025/06/Unwed-Sailor-small.jpg
GEO:41.0740622;-85.1478209
X-APPLE-STRUCTURED-LOCATION;VALUE=URI;X-ADDRESS=The Brass Rail 1121 Broadway Fort Wayne IN 46802 United States;X-APPLE-RADIUS=500;X-TITLE=1121 Broadway:geo:-85.1478209,41.0740622
END:VEVENT
BEGIN:VEVENT
DTSTART;TZID=UTC:20251111T200000
DTEND;TZID=UTC:20251111T230000
DTSTAMP:20260425T151140
CREATED:20251014T180200Z
LAST-MODIFIED:20251102T170618Z
UID:10002144-1762891200-1762902000@www.brassrailfw.com
SUMMARY:Poetry Night:  Hallie Nowak\, Shanel Turner\, Kay Allday
DESCRIPTION:$7 cover\, must be 21
URL:https://www.brassrailfw.com/show/h-jess-19/
LOCATION:The Brass Rail\, 1121 Broadway\, Fort Wayne\, IN\, 46802\, United States
ATTACH;FMTTYPE=image/png:https://www.brassrailfw.com/wp-content/uploads/2025/10/2025_11_11-poetry-night.png
GEO:41.0740622;-85.1478209
X-APPLE-STRUCTURED-LOCATION;VALUE=URI;X-ADDRESS=The Brass Rail 1121 Broadway Fort Wayne IN 46802 United States;X-APPLE-RADIUS=500;X-TITLE=1121 Broadway:geo:-85.1478209,41.0740622
END:VEVENT
END:VCALENDAR