BEGIN:VCALENDAR
VERSION:2.0
PRODID:-//The Brass Rail - ECPv6.15.20//NONSGML v1.0//EN
CALSCALE:GREGORIAN
METHOD:PUBLISH
X-WR-CALNAME:The Brass Rail
X-ORIGINAL-URL:https://www.brassrailfw.com
X-WR-CALDESC:Events for The Brass Rail
REFRESH-INTERVAL;VALUE=DURATION:PT1H
X-Robots-Tag:noindex
X-PUBLISHED-TTL:PT1H
BEGIN:VTIMEZONE
TZID:UTC
BEGIN:STANDARD
TZOFFSETFROM:+0000
TZOFFSETTO:+0000
TZNAME:UTC
DTSTART:20250101T000000
END:STANDARD
END:VTIMEZONE
BEGIN:VEVENT
DTSTART;TZID=UTC:20260828T210000
DTEND;TZID=UTC:20260828T235900
DTSTAMP:20260425T141958
CREATED:20260204T042629Z
LAST-MODIFIED:20260204T042718Z
UID:10002196-1787950800-1787961540@www.brassrailfw.com
SUMMARY:Atticus Sorrell\, Marsupials
DESCRIPTION:
URL:https://www.brassrailfw.com/show/atticus-sorrell-marsupials/
LOCATION:The Brass Rail\, 1121 Broadway\, Fort Wayne\, IN\, 46802\, United States
GEO:41.0740622;-85.1478209
X-APPLE-STRUCTURED-LOCATION;VALUE=URI;X-ADDRESS=The Brass Rail 1121 Broadway Fort Wayne IN 46802 United States;X-APPLE-RADIUS=500;X-TITLE=1121 Broadway:geo:-85.1478209,41.0740622
END:VEVENT
BEGIN:VEVENT
DTSTART;TZID=UTC:20260911T214500
DTEND;TZID=UTC:20260911T235900
DTSTAMP:20260425T141958
CREATED:20251007T234237Z
LAST-MODIFIED:20260409T003405Z
UID:10002142-1789163100-1789171140@www.brassrailfw.com
SUMMARY:20 Watt Tombstone
DESCRIPTION:booked via email booking agent Tom
URL:https://www.brassrailfw.com/show/20-watt-tombstone/
LOCATION:The Brass Rail\, 1121 Broadway\, Fort Wayne\, IN\, 46802\, United States
GEO:41.0740622;-85.1478209
X-APPLE-STRUCTURED-LOCATION;VALUE=URI;X-ADDRESS=The Brass Rail 1121 Broadway Fort Wayne IN 46802 United States;X-APPLE-RADIUS=500;X-TITLE=1121 Broadway:geo:-85.1478209,41.0740622
END:VEVENT
BEGIN:VEVENT
DTSTART;TZID=UTC:20260912T210000
DTEND;TZID=UTC:20260912T235900
DTSTAMP:20260425T141958
CREATED:20260408T234051Z
LAST-MODIFIED:20260408T234051Z
UID:10002213-1789246800-1789257540@www.brassrailfw.com
SUMMARY:(h) JATD
DESCRIPTION:kyle email
URL:https://www.brassrailfw.com/show/h-jatd-2/
LOCATION:The Brass Rail\, 1121 Broadway\, Fort Wayne\, IN\, 46802\, United States
GEO:41.0740622;-85.1478209
X-APPLE-STRUCTURED-LOCATION;VALUE=URI;X-ADDRESS=The Brass Rail 1121 Broadway Fort Wayne IN 46802 United States;X-APPLE-RADIUS=500;X-TITLE=1121 Broadway:geo:-85.1478209,41.0740622
END:VEVENT
END:VCALENDAR